BEGIN:VCALENDAR
VERSION:2.0
PRODID:-//Department of History, UC Santa Barbara - ECPv6.15.12.1//NONSGML v1.0//EN
CALSCALE:GREGORIAN
METHOD:PUBLISH
X-WR-CALNAME:Department of History, UC Santa Barbara
X-ORIGINAL-URL:https://history.ucsb.edu
X-WR-CALDESC:Events for Department of History, UC Santa Barbara
REFRESH-INTERVAL;VALUE=DURATION:PT1H
X-Robots-Tag:noindex
X-PUBLISHED-TTL:PT1H
BEGIN:VTIMEZONE
TZID:America/Los_Angeles
BEGIN:DAYLIGHT
TZOFFSETFROM:-0800
TZOFFSETTO:-0700
TZNAME:PDT
DTSTART:20170312T100000
END:DAYLIGHT
BEGIN:STANDARD
TZOFFSETFROM:-0700
TZOFFSETTO:-0800
TZNAME:PST
DTSTART:20171105T090000
END:STANDARD
BEGIN:DAYLIGHT
TZOFFSETFROM:-0800
TZOFFSETTO:-0700
TZNAME:PDT
DTSTART:20180311T100000
END:DAYLIGHT
BEGIN:STANDARD
TZOFFSETFROM:-0700
TZOFFSETTO:-0800
TZNAME:PST
DTSTART:20181104T090000
END:STANDARD
BEGIN:DAYLIGHT
TZOFFSETFROM:-0800
TZOFFSETTO:-0700
TZNAME:PDT
DTSTART:20190310T100000
END:DAYLIGHT
BEGIN:STANDARD
TZOFFSETFROM:-0700
TZOFFSETTO:-0800
TZNAME:PST
DTSTART:20191103T090000
END:STANDARD
BEGIN:DAYLIGHT
TZOFFSETFROM:-0800
TZOFFSETTO:-0700
TZNAME:PDT
DTSTART:20200308T100000
END:DAYLIGHT
BEGIN:STANDARD
TZOFFSETFROM:-0700
TZOFFSETTO:-0800
TZNAME:PST
DTSTART:20201101T090000
END:STANDARD
END:VTIMEZONE
BEGIN:VEVENT
DTSTART;TZID=America/Los_Angeles:20190109T110000
DTEND;TZID=America/Los_Angeles:20190109T123000
DTSTAMP:20260419T152712
CREATED:20190109T003744Z
LAST-MODIFIED:20190109T003744Z
UID:10002563-1547031600-1547037000@history.ucsb.edu
SUMMARY:Stuart Tyson Smith\, "Playing Hounds and Jackals: Gaming\, Empire\, Entanglement and the International Style in the Late Bronze Age
DESCRIPTION:
URL:https://history.ucsb.edu/events/stuart-tyson-smith-playing-hounds-and-jackals-gaming-empire-entanglement-and-the-international-style-in-the-late-bronze-age/
LOCATION:HSSB 6056
CATEGORIES:workshop/brown bag/practicum
END:VEVENT
BEGIN:VEVENT
DTSTART;TZID=America/Los_Angeles:20180518T130000
DTEND;TZID=America/Los_Angeles:20180519T150000
DTSTAMP:20260419T152712
CREATED:20180517T222701Z
LAST-MODIFIED:20180517T222701Z
UID:10002554-1526648400-1526742000@history.ucsb.edu
SUMMARY:Studies in Late Antiquity\, Editorial Board Meeting
DESCRIPTION:1PM: Introductions/Welcome \n1:30PM: Journal Related Info (30 Minutes)- Jeff Hester (Skype) \n2PM: Presentations (15 mins each) \n\n1)  Blossom Stefaniw\, “A Narrative History of the Tura Papyri: Creative Nonfiction and Christianity as a History of Reading”\n2)  Emily Albu\, “The Roman Heritage of Medieval World Maps: Late Antique Transmission of Greco-Roman Geographical Knowledge”\n3)  Diliana Angelova\, “Witnesses to Christ: Churches\, Images and Relics in Early Christianity”\n\n3-3:30 PM—Coffee Break \n3:30PM: Presentations (15 mins each) \n\n4) Kristina Sessa\, “Refugees\, the Church\, and the New ‘Fall of Rome’ Narrative”\n5)  Nick Tackett\, “Political Elites and Marriage Networks in Tang China (7th-9th c.)”\n6)  Ra’anan Boustan\, “Contested Places” \n7) Michele Salzman\, “EliteCompetitioninFifth-CenturyRome” \n\n\n\n\n\n  \n6PM-8PM: Dinner \n\n\n\n\n\n\n\n\n\n\n\n\n\nSLA Editorial Board Meeting Agenda UCSB May 18-19\, 2018 \nSaturday May 19\, 2018 IHC McCune Conference Room (HSSB 6056) \n9AM: Presentations (15 mins each) \n\n1)  Susanna Elm (Skype)\na) “New Romans: Masculinity\, Ethnicity and Display in late Antiquity”\n2)  Joel Walker\, “The Diver’s Quest: Pearl Imagery and Asceticism in the East Syrian Tradition”\n\n\n3)  Ann Marie Yasin\, “Architectural Ghosts: Rebuilding and Ekphrases of the Invisible”\n4)  Beth DePalma Digeser\, “Constantine in Gaul” 10:30AM- Coffee Break\n\n10:30AM – Coffee Break \n11AM: Editorial Team Issues/Concerns \n1) Editor in Chief\n2) Exhibit Review Editor \n12:00PM– Lunch \n1:30PM: Final Remarks 1) Going Forward
URL:https://history.ucsb.edu/events/studies-in-late-antiquity-editorial-board-meeting/
LOCATION:HSSB 6056
END:VEVENT
END:VCALENDAR