BEGIN:VCALENDAR
VERSION:2.0
PRODID:-//Department of History, UC Santa Barbara - ECPv6.15.12.1//NONSGML v1.0//EN
CALSCALE:GREGORIAN
METHOD:PUBLISH
X-WR-CALNAME:Department of History, UC Santa Barbara
X-ORIGINAL-URL:https://history.ucsb.edu
X-WR-CALDESC:Events for Department of History, UC Santa Barbara
REFRESH-INTERVAL;VALUE=DURATION:PT1H
X-Robots-Tag:noindex
X-PUBLISHED-TTL:PT1H
BEGIN:VTIMEZONE
TZID:America/Los_Angeles
BEGIN:DAYLIGHT
TZOFFSETFROM:-0800
TZOFFSETTO:-0700
TZNAME:PDT
DTSTART:20210314T100000
END:DAYLIGHT
BEGIN:STANDARD
TZOFFSETFROM:-0700
TZOFFSETTO:-0800
TZNAME:PST
DTSTART:20211107T090000
END:STANDARD
BEGIN:DAYLIGHT
TZOFFSETFROM:-0800
TZOFFSETTO:-0700
TZNAME:PDT
DTSTART:20220313T100000
END:DAYLIGHT
BEGIN:STANDARD
TZOFFSETFROM:-0700
TZOFFSETTO:-0800
TZNAME:PST
DTSTART:20221106T090000
END:STANDARD
BEGIN:DAYLIGHT
TZOFFSETFROM:-0800
TZOFFSETTO:-0700
TZNAME:PDT
DTSTART:20230312T100000
END:DAYLIGHT
BEGIN:STANDARD
TZOFFSETFROM:-0700
TZOFFSETTO:-0800
TZNAME:PST
DTSTART:20231105T090000
END:STANDARD
END:VTIMEZONE
BEGIN:VEVENT
DTSTART;TZID=America/Los_Angeles:20221020T190000
DTEND;TZID=America/Los_Angeles:20221020T210000
DTSTAMP:20260417T233550
CREATED:20190205T233739Z
LAST-MODIFIED:20190205T233928Z
UID:10002775-1666292400-1666299600@history.ucsb.edu
SUMMARY:History Club Weekly Meetings
DESCRIPTION:UCSB’s new and improved History Departmental club is for majors\, minors\, and anyone with a passion for the past! Meetings are held every Thursday at 7:00 PM in HSSB 4020. See flier below for information about upcoming events. Please email histclub.ucsb@gmail.com with any questions. 
URL:https://history.ucsb.edu/events/history-club-weekly-meetings/2022-10-20/
LOCATION:HSSB 4020
END:VEVENT
BEGIN:VEVENT
DTSTART;TZID=America/Los_Angeles:20221013T190000
DTEND;TZID=America/Los_Angeles:20221013T210000
DTSTAMP:20260417T233550
CREATED:20190205T233739Z
LAST-MODIFIED:20190205T233928Z
UID:10002774-1665687600-1665694800@history.ucsb.edu
SUMMARY:History Club Weekly Meetings
DESCRIPTION:UCSB’s new and improved History Departmental club is for majors\, minors\, and anyone with a passion for the past! Meetings are held every Thursday at 7:00 PM in HSSB 4020. See flier below for information about upcoming events. Please email histclub.ucsb@gmail.com with any questions. 
URL:https://history.ucsb.edu/events/history-club-weekly-meetings/2022-10-13/
LOCATION:HSSB 4020
END:VEVENT
BEGIN:VEVENT
DTSTART;TZID=America/Los_Angeles:20221006T190000
DTEND;TZID=America/Los_Angeles:20221006T210000
DTSTAMP:20260417T233550
CREATED:20190205T233739Z
LAST-MODIFIED:20190205T233928Z
UID:10002773-1665082800-1665090000@history.ucsb.edu
SUMMARY:History Club Weekly Meetings
DESCRIPTION:UCSB’s new and improved History Departmental club is for majors\, minors\, and anyone with a passion for the past! Meetings are held every Thursday at 7:00 PM in HSSB 4020. See flier below for information about upcoming events. Please email histclub.ucsb@gmail.com with any questions. 
URL:https://history.ucsb.edu/events/history-club-weekly-meetings/2022-10-06/
LOCATION:HSSB 4020
END:VEVENT
BEGIN:VEVENT
DTSTART;TZID=America/Los_Angeles:20220929T190000
DTEND;TZID=America/Los_Angeles:20220929T210000
DTSTAMP:20260417T233551
CREATED:20190205T233739Z
LAST-MODIFIED:20190205T233928Z
UID:10002772-1664478000-1664485200@history.ucsb.edu
SUMMARY:History Club Weekly Meetings
DESCRIPTION:UCSB’s new and improved History Departmental club is for majors\, minors\, and anyone with a passion for the past! Meetings are held every Thursday at 7:00 PM in HSSB 4020. See flier below for information about upcoming events. Please email histclub.ucsb@gmail.com with any questions. 
URL:https://history.ucsb.edu/events/history-club-weekly-meetings/2022-09-29/
LOCATION:HSSB 4020
END:VEVENT
BEGIN:VEVENT
DTSTART;TZID=America/Los_Angeles:20220922T190000
DTEND;TZID=America/Los_Angeles:20220922T210000
DTSTAMP:20260417T233551
CREATED:20190205T233739Z
LAST-MODIFIED:20190205T233928Z
UID:10002771-1663873200-1663880400@history.ucsb.edu
SUMMARY:History Club Weekly Meetings
DESCRIPTION:UCSB’s new and improved History Departmental club is for majors\, minors\, and anyone with a passion for the past! Meetings are held every Thursday at 7:00 PM in HSSB 4020. See flier below for information about upcoming events. Please email histclub.ucsb@gmail.com with any questions. 
URL:https://history.ucsb.edu/events/history-club-weekly-meetings/2022-09-22/
LOCATION:HSSB 4020
END:VEVENT
BEGIN:VEVENT
DTSTART;TZID=America/Los_Angeles:20220915T190000
DTEND;TZID=America/Los_Angeles:20220915T210000
DTSTAMP:20260417T233551
CREATED:20190205T233739Z
LAST-MODIFIED:20190205T233928Z
UID:10002770-1663268400-1663275600@history.ucsb.edu
SUMMARY:History Club Weekly Meetings
DESCRIPTION:UCSB’s new and improved History Departmental club is for majors\, minors\, and anyone with a passion for the past! Meetings are held every Thursday at 7:00 PM in HSSB 4020. See flier below for information about upcoming events. Please email histclub.ucsb@gmail.com with any questions. 
URL:https://history.ucsb.edu/events/history-club-weekly-meetings/2022-09-15/
LOCATION:HSSB 4020
END:VEVENT
BEGIN:VEVENT
DTSTART;TZID=America/Los_Angeles:20220908T190000
DTEND;TZID=America/Los_Angeles:20220908T210000
DTSTAMP:20260417T233551
CREATED:20190205T233739Z
LAST-MODIFIED:20190205T233928Z
UID:10002769-1662663600-1662670800@history.ucsb.edu
SUMMARY:History Club Weekly Meetings
DESCRIPTION:UCSB’s new and improved History Departmental club is for majors\, minors\, and anyone with a passion for the past! Meetings are held every Thursday at 7:00 PM in HSSB 4020. See flier below for information about upcoming events. Please email histclub.ucsb@gmail.com with any questions. 
URL:https://history.ucsb.edu/events/history-club-weekly-meetings/2022-09-08/
LOCATION:HSSB 4020
END:VEVENT
BEGIN:VEVENT
DTSTART;TZID=America/Los_Angeles:20220901T190000
DTEND;TZID=America/Los_Angeles:20220901T210000
DTSTAMP:20260417T233551
CREATED:20190205T233739Z
LAST-MODIFIED:20190205T233928Z
UID:10002768-1662058800-1662066000@history.ucsb.edu
SUMMARY:History Club Weekly Meetings
DESCRIPTION:UCSB’s new and improved History Departmental club is for majors\, minors\, and anyone with a passion for the past! Meetings are held every Thursday at 7:00 PM in HSSB 4020. See flier below for information about upcoming events. Please email histclub.ucsb@gmail.com with any questions. 
URL:https://history.ucsb.edu/events/history-club-weekly-meetings/2022-09-01/
LOCATION:HSSB 4020
END:VEVENT
BEGIN:VEVENT
DTSTART;TZID=America/Los_Angeles:20220825T190000
DTEND;TZID=America/Los_Angeles:20220825T210000
DTSTAMP:20260417T233551
CREATED:20190205T233739Z
LAST-MODIFIED:20190205T233928Z
UID:10002767-1661454000-1661461200@history.ucsb.edu
SUMMARY:History Club Weekly Meetings
DESCRIPTION:UCSB’s new and improved History Departmental club is for majors\, minors\, and anyone with a passion for the past! Meetings are held every Thursday at 7:00 PM in HSSB 4020. See flier below for information about upcoming events. Please email histclub.ucsb@gmail.com with any questions. 
URL:https://history.ucsb.edu/events/history-club-weekly-meetings/2022-08-25/
LOCATION:HSSB 4020
END:VEVENT
BEGIN:VEVENT
DTSTART;TZID=America/Los_Angeles:20220818T190000
DTEND;TZID=America/Los_Angeles:20220818T210000
DTSTAMP:20260417T233551
CREATED:20190205T233739Z
LAST-MODIFIED:20190205T233928Z
UID:10002766-1660849200-1660856400@history.ucsb.edu
SUMMARY:History Club Weekly Meetings
DESCRIPTION:UCSB’s new and improved History Departmental club is for majors\, minors\, and anyone with a passion for the past! Meetings are held every Thursday at 7:00 PM in HSSB 4020. See flier below for information about upcoming events. Please email histclub.ucsb@gmail.com with any questions. 
URL:https://history.ucsb.edu/events/history-club-weekly-meetings/2022-08-18/
LOCATION:HSSB 4020
END:VEVENT
BEGIN:VEVENT
DTSTART;TZID=America/Los_Angeles:20220811T190000
DTEND;TZID=America/Los_Angeles:20220811T210000
DTSTAMP:20260417T233551
CREATED:20190205T233739Z
LAST-MODIFIED:20190205T233928Z
UID:10002765-1660244400-1660251600@history.ucsb.edu
SUMMARY:History Club Weekly Meetings
DESCRIPTION:UCSB’s new and improved History Departmental club is for majors\, minors\, and anyone with a passion for the past! Meetings are held every Thursday at 7:00 PM in HSSB 4020. See flier below for information about upcoming events. Please email histclub.ucsb@gmail.com with any questions. 
URL:https://history.ucsb.edu/events/history-club-weekly-meetings/2022-08-11/
LOCATION:HSSB 4020
END:VEVENT
BEGIN:VEVENT
DTSTART;TZID=America/Los_Angeles:20220804T190000
DTEND;TZID=America/Los_Angeles:20220804T210000
DTSTAMP:20260417T233551
CREATED:20190205T233739Z
LAST-MODIFIED:20190205T233928Z
UID:10002764-1659639600-1659646800@history.ucsb.edu
SUMMARY:History Club Weekly Meetings
DESCRIPTION:UCSB’s new and improved History Departmental club is for majors\, minors\, and anyone with a passion for the past! Meetings are held every Thursday at 7:00 PM in HSSB 4020. See flier below for information about upcoming events. Please email histclub.ucsb@gmail.com with any questions. 
URL:https://history.ucsb.edu/events/history-club-weekly-meetings/2022-08-04/
LOCATION:HSSB 4020
END:VEVENT
BEGIN:VEVENT
DTSTART;TZID=America/Los_Angeles:20220728T190000
DTEND;TZID=America/Los_Angeles:20220728T210000
DTSTAMP:20260417T233551
CREATED:20190205T233739Z
LAST-MODIFIED:20190205T233928Z
UID:10002763-1659034800-1659042000@history.ucsb.edu
SUMMARY:History Club Weekly Meetings
DESCRIPTION:UCSB’s new and improved History Departmental club is for majors\, minors\, and anyone with a passion for the past! Meetings are held every Thursday at 7:00 PM in HSSB 4020. See flier below for information about upcoming events. Please email histclub.ucsb@gmail.com with any questions. 
URL:https://history.ucsb.edu/events/history-club-weekly-meetings/2022-07-28/
LOCATION:HSSB 4020
END:VEVENT
BEGIN:VEVENT
DTSTART;TZID=America/Los_Angeles:20220721T190000
DTEND;TZID=America/Los_Angeles:20220721T210000
DTSTAMP:20260417T233551
CREATED:20190205T233739Z
LAST-MODIFIED:20190205T233928Z
UID:10002762-1658430000-1658437200@history.ucsb.edu
SUMMARY:History Club Weekly Meetings
DESCRIPTION:UCSB’s new and improved History Departmental club is for majors\, minors\, and anyone with a passion for the past! Meetings are held every Thursday at 7:00 PM in HSSB 4020. See flier below for information about upcoming events. Please email histclub.ucsb@gmail.com with any questions. 
URL:https://history.ucsb.edu/events/history-club-weekly-meetings/2022-07-21/
LOCATION:HSSB 4020
END:VEVENT
BEGIN:VEVENT
DTSTART;TZID=America/Los_Angeles:20220714T190000
DTEND;TZID=America/Los_Angeles:20220714T210000
DTSTAMP:20260417T233551
CREATED:20190205T233739Z
LAST-MODIFIED:20190205T233928Z
UID:10002761-1657825200-1657832400@history.ucsb.edu
SUMMARY:History Club Weekly Meetings
DESCRIPTION:UCSB’s new and improved History Departmental club is for majors\, minors\, and anyone with a passion for the past! Meetings are held every Thursday at 7:00 PM in HSSB 4020. See flier below for information about upcoming events. Please email histclub.ucsb@gmail.com with any questions. 
URL:https://history.ucsb.edu/events/history-club-weekly-meetings/2022-07-14/
LOCATION:HSSB 4020
END:VEVENT
BEGIN:VEVENT
DTSTART;TZID=America/Los_Angeles:20220707T190000
DTEND;TZID=America/Los_Angeles:20220707T210000
DTSTAMP:20260417T233551
CREATED:20190205T233739Z
LAST-MODIFIED:20190205T233928Z
UID:10002760-1657220400-1657227600@history.ucsb.edu
SUMMARY:History Club Weekly Meetings
DESCRIPTION:UCSB’s new and improved History Departmental club is for majors\, minors\, and anyone with a passion for the past! Meetings are held every Thursday at 7:00 PM in HSSB 4020. See flier below for information about upcoming events. Please email histclub.ucsb@gmail.com with any questions. 
URL:https://history.ucsb.edu/events/history-club-weekly-meetings/2022-07-07/
LOCATION:HSSB 4020
END:VEVENT
BEGIN:VEVENT
DTSTART;TZID=America/Los_Angeles:20220630T190000
DTEND;TZID=America/Los_Angeles:20220630T210000
DTSTAMP:20260417T233551
CREATED:20190205T233739Z
LAST-MODIFIED:20190205T233928Z
UID:10002759-1656615600-1656622800@history.ucsb.edu
SUMMARY:History Club Weekly Meetings
DESCRIPTION:UCSB’s new and improved History Departmental club is for majors\, minors\, and anyone with a passion for the past! Meetings are held every Thursday at 7:00 PM in HSSB 4020. See flier below for information about upcoming events. Please email histclub.ucsb@gmail.com with any questions. 
URL:https://history.ucsb.edu/events/history-club-weekly-meetings/2022-06-30/
LOCATION:HSSB 4020
END:VEVENT
BEGIN:VEVENT
DTSTART;TZID=America/Los_Angeles:20220623T190000
DTEND;TZID=America/Los_Angeles:20220623T210000
DTSTAMP:20260417T233551
CREATED:20190205T233739Z
LAST-MODIFIED:20190205T233928Z
UID:10002758-1656010800-1656018000@history.ucsb.edu
SUMMARY:History Club Weekly Meetings
DESCRIPTION:UCSB’s new and improved History Departmental club is for majors\, minors\, and anyone with a passion for the past! Meetings are held every Thursday at 7:00 PM in HSSB 4020. See flier below for information about upcoming events. Please email histclub.ucsb@gmail.com with any questions. 
URL:https://history.ucsb.edu/events/history-club-weekly-meetings/2022-06-23/
LOCATION:HSSB 4020
END:VEVENT
BEGIN:VEVENT
DTSTART;TZID=America/Los_Angeles:20220616T190000
DTEND;TZID=America/Los_Angeles:20220616T210000
DTSTAMP:20260417T233551
CREATED:20190205T233739Z
LAST-MODIFIED:20190205T233928Z
UID:10002757-1655406000-1655413200@history.ucsb.edu
SUMMARY:History Club Weekly Meetings
DESCRIPTION:UCSB’s new and improved History Departmental club is for majors\, minors\, and anyone with a passion for the past! Meetings are held every Thursday at 7:00 PM in HSSB 4020. See flier below for information about upcoming events. Please email histclub.ucsb@gmail.com with any questions. 
URL:https://history.ucsb.edu/events/history-club-weekly-meetings/2022-06-16/
LOCATION:HSSB 4020
END:VEVENT
BEGIN:VEVENT
DTSTART;TZID=America/Los_Angeles:20220609T190000
DTEND;TZID=America/Los_Angeles:20220609T210000
DTSTAMP:20260417T233551
CREATED:20190205T233739Z
LAST-MODIFIED:20190205T233928Z
UID:10002756-1654801200-1654808400@history.ucsb.edu
SUMMARY:History Club Weekly Meetings
DESCRIPTION:UCSB’s new and improved History Departmental club is for majors\, minors\, and anyone with a passion for the past! Meetings are held every Thursday at 7:00 PM in HSSB 4020. See flier below for information about upcoming events. Please email histclub.ucsb@gmail.com with any questions. 
URL:https://history.ucsb.edu/events/history-club-weekly-meetings/2022-06-09/
LOCATION:HSSB 4020
END:VEVENT
BEGIN:VEVENT
DTSTART;TZID=America/Los_Angeles:20220602T190000
DTEND;TZID=America/Los_Angeles:20220602T210000
DTSTAMP:20260417T233551
CREATED:20190205T233739Z
LAST-MODIFIED:20190205T233928Z
UID:10002755-1654196400-1654203600@history.ucsb.edu
SUMMARY:History Club Weekly Meetings
DESCRIPTION:UCSB’s new and improved History Departmental club is for majors\, minors\, and anyone with a passion for the past! Meetings are held every Thursday at 7:00 PM in HSSB 4020. See flier below for information about upcoming events. Please email histclub.ucsb@gmail.com with any questions. 
URL:https://history.ucsb.edu/events/history-club-weekly-meetings/2022-06-02/
LOCATION:HSSB 4020
END:VEVENT
BEGIN:VEVENT
DTSTART;TZID=America/Los_Angeles:20220526T190000
DTEND;TZID=America/Los_Angeles:20220526T210000
DTSTAMP:20260417T233551
CREATED:20190205T233739Z
LAST-MODIFIED:20190205T233928Z
UID:10002754-1653591600-1653598800@history.ucsb.edu
SUMMARY:History Club Weekly Meetings
DESCRIPTION:UCSB’s new and improved History Departmental club is for majors\, minors\, and anyone with a passion for the past! Meetings are held every Thursday at 7:00 PM in HSSB 4020. See flier below for information about upcoming events. Please email histclub.ucsb@gmail.com with any questions. 
URL:https://history.ucsb.edu/events/history-club-weekly-meetings/2022-05-26/
LOCATION:HSSB 4020
END:VEVENT
BEGIN:VEVENT
DTSTART;TZID=America/Los_Angeles:20220526T183000
DTEND;TZID=America/Los_Angeles:20220526T203000
DTSTAMP:20260417T233551
CREATED:20220505T002026Z
LAST-MODIFIED:20221026T183818Z
UID:10002904-1653589800-1653597000@history.ucsb.edu
SUMMARY:Spring 2022 Launch Party
DESCRIPTION:Join the UCSB Undergraduate Journal of History and the History Club at UCSB to celebrate the launch of the Spring 2022 Volume. \n \nThere are rumors of pizza.\n \nWe will meet in HSSB 4020\, starting at 6:30.\n \nThere will be treats.\n \nHear from undergrad editors and authors who will answer your questions about the whole process. 
URL:https://history.ucsb.edu/events/spring-2022-launch-party/
LOCATION:HSSB 4020
ATTACH;FMTTYPE=image/png:https://history.ucsb.edu/wp-content/uploads/Screen-Shot-2022-05-04-at-5.15.25-PM.png
END:VEVENT
BEGIN:VEVENT
DTSTART;TZID=America/Los_Angeles:20220519T190000
DTEND;TZID=America/Los_Angeles:20220519T210000
DTSTAMP:20260417T233551
CREATED:20190205T233739Z
LAST-MODIFIED:20190205T233928Z
UID:10002753-1652986800-1652994000@history.ucsb.edu
SUMMARY:History Club Weekly Meetings
DESCRIPTION:UCSB’s new and improved History Departmental club is for majors\, minors\, and anyone with a passion for the past! Meetings are held every Thursday at 7:00 PM in HSSB 4020. See flier below for information about upcoming events. Please email histclub.ucsb@gmail.com with any questions. 
URL:https://history.ucsb.edu/events/history-club-weekly-meetings/2022-05-19/
LOCATION:HSSB 4020
END:VEVENT
BEGIN:VEVENT
DTSTART;TZID=America/Los_Angeles:20220512T190000
DTEND;TZID=America/Los_Angeles:20220512T210000
DTSTAMP:20260417T233551
CREATED:20190205T233739Z
LAST-MODIFIED:20190205T233928Z
UID:10002752-1652382000-1652389200@history.ucsb.edu
SUMMARY:History Club Weekly Meetings
DESCRIPTION:UCSB’s new and improved History Departmental club is for majors\, minors\, and anyone with a passion for the past! Meetings are held every Thursday at 7:00 PM in HSSB 4020. See flier below for information about upcoming events. Please email histclub.ucsb@gmail.com with any questions. 
URL:https://history.ucsb.edu/events/history-club-weekly-meetings/2022-05-12/
LOCATION:HSSB 4020
END:VEVENT
BEGIN:VEVENT
DTSTART;TZID=America/Los_Angeles:20220505T190000
DTEND;TZID=America/Los_Angeles:20220505T210000
DTSTAMP:20260417T233551
CREATED:20190205T233739Z
LAST-MODIFIED:20190205T233928Z
UID:10002751-1651777200-1651784400@history.ucsb.edu
SUMMARY:History Club Weekly Meetings
DESCRIPTION:UCSB’s new and improved History Departmental club is for majors\, minors\, and anyone with a passion for the past! Meetings are held every Thursday at 7:00 PM in HSSB 4020. See flier below for information about upcoming events. Please email histclub.ucsb@gmail.com with any questions. 
URL:https://history.ucsb.edu/events/history-club-weekly-meetings/2022-05-05/
LOCATION:HSSB 4020
END:VEVENT
BEGIN:VEVENT
DTSTART;TZID=America/Los_Angeles:20220428T190000
DTEND;TZID=America/Los_Angeles:20220428T210000
DTSTAMP:20260417T233551
CREATED:20190205T233739Z
LAST-MODIFIED:20190205T233928Z
UID:10002750-1651172400-1651179600@history.ucsb.edu
SUMMARY:History Club Weekly Meetings
DESCRIPTION:UCSB’s new and improved History Departmental club is for majors\, minors\, and anyone with a passion for the past! Meetings are held every Thursday at 7:00 PM in HSSB 4020. See flier below for information about upcoming events. Please email histclub.ucsb@gmail.com with any questions. 
URL:https://history.ucsb.edu/events/history-club-weekly-meetings/2022-04-28/
LOCATION:HSSB 4020
END:VEVENT
BEGIN:VEVENT
DTSTART;TZID=America/Los_Angeles:20220421T190000
DTEND;TZID=America/Los_Angeles:20220421T210000
DTSTAMP:20260417T233551
CREATED:20190205T233739Z
LAST-MODIFIED:20190205T233928Z
UID:10002749-1650567600-1650574800@history.ucsb.edu
SUMMARY:History Club Weekly Meetings
DESCRIPTION:UCSB’s new and improved History Departmental club is for majors\, minors\, and anyone with a passion for the past! Meetings are held every Thursday at 7:00 PM in HSSB 4020. See flier below for information about upcoming events. Please email histclub.ucsb@gmail.com with any questions. 
URL:https://history.ucsb.edu/events/history-club-weekly-meetings/2022-04-21/
LOCATION:HSSB 4020
END:VEVENT
BEGIN:VEVENT
DTSTART;TZID=America/Los_Angeles:20220414T190000
DTEND;TZID=America/Los_Angeles:20220414T210000
DTSTAMP:20260417T233551
CREATED:20190205T233739Z
LAST-MODIFIED:20190205T233928Z
UID:10002748-1649962800-1649970000@history.ucsb.edu
SUMMARY:History Club Weekly Meetings
DESCRIPTION:UCSB’s new and improved History Departmental club is for majors\, minors\, and anyone with a passion for the past! Meetings are held every Thursday at 7:00 PM in HSSB 4020. See flier below for information about upcoming events. Please email histclub.ucsb@gmail.com with any questions. 
URL:https://history.ucsb.edu/events/history-club-weekly-meetings/2022-04-14/
LOCATION:HSSB 4020
END:VEVENT
BEGIN:VEVENT
DTSTART;TZID=America/Los_Angeles:20220407T190000
DTEND;TZID=America/Los_Angeles:20220407T210000
DTSTAMP:20260417T233551
CREATED:20190205T233739Z
LAST-MODIFIED:20190205T233928Z
UID:10002747-1649358000-1649365200@history.ucsb.edu
SUMMARY:History Club Weekly Meetings
DESCRIPTION:UCSB’s new and improved History Departmental club is for majors\, minors\, and anyone with a passion for the past! Meetings are held every Thursday at 7:00 PM in HSSB 4020. See flier below for information about upcoming events. Please email histclub.ucsb@gmail.com with any questions. 
URL:https://history.ucsb.edu/events/history-club-weekly-meetings/2022-04-07/
LOCATION:HSSB 4020
END:VEVENT
END:VCALENDAR