BEGIN:VCALENDAR
VERSION:2.0
PRODID:-//Department of History, UC Santa Barbara - ECPv6.15.12.1//NONSGML v1.0//EN
CALSCALE:GREGORIAN
METHOD:PUBLISH
X-WR-CALNAME:Department of History, UC Santa Barbara
X-ORIGINAL-URL:https://history.ucsb.edu
X-WR-CALDESC:Events for Department of History, UC Santa Barbara
REFRESH-INTERVAL;VALUE=DURATION:PT1H
X-Robots-Tag:noindex
X-PUBLISHED-TTL:PT1H
BEGIN:VTIMEZONE
TZID:America/Los_Angeles
BEGIN:DAYLIGHT
TZOFFSETFROM:-0800
TZOFFSETTO:-0700
TZNAME:PDT
DTSTART:20190310T100000
END:DAYLIGHT
BEGIN:STANDARD
TZOFFSETFROM:-0700
TZOFFSETTO:-0800
TZNAME:PST
DTSTART:20191103T090000
END:STANDARD
BEGIN:DAYLIGHT
TZOFFSETFROM:-0800
TZOFFSETTO:-0700
TZNAME:PDT
DTSTART:20200308T100000
END:DAYLIGHT
BEGIN:STANDARD
TZOFFSETFROM:-0700
TZOFFSETTO:-0800
TZNAME:PST
DTSTART:20201101T090000
END:STANDARD
BEGIN:DAYLIGHT
TZOFFSETFROM:-0800
TZOFFSETTO:-0700
TZNAME:PDT
DTSTART:20210314T100000
END:DAYLIGHT
BEGIN:STANDARD
TZOFFSETFROM:-0700
TZOFFSETTO:-0800
TZNAME:PST
DTSTART:20211107T090000
END:STANDARD
BEGIN:DAYLIGHT
TZOFFSETFROM:-0800
TZOFFSETTO:-0700
TZNAME:PDT
DTSTART:20220313T100000
END:DAYLIGHT
BEGIN:STANDARD
TZOFFSETFROM:-0700
TZOFFSETTO:-0800
TZNAME:PST
DTSTART:20221106T090000
END:STANDARD
BEGIN:DAYLIGHT
TZOFFSETFROM:-0800
TZOFFSETTO:-0700
TZNAME:PDT
DTSTART:20230312T100000
END:DAYLIGHT
BEGIN:STANDARD
TZOFFSETFROM:-0700
TZOFFSETTO:-0800
TZNAME:PST
DTSTART:20231105T090000
END:STANDARD
BEGIN:DAYLIGHT
TZOFFSETFROM:-0800
TZOFFSETTO:-0700
TZNAME:PDT
DTSTART:20240310T100000
END:DAYLIGHT
BEGIN:STANDARD
TZOFFSETFROM:-0700
TZOFFSETTO:-0800
TZNAME:PST
DTSTART:20241103T090000
END:STANDARD
BEGIN:DAYLIGHT
TZOFFSETFROM:-0800
TZOFFSETTO:-0700
TZNAME:PDT
DTSTART:20250309T100000
END:DAYLIGHT
BEGIN:STANDARD
TZOFFSETFROM:-0700
TZOFFSETTO:-0800
TZNAME:PST
DTSTART:20251102T090000
END:STANDARD
END:VTIMEZONE
BEGIN:VEVENT
DTSTART;TZID=America/Los_Angeles:20240209T120000
DTEND;TZID=America/Los_Angeles:20240209T133000
DTSTAMP:20260419T151612
CREATED:20240117T233135Z
LAST-MODIFIED:20240117T233135Z
UID:10002981-1707480000-1707485400@history.ucsb.edu
SUMMARY:Public History Colloquium\, Alison Rose Jefferson
DESCRIPTION:Alison Rose Jefferson (PhD 2015) will speak about her career as a public historian\, some of her current/recent projects\, and share thoughts on how they fit into a broader public history landscape of Greater Los Angeles and the field in general. All of her projects include the recognition and commemoration the African American experience.
URL:https://history.ucsb.edu/events/public-history-colloquium-alison-rose-jefferson/
LOCATION:HSSB 3208\, University of California Santa Barbara\, Santa Barbara\, CA\, 93106\, United States
END:VEVENT
BEGIN:VEVENT
DTSTART;TZID=America/Los_Angeles:20240129T120000
DTEND;TZID=America/Los_Angeles:20240129T133000
DTSTAMP:20260419T151612
CREATED:20240117T234439Z
LAST-MODIFIED:20240117T234439Z
UID:10002982-1706529600-1706535000@history.ucsb.edu
SUMMARY:Public History Colloquium\, Eric Boyle
DESCRIPTION:Join the Public History Colloquium for a conversation with Eric Boyle (PhD 2007)\, Chief Historian and Federal Preservation Officer for the Department of Energy. \nHe will discuss his work as a government historian and pathways for historians interested in careers in government service.
URL:https://history.ucsb.edu/events/public-history-colloquium-eric-boyle/
LOCATION:HSSB 3208\, University of California Santa Barbara\, Santa Barbara\, CA\, 93106\, United States
END:VEVENT
BEGIN:VEVENT
DTSTART;TZID=America/Los_Angeles:20200225T120000
DTEND;TZID=America/Los_Angeles:20200225T130000
DTSTAMP:20260419T151612
CREATED:20200206T221136Z
LAST-MODIFIED:20200206T221136Z
UID:10002816-1582632000-1582635600@history.ucsb.edu
SUMMARY:Tory Swim Inloes\, “History for Hire”
DESCRIPTION:As part of the Public History speaker series\, Tory Swim Inloes (UCSB alumna)\, will discuss her work as a freelance public historian\, including work in oral history. She has also worked as curator the the Rancho Los Cerritos Historic Site in Long Beach. Learn about the opportunities available for independent public historians as consultants for nonprofits\, communities\, and individuals. \nA light lunch will be served; please RSVP to scase@history.ucsb.edu.
URL:https://history.ucsb.edu/events/tory-swim-inloes-history-for-hire/
LOCATION:HSSB 3208\, University of California Santa Barbara\, Santa Barbara\, CA\, 93106\, United States
END:VEVENT
END:VCALENDAR