BEGIN:VCALENDAR
VERSION:2.0
PRODID:-//Department of History, UC Santa Barbara - ECPv6.15.12.1//NONSGML v1.0//EN
CALSCALE:GREGORIAN
METHOD:PUBLISH
X-WR-CALNAME:Department of History, UC Santa Barbara
X-ORIGINAL-URL:https://history.ucsb.edu
X-WR-CALDESC:Events for Department of History, UC Santa Barbara
REFRESH-INTERVAL;VALUE=DURATION:PT1H
X-Robots-Tag:noindex
X-PUBLISHED-TTL:PT1H
BEGIN:VTIMEZONE
TZID:America/Los_Angeles
BEGIN:DAYLIGHT
TZOFFSETFROM:-0800
TZOFFSETTO:-0700
TZNAME:PDT
DTSTART:20150308T100000
END:DAYLIGHT
BEGIN:STANDARD
TZOFFSETFROM:-0700
TZOFFSETTO:-0800
TZNAME:PST
DTSTART:20151101T090000
END:STANDARD
BEGIN:DAYLIGHT
TZOFFSETFROM:-0800
TZOFFSETTO:-0700
TZNAME:PDT
DTSTART:20160313T100000
END:DAYLIGHT
BEGIN:STANDARD
TZOFFSETFROM:-0700
TZOFFSETTO:-0800
TZNAME:PST
DTSTART:20161106T090000
END:STANDARD
BEGIN:DAYLIGHT
TZOFFSETFROM:-0800
TZOFFSETTO:-0700
TZNAME:PDT
DTSTART:20170312T100000
END:DAYLIGHT
BEGIN:STANDARD
TZOFFSETFROM:-0700
TZOFFSETTO:-0800
TZNAME:PST
DTSTART:20171105T090000
END:STANDARD
BEGIN:DAYLIGHT
TZOFFSETFROM:-0800
TZOFFSETTO:-0700
TZNAME:PDT
DTSTART:20180311T100000
END:DAYLIGHT
BEGIN:STANDARD
TZOFFSETFROM:-0700
TZOFFSETTO:-0800
TZNAME:PST
DTSTART:20181104T090000
END:STANDARD
BEGIN:DAYLIGHT
TZOFFSETFROM:-0800
TZOFFSETTO:-0700
TZNAME:PDT
DTSTART:20190310T100000
END:DAYLIGHT
BEGIN:STANDARD
TZOFFSETFROM:-0700
TZOFFSETTO:-0800
TZNAME:PST
DTSTART:20191103T090000
END:STANDARD
BEGIN:DAYLIGHT
TZOFFSETFROM:-0800
TZOFFSETTO:-0700
TZNAME:PDT
DTSTART:20200308T100000
END:DAYLIGHT
BEGIN:STANDARD
TZOFFSETFROM:-0700
TZOFFSETTO:-0800
TZNAME:PST
DTSTART:20201101T090000
END:STANDARD
BEGIN:DAYLIGHT
TZOFFSETFROM:-0800
TZOFFSETTO:-0700
TZNAME:PDT
DTSTART:20210314T100000
END:DAYLIGHT
BEGIN:STANDARD
TZOFFSETFROM:-0700
TZOFFSETTO:-0800
TZNAME:PST
DTSTART:20211107T090000
END:STANDARD
BEGIN:DAYLIGHT
TZOFFSETFROM:-0800
TZOFFSETTO:-0700
TZNAME:PDT
DTSTART:20220313T100000
END:DAYLIGHT
BEGIN:STANDARD
TZOFFSETFROM:-0700
TZOFFSETTO:-0800
TZNAME:PST
DTSTART:20221106T090000
END:STANDARD
BEGIN:DAYLIGHT
TZOFFSETFROM:-0800
TZOFFSETTO:-0700
TZNAME:PDT
DTSTART:20230312T100000
END:DAYLIGHT
BEGIN:STANDARD
TZOFFSETFROM:-0700
TZOFFSETTO:-0800
TZNAME:PST
DTSTART:20231105T090000
END:STANDARD
BEGIN:DAYLIGHT
TZOFFSETFROM:-0800
TZOFFSETTO:-0700
TZNAME:PDT
DTSTART:20240310T100000
END:DAYLIGHT
BEGIN:STANDARD
TZOFFSETFROM:-0700
TZOFFSETTO:-0800
TZNAME:PST
DTSTART:20241103T090000
END:STANDARD
END:VTIMEZONE
BEGIN:VEVENT
DTSTART;TZID=America/Los_Angeles:20230303T100000
DTEND;TZID=America/Los_Angeles:20230303T110000
DTSTAMP:20260423T043541
CREATED:20230213T231246Z
LAST-MODIFIED:20230425T195821Z
UID:10002926-1677837600-1677841200@history.ucsb.edu
SUMMARY:Coffee on Campus (with Marc Stein)
DESCRIPTION:The Gender + Sexualities Cluster is pleased to welcome Professor Marc Stein to campus. Marc is a historian of U.S. law\, politics\, and society\, with research and teaching interests in constitutional law\, social movement \ns\, gender\, race and sexuality. His books and articles have focused on twentieth-century urban gay and lesbian history; U.S. Supreme Court decisions on sex\, marriage and reproduction; queer political activism; and sexual politics in the discipline of history. \nCoffee on Campus with Marc Stein. This causal event is exclusively for our undergrad students and will be co-hosted by the History Club and the Undergraduate Journal. Come learn about Marc’s career and work as a historian of sexuality.  \nCaffeine and snacks will be served.
URL:https://history.ucsb.edu/events/coffee-on-campus-with-marc-stein/
LOCATION:HSSB 3041\, University of California Santa Barbara\, Santa Barbara\, CA\, 93106\, United States
GEO:34.4139629;-119.848947
X-APPLE-STRUCTURED-LOCATION;VALUE=URI;X-ADDRESS=HSSB 3041 University of California Santa Barbara Santa Barbara CA 93106 United States;X-APPLE-RADIUS=500;X-TITLE=University of California Santa Barbara:geo:-119.848947,34.4139629
END:VEVENT
BEGIN:VEVENT
DTSTART;TZID=America/Los_Angeles:20170120T170000
DTEND;TZID=America/Los_Angeles:20170120T180000
DTSTAMP:20260423T043541
CREATED:20170116T235753Z
LAST-MODIFIED:20170116T235753Z
UID:10002471-1484931600-1484935200@history.ucsb.edu
SUMMARY:Roman Historian\, Eric Rebillard\, speaks Friday
DESCRIPTION:The Ancient Borderlands Research Focus Group welcomes Prof. Eric Rebillard of Cornell University’s Departments of History and Classics. The title of his talk is  “Res gestas martyrum digerere: North African Hagiography until the Time of Augustine.” He is the author of Christians and Their Many Identities in Late Antiquity (Cornell\, 2012).
URL:https://history.ucsb.edu/events/roman-historian-eric-rebillard-speaks-friday/
LOCATION:HSSB 3041\, University of California Santa Barbara\, Santa Barbara\, CA\, 93106\, United States
ATTACH;FMTTYPE=image/jpeg:https://history.ucsb.edu/wp-content/uploads/Slide1.jpg
GEO:34.4139629;-119.848947
X-APPLE-STRUCTURED-LOCATION;VALUE=URI;X-ADDRESS=HSSB 3041 University of California Santa Barbara Santa Barbara CA 93106 United States;X-APPLE-RADIUS=500;X-TITLE=University of California Santa Barbara:geo:-119.848947,34.4139629
END:VEVENT
BEGIN:VEVENT
DTSTART;TZID=America/Los_Angeles:20161114T170000
DTEND;TZID=America/Los_Angeles:20161114T183000
DTSTAMP:20260423T043541
CREATED:20161111T180536Z
LAST-MODIFIED:20161111T180536Z
UID:10002121-1479142800-1479148200@history.ucsb.edu
SUMMARY:Monumental Mausolea: Building Projects and Slave Labor from Antiquity to the World Cup
DESCRIPTION:Sarah Bond\, Assistant Professor of Classics at the University of Iowa\, will examine the use of slave labor in monumental building through a broad historical lens. The use of contracted and slave labor for large building projects has roots going back to antiquity. The Pyramids at Giza\, the Baths of Caracalla\, the Great Wall of China\, and\, now\, the sports arenas being erected for the Qatar World Cup in 2022 have all relied upon thousands of workers in order to build these monumental structures. Despite the hands of thousands contributing to the creation of these landmark buildings\, the lives of the contracted workers\, slaves\, and freed-persons who labored and often died while working on them have been largely invisible. This lecture examines the politics of celebrating a building such as the Colosseum or the White House while disregarding the contributions and sacrifices of the slaves that made these works possible. It also asks: what new landscapes of memory\, commemoration\, and public appreciation can be created when we notify the public of the extensive input of slaves? \nSponsored by the IHC’s Slavery\, Captivity\, and the Meaning of Freedom RFG\,  the Dept. of Classics\, the Public History Program\,  and the IHC’s Ancient Borderlands RFG. \n 
URL:https://history.ucsb.edu/events/monumental-mausolea-building-projects-slave-labor-antiquity-world-cup/
LOCATION:HSSB 3041\, University of California Santa Barbara\, Santa Barbara\, CA\, 93106\, United States
GEO:34.4139629;-119.848947
X-APPLE-STRUCTURED-LOCATION;VALUE=URI;X-ADDRESS=HSSB 3041 University of California Santa Barbara Santa Barbara CA 93106 United States;X-APPLE-RADIUS=500;X-TITLE=University of California Santa Barbara:geo:-119.848947,34.4139629
END:VEVENT
BEGIN:VEVENT
DTSTART;TZID=America/Los_Angeles:20160217T170000
DTEND;TZID=America/Los_Angeles:20160217T183000
DTSTAMP:20260423T043541
CREATED:20160120T205741Z
LAST-MODIFIED:20160120T205741Z
UID:10002414-1455728400-1455733800@history.ucsb.edu
SUMMARY:Beyond Hebrew: Zionism and the Politics of Multilingualism in Palestine\, 1920-1948
DESCRIPTION:Event Description:\nThe promotion of modern Hebrew as a spoken vernacular is often viewed as a central accomplishment of the Zionist movement in Palestine before Israeli statehood. But by viewing twentieth-century history through the lens of language\, author Liora Halperin questions the common narrative of a Zionist move away from multilingualism during the years following World War I. She demonstrates how Jews in Palestine remained connected by both preference and necessity to a world of languages outside the boundaries of the pro-Hebrew community even as many of them promoted Hebrew and achieved that language’s dominance. \nThe story of language encounters in the Jewish community of Palestine is a fascinating tale of shifting power relationships\, both locally and globally. Halperin’s absorbing study explores how a young national community was compelled to modify demands for Hebrew exclusivity as it negotiated its relationships with its diverse Jewish population\, Palestinian Arabs\, the British\, and others outside the margins of the national project and ultimately came to terms with the limitations of its influence and power in an interconnected world. \n  \nAbout the Speaker:\nLiora R. Halperin is an Assistant Professor in the Department of History and the Program in Jewish Studies and the holder of the Endowed Professorship in Israel/Palestine Studies at the University of Colorado Boulder\, where she has taught since 2013. Her research focuses on Jewish cultural history\, Jewish-Arab relations in Ottoman and Mandate Palestine\, language ideology and policy\, and the politics surrounding nation formation in Palestine in the years leading up to the creation of the State of Israel in 1948. She is also a member of the advisory board for CU’s Archive of Post-Holocaust American Judaism\, and affiliated faculty in Middle Eastern Studies at the CU Center for Asian Studies. \n  \nSponsored by the Center for Middle East Studies and Jewish Studies at UCSB.
URL:https://history.ucsb.edu/events/beyond-hebrew-zionism-and-the-politics-of-multilingualism-in-palestine-1920-1948/
LOCATION:HSSB 3041\, University of California Santa Barbara\, Santa Barbara\, CA\, 93106\, United States
GEO:34.4139629;-119.848947
X-APPLE-STRUCTURED-LOCATION;VALUE=URI;X-ADDRESS=HSSB 3041 University of California Santa Barbara Santa Barbara CA 93106 United States;X-APPLE-RADIUS=500;X-TITLE=University of California Santa Barbara:geo:-119.848947,34.4139629
END:VEVENT
END:VCALENDAR