BEGIN:VCALENDAR
VERSION:2.0
PRODID:-//Department of History, UC Santa Barbara - ECPv6.15.12.1//NONSGML v1.0//EN
CALSCALE:GREGORIAN
METHOD:PUBLISH
X-WR-CALNAME:Department of History, UC Santa Barbara
X-ORIGINAL-URL:https://history.ucsb.edu
X-WR-CALDESC:Events for Department of History, UC Santa Barbara
REFRESH-INTERVAL;VALUE=DURATION:PT1H
X-Robots-Tag:noindex
X-PUBLISHED-TTL:PT1H
BEGIN:VTIMEZONE
TZID:America/Los_Angeles
BEGIN:DAYLIGHT
TZOFFSETFROM:-0800
TZOFFSETTO:-0700
TZNAME:PDT
DTSTART:20190310T100000
END:DAYLIGHT
BEGIN:STANDARD
TZOFFSETFROM:-0700
TZOFFSETTO:-0800
TZNAME:PST
DTSTART:20191103T090000
END:STANDARD
BEGIN:DAYLIGHT
TZOFFSETFROM:-0800
TZOFFSETTO:-0700
TZNAME:PDT
DTSTART:20200308T100000
END:DAYLIGHT
BEGIN:STANDARD
TZOFFSETFROM:-0700
TZOFFSETTO:-0800
TZNAME:PST
DTSTART:20201101T090000
END:STANDARD
BEGIN:DAYLIGHT
TZOFFSETFROM:-0800
TZOFFSETTO:-0700
TZNAME:PDT
DTSTART:20210314T100000
END:DAYLIGHT
BEGIN:STANDARD
TZOFFSETFROM:-0700
TZOFFSETTO:-0800
TZNAME:PST
DTSTART:20211107T090000
END:STANDARD
BEGIN:DAYLIGHT
TZOFFSETFROM:-0800
TZOFFSETTO:-0700
TZNAME:PDT
DTSTART:20220313T100000
END:DAYLIGHT
BEGIN:STANDARD
TZOFFSETFROM:-0700
TZOFFSETTO:-0800
TZNAME:PST
DTSTART:20221106T090000
END:STANDARD
BEGIN:DAYLIGHT
TZOFFSETFROM:-0800
TZOFFSETTO:-0700
TZNAME:PDT
DTSTART:20230312T100000
END:DAYLIGHT
BEGIN:STANDARD
TZOFFSETFROM:-0700
TZOFFSETTO:-0800
TZNAME:PST
DTSTART:20231105T090000
END:STANDARD
BEGIN:DAYLIGHT
TZOFFSETFROM:-0800
TZOFFSETTO:-0700
TZNAME:PDT
DTSTART:20240310T100000
END:DAYLIGHT
BEGIN:STANDARD
TZOFFSETFROM:-0700
TZOFFSETTO:-0800
TZNAME:PST
DTSTART:20241103T090000
END:STANDARD
BEGIN:DAYLIGHT
TZOFFSETFROM:-0800
TZOFFSETTO:-0700
TZNAME:PDT
DTSTART:20250309T100000
END:DAYLIGHT
BEGIN:STANDARD
TZOFFSETFROM:-0700
TZOFFSETTO:-0800
TZNAME:PST
DTSTART:20251102T090000
END:STANDARD
BEGIN:DAYLIGHT
TZOFFSETFROM:-0800
TZOFFSETTO:-0700
TZNAME:PDT
DTSTART:20260308T100000
END:DAYLIGHT
BEGIN:STANDARD
TZOFFSETFROM:-0700
TZOFFSETTO:-0800
TZNAME:PST
DTSTART:20261101T090000
END:STANDARD
END:VTIMEZONE
BEGIN:VEVENT
DTSTART;TZID=America/Los_Angeles:20250307T120000
DTEND;TZID=America/Los_Angeles:20250307T133000
DTSTAMP:20260419T120739
CREATED:20250208T234830Z
LAST-MODIFIED:20250208T234830Z
UID:10003017-1741348800-1741354200@history.ucsb.edu
SUMMARY:Tiffany Caesar\, “A Black Womanist Archival Tradition: Revising the Phillis Wheatley Poetry Festival 50th Anniversary\," Public History Colloquium
DESCRIPTION:Dr. Tiffany Caesar shares her efforts in preserving the legacy of Margaret Walker and the 1973 Phillis Wheatley Poetry Festival at Jackson State University. The 1973 Phillis Wheatley Poetry Festival served as the premiere gathering of black women\, writers\, artists\, scholars\, and activists to celebrate Phillis Wheatley and black women’s creativity. The original conference included Alice Walker\, Paula Giddings\, Audrey Lorde\, and more. Dr. Caesar chaired the editorial committee of the recent 50th Anniversary of the Phillis Wheatley Poetry Festival\, co-editing two journals focused on the conference\, one with Callaloo Literary Journal and the other with the JSU Researcher. Dr. Tiffany Caesar shares her journey of using a black womanist archival tradition and her experience as a Mellon Fellow at the Margaret Walker Center\, which further thrust her into public history as she continues preserving black women’s stories.
URL:https://history.ucsb.edu/events/tiffany-caesar-a-black-womanist-archival-tradition-revising-the-phillis-wheatley-poetry-festival-50th-anniversary-public-history-colloquium/
LOCATION:4041 HSSB\, University of California Santa Barbara\, Santa Barbara\, CA\, 93106\, United States
END:VEVENT
BEGIN:VEVENT
DTSTART;TZID=America/Los_Angeles:20200122T160000
DTEND;TZID=America/Los_Angeles:20200122T173000
DTSTAMP:20260419T120739
CREATED:20200108T184418Z
LAST-MODIFIED:20200108T184418Z
UID:10002280-1579708800-1579714200@history.ucsb.edu
SUMMARY:History Department Open House\, sponsored by HIST Club/Phi Alpha Theta
DESCRIPTION:The HIST Club of enthusiastic history majors and minors would like to invite you all to an Open House on Wed.\, Jan. 22\, 4-5:30. That day is the day of our first faculty meeting so we are hoping you can stick around to grab some refreshments and chat with your students. They are super eager to meet you and other interested students and hope you can attend. Just as an FYI — we have some 20-25 active members and more than 50 members registered on campus. We are also in the process of preparing a student lounge! Partners and children are welcome. Please contact Miroslava Chavez-Garcia (mchavezgarcia@history.ucsb.edu) for more information. \nWhen: Wed.\, Jan 22\, 4-5:30 pm\nWhere: 4081 HSSB (across from 4020 HSSB)\nWhy: To promote and share our love of history!
URL:https://history.ucsb.edu/events/history-department-open-house-sponsored-by-hist-club-phi-alpha-theta/
LOCATION:4041 HSSB\, University of California Santa Barbara\, Santa Barbara\, CA\, 93106\, United States
ATTACH;FMTTYPE=image/png:https://history.ucsb.edu/wp-content/uploads/Winter-Warm-Up-2020.png
END:VEVENT
END:VCALENDAR