BEGIN:VCALENDAR
VERSION:2.0
PRODID:-//Department of History, UC Santa Barbara - ECPv6.15.12.1//NONSGML v1.0//EN
CALSCALE:GREGORIAN
METHOD:PUBLISH
X-WR-CALNAME:Department of History, UC Santa Barbara
X-ORIGINAL-URL:https://history.ucsb.edu
X-WR-CALDESC:Events for Department of History, UC Santa Barbara
REFRESH-INTERVAL;VALUE=DURATION:PT1H
X-Robots-Tag:noindex
X-PUBLISHED-TTL:PT1H
BEGIN:VTIMEZONE
TZID:America/Los_Angeles
BEGIN:DAYLIGHT
TZOFFSETFROM:-0800
TZOFFSETTO:-0700
TZNAME:PDT
DTSTART:20150308T100000
END:DAYLIGHT
BEGIN:STANDARD
TZOFFSETFROM:-0700
TZOFFSETTO:-0800
TZNAME:PST
DTSTART:20151101T090000
END:STANDARD
BEGIN:DAYLIGHT
TZOFFSETFROM:-0800
TZOFFSETTO:-0700
TZNAME:PDT
DTSTART:20160313T100000
END:DAYLIGHT
BEGIN:STANDARD
TZOFFSETFROM:-0700
TZOFFSETTO:-0800
TZNAME:PST
DTSTART:20161106T090000
END:STANDARD
BEGIN:DAYLIGHT
TZOFFSETFROM:-0800
TZOFFSETTO:-0700
TZNAME:PDT
DTSTART:20170312T100000
END:DAYLIGHT
BEGIN:STANDARD
TZOFFSETFROM:-0700
TZOFFSETTO:-0800
TZNAME:PST
DTSTART:20171105T090000
END:STANDARD
BEGIN:DAYLIGHT
TZOFFSETFROM:-0800
TZOFFSETTO:-0700
TZNAME:PDT
DTSTART:20180311T100000
END:DAYLIGHT
BEGIN:STANDARD
TZOFFSETFROM:-0700
TZOFFSETTO:-0800
TZNAME:PST
DTSTART:20181104T090000
END:STANDARD
BEGIN:DAYLIGHT
TZOFFSETFROM:-0800
TZOFFSETTO:-0700
TZNAME:PDT
DTSTART:20190310T100000
END:DAYLIGHT
BEGIN:STANDARD
TZOFFSETFROM:-0700
TZOFFSETTO:-0800
TZNAME:PST
DTSTART:20191103T090000
END:STANDARD
END:VTIMEZONE
BEGIN:VEVENT
DTSTART;TZID=America/Los_Angeles:20180118T130000
DTEND;TZID=America/Los_Angeles:20180118T143000
DTSTAMP:20260418T112958
CREATED:20171127T220602Z
LAST-MODIFIED:20180115T191454Z
UID:10002514-1516280400-1516285800@history.ucsb.edu
SUMMARY:Gift of the Nile? Racism\, Egyptological Bias\, and Ancient Egypt as an African Civilization
DESCRIPTION:Prof. Stuart Tyson Smith (Anthropology) will speak for the Ancient Borderlands group.
URL:https://history.ucsb.edu/events/gift-of-the-nile/
LOCATION:HSSB 6056\, UCSB\, CA\, United States
CATEGORIES:Public Lecture
GEO:34.4271935;-119.8398835
X-APPLE-STRUCTURED-LOCATION;VALUE=URI;X-ADDRESS=HSSB 6056 UCSB CA United States;X-APPLE-RADIUS=500;X-TITLE=UCSB:geo:-119.8398835,34.4271935
END:VEVENT
BEGIN:VEVENT
DTSTART;TZID=America/Los_Angeles:20161028T120000
DTEND;TZID=America/Los_Angeles:20161028T140000
DTSTAMP:20260418T112958
CREATED:20161013T230823Z
LAST-MODIFIED:20161021T172302Z
UID:10002452-1477656000-1477663200@history.ucsb.edu
SUMMARY:Prof. Cavan Concannon (USC): "An Assemblage Approach to Early Christianity\, Deleuze\, Latour\, and the Letters of Dionysios of Corinth"
DESCRIPTION:Modern historians map the diversity of early Christianity in a variety of ways\, from declines into heresy to competition among “varieties” of early Christianities. Drawing particularly on the philosophical work of Gilles Deleuze and Bruno Latour\, Concannon argues that  we might better map the remains of second-century Christianity by focusing on networks of people\, ideas\, and letters that moved along broader patterns of trade and communication in the eastern Mediterranean. Focusing on the costs\, velocities\, and viscosities of movement and commerce\, he examines the network associated with Dionysios of Corinth\, whose writings come to us only as fragments and summaries in Eusebius’ Ecclesiastical History. Concannon shows how non-human actants such as geography\, economic activity\, and trade routes shape the interactions within Dionysios’ network\, allowing us to think more broadly about second-century Christianity as a series of emergent networks that form\, coalesce\, and dissolve in the flow of movement and connectivity that characterized the Roman Mediterranean. Sponsored by the Ancient Borderlands RFG.
URL:https://history.ucsb.edu/events/prof-cavan-concannon-usc-assemblage-approach-early-christianity-deluze-latour-letters-dionysios-corinth/
LOCATION:HSSB 4080\, 4080 Humanities and Social Sciences Building\, UC Santa Barbara\, Santa Barbara\, CA\, 93106\, United States
CATEGORIES:Public Lecture
ATTACH;FMTTYPE=image/png:https://history.ucsb.edu/wp-content/uploads/DSC_91862.png
GEO:34.4139629;-119.848947
X-APPLE-STRUCTURED-LOCATION;VALUE=URI;X-ADDRESS=HSSB 4080 4080 Humanities and Social Sciences Building UC Santa Barbara Santa Barbara CA 93106 United States;X-APPLE-RADIUS=500;X-TITLE=4080 Humanities and Social Sciences Building\, UC Santa Barbara:geo:-119.848947,34.4139629
END:VEVENT
END:VCALENDAR