BEGIN:VCALENDAR
VERSION:2.0
PRODID:-//Department of History, UC Santa Barbara - ECPv6.15.12.1//NONSGML v1.0//EN
CALSCALE:GREGORIAN
METHOD:PUBLISH
X-ORIGINAL-URL:https://history.ucsb.edu
X-WR-CALDESC:Events for Department of History, UC Santa Barbara
REFRESH-INTERVAL;VALUE=DURATION:PT1H
X-Robots-Tag:noindex
X-PUBLISHED-TTL:PT1H
BEGIN:VTIMEZONE
TZID:America/Denver
BEGIN:DAYLIGHT
TZOFFSETFROM:-0700
TZOFFSETTO:-0600
TZNAME:MDT
DTSTART:20140309T090000
END:DAYLIGHT
BEGIN:STANDARD
TZOFFSETFROM:-0600
TZOFFSETTO:-0700
TZNAME:MST
DTSTART:20141102T080000
END:STANDARD
BEGIN:DAYLIGHT
TZOFFSETFROM:-0700
TZOFFSETTO:-0600
TZNAME:MDT
DTSTART:20150308T090000
END:DAYLIGHT
BEGIN:STANDARD
TZOFFSETFROM:-0600
TZOFFSETTO:-0700
TZNAME:MST
DTSTART:20151101T080000
END:STANDARD
BEGIN:DAYLIGHT
TZOFFSETFROM:-0700
TZOFFSETTO:-0600
TZNAME:MDT
DTSTART:20160313T090000
END:DAYLIGHT
BEGIN:STANDARD
TZOFFSETFROM:-0600
TZOFFSETTO:-0700
TZNAME:MST
DTSTART:20161106T080000
END:STANDARD
END:VTIMEZONE
BEGIN:VEVENT
DTSTART;TZID=America/Denver:20151018T160000
DTEND;TZID=America/Denver:20151018T190000
DTSTAMP:20260419T185642
CREATED:20151008T185110Z
LAST-MODIFIED:20151016T213658Z
UID:10002029-1445184000-1445194800@history.ucsb.edu
SUMMARY:Carol Lansing\, Did a Woman Rule the Vatican?  The Scandalous History of Pope Joan
DESCRIPTION:Speaker: \nCarol Lansing is a professor of medieval European history at UCSB. A specialist in the society\, politics and culture of medieval Italy\, she is the author of Power and Purity: Cathar Heresy in Medieval Italy and\, most recently\, Passion and Order: Restraint of Grief in the Medieval Italian Communes. She is co-editor of A Companion to the Medieval World and the recipient of numerous awards and fellowships\, including a Guggenheim fellowship and the Howard R. Marraro Prize of the Catholic Historical Association. \n  \nEvent Description: \nA longstanding story has it that a woman disguised asa man became pope in 854. Accounts of her demise vary\, but involve her falling off her horse during apapal procession and either dying in childbirth on the spot or being dragged off by an enraged Roman mob.The story probably dates from around 1150\, when papal processions started avoiding the traditional site of her fall. In this first lecture of the new academic year\, History Prof. Carol Lansing will explain the joke in these stories\, exploring changes in papal ceremonial and anti-papal satire to understand Pope Joan in the context of attitudes about gender and the clergy. A wine-and-cheese reception will follow. \n  \nEvent Flyer:
URL:https://history.ucsb.edu/events/did-a-woman-rule-the-vatican-the-scandalous-history-of-pope-joan/
LOCATION:Trinity Episcopal Church\,  Guild Hall\, 1500 State Street\, Santa Barbara\, CA\, United States
CATEGORIES:Public Lecture
ATTACH;FMTTYPE=image/jpeg:https://history.ucsb.edu/wp-content/uploads/Pope-Joan-Image.jpg
GEO:34.4267609;-119.70838
X-APPLE-STRUCTURED-LOCATION;VALUE=URI;X-ADDRESS=Trinity Episcopal Church  Guild Hall 1500 State Street Santa Barbara CA United States;X-APPLE-RADIUS=500;X-TITLE=1500 State Street:geo:-119.70838,34.4267609
END:VEVENT
BEGIN:VEVENT
DTSTART;TZID=America/Denver:20151020T160000
DTEND;TZID=America/Denver:20151020T171500
DTSTAMP:20260419T185642
CREATED:20151019T145528Z
LAST-MODIFIED:20151019T180403Z
UID:10002399-1445356800-1445361300@history.ucsb.edu
SUMMARY:Dr. Masuda Hajimu\, Purity and Order: Toward Social-Cultural Understandings of the Cold War World\, 1950-1953
DESCRIPTION:Speaker:\nMasuda Hajimu (family name Masuda) received his Ph.D. from Cornell University in 2012 and currently is Assistant Professor of history at the National University of Singapore\, where he specializes in the history of Japan\, student movements in Asia\, decolonization\, and the Cold War. He is the author of Cold War Crucible: The Korean Conflict and the Postwar World (Harvard University Press\, 2015) and has published articles in Diplomatic History\, The Journal of Contemporary History\, The Journal of Cold War Studies\, and The Journal of American-East Asian Relations. \n  \nEvent Description:\nWhat was the Cold War? Professor Masuda Hajimu argues that it was more than an international confrontation between West and East blocs. It was also a social mechanism of purity and ordering at home\, in the chaotic post-WWII world. The suppression of counterrevolutionaries in China\, the White Terror in Taiwan\, the Red Purge in Japan\, McCarthyism in the United States–these were not merely end results of the Cold War\, but forces that brought the Cold War into being\, as ordinary people throughout the world strove to silence disagreements and restore social order under the mantle of an imagined global confrontation. \n  \nEvent Flyer:
URL:https://history.ucsb.edu/events/dr-masuda-hajimu-purity-and-order-toward-social-cultural-understandings-of-the-cold-war-world-1950-1953/
LOCATION:HSSB 4020\, University of California\, Santa Barbara\, Santa Barbara\, CA\, 93106\, United States
CATEGORIES:Public Lecture
ATTACH;FMTTYPE=image/jpeg:https://history.ucsb.edu/wp-content/uploads/Masuda-Hajimu.jpg
GEO:34.4139629;-119.848947
X-APPLE-STRUCTURED-LOCATION;VALUE=URI;X-ADDRESS=HSSB 4020 University of California Santa Barbara Santa Barbara CA 93106 United States;X-APPLE-RADIUS=500;X-TITLE=University of California\, Santa Barbara:geo:-119.848947,34.4139629
END:VEVENT
BEGIN:VEVENT
DTSTART;TZID=America/Denver:20151022T180000
DTEND;TZID=America/Denver:20151022T200000
DTSTAMP:20260419T185642
CREATED:20150928T112909Z
LAST-MODIFIED:20151019T145133Z
UID:10002023-1445536800-1445544000@history.ucsb.edu
SUMMARY:Stephanie Dalley\, The Hanging Garden of Babylon: An Elusive World Wonder Traced
DESCRIPTION:Speaker:\nStephanie Dalley\nOxford University\nArchaeological Institute of America Norton Lecturer \n  \nEvent Description:\nBabylon’s Hanging Garden is the only one of the original seven wonders to have been dismissed as imaginary. Neither archaeologists nor Assyriologists could find evidence for it\, and the Greek sources describing it are centuries later than its supposed existence. An ingenious and detailed solution to the problem has been found at last\, allowing a fact-based reconstruction of the garden\, and an appreciation of the system of water management that qualified it as a world wonder. \n  \nFree and open to the public. Sponsored by the Archaeological Institute of America and the UCSB Classics and History Departments. \n\n 
URL:https://history.ucsb.edu/events/the-hanging-garden-of-babylon-an-elusive-world-wonder-traced/
LOCATION:Karpeles Manuscript Library\, 21 West Anapamu Street\, Santa Barbara\, CA\, United States
ATTACH;FMTTYPE=image/jpeg:https://history.ucsb.edu/wp-content/uploads/The-Mystery-of-the-Hanging-Garden-of-Babylon.jpg
GEO:34.4225149;-119.7048421
X-APPLE-STRUCTURED-LOCATION;VALUE=URI;X-ADDRESS=Karpeles Manuscript Library 21 West Anapamu Street Santa Barbara CA United States;X-APPLE-RADIUS=500;X-TITLE=21 West Anapamu Street:geo:-119.7048421,34.4225149
END:VEVENT
END:VCALENDAR