BEGIN:VCALENDAR
VERSION:2.0
PRODID:-//Department of History, UC Santa Barbara - ECPv6.15.12.1//NONSGML v1.0//EN
CALSCALE:GREGORIAN
METHOD:PUBLISH
X-ORIGINAL-URL:https://history.ucsb.edu
X-WR-CALDESC:Events for Department of History, UC Santa Barbara
REFRESH-INTERVAL;VALUE=DURATION:PT1H
X-Robots-Tag:noindex
X-PUBLISHED-TTL:PT1H
BEGIN:VTIMEZONE
TZID:America/Denver
BEGIN:DAYLIGHT
TZOFFSETFROM:-0700
TZOFFSETTO:-0600
TZNAME:MDT
DTSTART:20140309T090000
END:DAYLIGHT
BEGIN:STANDARD
TZOFFSETFROM:-0600
TZOFFSETTO:-0700
TZNAME:MST
DTSTART:20141102T080000
END:STANDARD
BEGIN:DAYLIGHT
TZOFFSETFROM:-0700
TZOFFSETTO:-0600
TZNAME:MDT
DTSTART:20150308T090000
END:DAYLIGHT
BEGIN:STANDARD
TZOFFSETFROM:-0600
TZOFFSETTO:-0700
TZNAME:MST
DTSTART:20151101T080000
END:STANDARD
BEGIN:DAYLIGHT
TZOFFSETFROM:-0700
TZOFFSETTO:-0600
TZNAME:MDT
DTSTART:20160313T090000
END:DAYLIGHT
BEGIN:STANDARD
TZOFFSETFROM:-0600
TZOFFSETTO:-0700
TZNAME:MST
DTSTART:20161106T080000
END:STANDARD
END:VTIMEZONE
BEGIN:VEVENT
DTSTART;TZID=America/Denver:20151013T160000
DTEND;TZID=America/Denver:20151013T173000
DTSTAMP:20260419T165009
CREATED:20151006T170858Z
LAST-MODIFIED:20151016T220502Z
UID:10002027-1444752000-1444757400@history.ucsb.edu
SUMMARY:Laura Nenzi\, Researching the Margins: Challenges and Consequences of Embarking on a Microhistory Project
DESCRIPTION:Speaker: \nLaura Nenzi  (Ph.D. History\, UC Santa Barbara\, 2004)\nAssociate Professor\, University of Tennessee\, Knoxville \n\n  \nEvent Description: \nLaura Nenzi\, one of our very own (2004 PhD) is returning to UCSB to give a lecture about her recent (2015) second book The Chaos and Cosmos of Kurosawa Tokiko. The talk will focus on the process of researching\, writing and then selling to a publisher a micro-history of an itinerant saleswoman of needles and later school teacher of nineteenth-century Japan. \n“Researching the margins presents not one but two challenges. First\, and perhaps most obvious\, how do we do it? Second\, how do we sell it? It is to this second challenge that I wish to turn. The dreaded “so what?” question is one every historian must be prepared to answer\, but it seems especially relevant when writing about unrepresentative\, irrelevant individuals–the extras on the historical stage.  Based on my recent book on the rural teacher and oracle Kurosawa Tokiko (1806-1890)\, a self-described “base-born nobody” who attempted to change the course of late-Tokugawa history and failed\, this presentation offers reflections on the bumpy process of writing\, and selling\, a work of microhistory in the age of the global.” \nCosponsored by the departments of History and East Asian Language and Cultural Studies\, as well as the RE-inventing Japan RFG (IHC) and the East Asia Center.
URL:https://history.ucsb.edu/events/laura-nenzi-researching-the-margins-challenges-and-consequences-of-embarking-on-a-microhistory-project/
LOCATION:McCune Conference Room (HSSB 6020)\, Humanities and Social Sciences Bldg\, Santa Barbara\, CA\, 93106\, United States
CATEGORIES:Public Lecture
ATTACH;FMTTYPE=image/jpeg:https://history.ucsb.edu/wp-content/uploads/Kurosawa-Tokiko-Book-Cover.jpe
GEO:34.4139682;-119.8503034
X-APPLE-STRUCTURED-LOCATION;VALUE=URI;X-ADDRESS=McCune Conference Room (HSSB 6020) Humanities and Social Sciences Bldg Santa Barbara CA 93106 United States;X-APPLE-RADIUS=500;X-TITLE=Humanities and Social Sciences Bldg:geo:-119.8503034,34.4139682
END:VEVENT
BEGIN:VEVENT
DTSTART;TZID=America/Denver:20151016T130000
DTEND;TZID=America/Denver:20151016T150000
DTSTAMP:20260419T165009
CREATED:20151014T185205Z
LAST-MODIFIED:20151016T213445Z
UID:10002388-1445000400-1445007600@history.ucsb.edu
SUMMARY:Susan Levine\, "The Moral Challenge of Abundance": Humanitarianism and the Rise of the Food Aid Complex after World War II
DESCRIPTION:Speaker:\nSusan Levine\nProfessor of History at the University of Illinois\, Chicago\n\nEvent Description:\nThe Colloquium on Work\, Labor\, and Political Economy inaugurates the fall workshop series with a talk on October 16 by Susan Levine\, Professor of History at the University of Illinois\, Chicago. She offers a paper\, “‘The Moral Challenge of Abundance’: Humanitarianism and the Rise of the Food Aid Complex after World War II.” Her most recent book is School Lunch Politics: The Surprising History of America’s Favorite Welfare Program (2010). Her presentation takes place on Friday\, October 16 at 1 p.m. in Humanities and Social Science Building Room 4041 on the UCSB campus.\n\nA copy of Professor Levine’s paper can be found at her talk announcement here: http://www.history.ucsb.edu/labor/news/event/412 \nA light lunch will be served.
URL:https://history.ucsb.edu/events/colloquium-on-work-labor-and-political-economy-professor-susan-levine-lecture-on-the-moral-challenge-of-abundance-humanitarianism-and-the-rise-of-the-food-aid-complex-after-world-war-ii/
LOCATION:HSSB 4020\, University of California Santa Barbara\, Santa Barbara\, CA\, 93106\, United States
ATTACH;FMTTYPE=image/jpeg:https://history.ucsb.edu/wp-content/uploads/levinecrop.jpg
GEO:34.4139629;-119.848947
X-APPLE-STRUCTURED-LOCATION;VALUE=URI;X-ADDRESS=HSSB 4020 University of California Santa Barbara Santa Barbara CA 93106 United States;X-APPLE-RADIUS=500;X-TITLE=University of California Santa Barbara:geo:-119.848947,34.4139629
END:VEVENT
BEGIN:VEVENT
DTSTART;TZID=America/Denver:20151016T163000
DTEND;TZID=America/Denver:20151016T180000
DTSTAMP:20260419T165009
CREATED:20151013T163008Z
LAST-MODIFIED:20151016T214319Z
UID:10002372-1445013000-1445018400@history.ucsb.edu
SUMMARY:Current Immigration Crises in Historical Perspective
DESCRIPTION:The History Department will be hosting a panel for this year’s annual Parents’ and Family Weekend titled “Current Immigration Crises in Historical Perspective.” The panelists will be Adam Sabra\, Salim Yaqub\, Harold Marcuse\, and Verónica Castillo-Muñoz. See below for additional information.
URL:https://history.ucsb.edu/events/current-immigration-crises-in-historical-perspective/
LOCATION:McCune Conference Room\, Humanities & Social Sciences Building\, University of California\, Santa Barbara\, Santa Barbara\, CA\, United States
GEO:34.4139629;-119.848947
X-APPLE-STRUCTURED-LOCATION;VALUE=URI;X-ADDRESS=McCune Conference Room Humanities & Social Sciences Building University of California Santa Barbara Santa Barbara CA United States;X-APPLE-RADIUS=500;X-TITLE=Humanities & Social Sciences Building\, University of California\, Santa Barbara:geo:-119.848947,34.4139629
END:VEVENT
END:VCALENDAR