BEGIN:VCALENDAR
VERSION:2.0
PRODID:-//Department of History, UC Santa Barbara - ECPv6.15.12.1//NONSGML v1.0//EN
CALSCALE:GREGORIAN
METHOD:PUBLISH
X-WR-CALNAME:Department of History, UC Santa Barbara
X-ORIGINAL-URL:https://history.ucsb.edu
X-WR-CALDESC:Events for Department of History, UC Santa Barbara
REFRESH-INTERVAL;VALUE=DURATION:PT1H
X-Robots-Tag:noindex
X-PUBLISHED-TTL:PT1H
BEGIN:VTIMEZONE
TZID:America/Denver
BEGIN:DAYLIGHT
TZOFFSETFROM:-0700
TZOFFSETTO:-0600
TZNAME:MDT
DTSTART:20140309T090000
END:DAYLIGHT
BEGIN:STANDARD
TZOFFSETFROM:-0600
TZOFFSETTO:-0700
TZNAME:MST
DTSTART:20141102T080000
END:STANDARD
BEGIN:DAYLIGHT
TZOFFSETFROM:-0700
TZOFFSETTO:-0600
TZNAME:MDT
DTSTART:20150308T090000
END:DAYLIGHT
BEGIN:STANDARD
TZOFFSETFROM:-0600
TZOFFSETTO:-0700
TZNAME:MST
DTSTART:20151101T080000
END:STANDARD
BEGIN:DAYLIGHT
TZOFFSETFROM:-0700
TZOFFSETTO:-0600
TZNAME:MDT
DTSTART:20160313T090000
END:DAYLIGHT
BEGIN:STANDARD
TZOFFSETFROM:-0600
TZOFFSETTO:-0700
TZNAME:MST
DTSTART:20161106T080000
END:STANDARD
END:VTIMEZONE
BEGIN:VEVENT
DTSTART;TZID=America/Denver:20150923T000000
DTEND;TZID=America/Denver:20150923T000000
DTSTAMP:20260419T232237
CREATED:20150928T112909Z
LAST-MODIFIED:20150928T112909Z
UID:10002025-1442966400-1442966400@history.ucsb.edu
SUMMARY:Department of History 2015-2016 New Undergraduate Majors Meeting
DESCRIPTION:This is a great opportunity for the 2015-2016 new undergraduate majors and those interested in the History\, Medieval Studies\, and the History of Public Policy majors and the History and Labor Studies minors to meet some of the Department of History faculty. Students will make connections with faculty and with other students and learn about the Department of History. Students will learn about the national History honors society Phi Alpha Theta\, the History of Public Policy major and meet the faculty advisor for this major\, meet the Chair of the Department of History\, meet the Director of Undergraduate Studies and other faculty members who will speak about their areas of specialty. This is an opportune time for new majors and all students interested in the Department of History to interact with faculty on a personal basis.  \nmig 9/8/15
URL:https://history.ucsb.edu/events/department-of-history-2015-2016-new-undergraduate-majors-meeting/
LOCATION:CA
END:VEVENT
BEGIN:VEVENT
DTSTART;TZID=America/Denver:20150924T000000
DTEND;TZID=America/Denver:20150924T000000
DTSTAMP:20260419T232237
CREATED:20150928T112857Z
LAST-MODIFIED:20150928T112857Z
UID:10002248-1443052800-1443052800@history.ucsb.edu
SUMMARY:Fall 2014 Instruction Begins
DESCRIPTION:Classes begin on Thursday\, September 24\, and end on Friday\, December 4\, 2015.\nWednesday\, November 11 Veterans’ Day holiday. \nNovember 26-27 Thanksgiving holidays \nNovember 30 – December 4\nExaminations are strongly discouraged and mandatory non-instructional activities require advance approval from the Office of Student Life. \nhm 7/19/15
URL:https://history.ucsb.edu/events/fall-2014-instruction-begins/
LOCATION:CA
END:VEVENT
BEGIN:VEVENT
DTSTART;TZID=America/Denver:20150924T090000
DTEND;TZID=America/Denver:20150926T170000
DTSTAMP:20260419T232237
CREATED:20151019T185147Z
LAST-MODIFIED:20151024T083438Z
UID:10002063-1443085200-1443286800@history.ucsb.edu
SUMMARY:Beyond the New Deal Order Conference
DESCRIPTION:Conference Description:\nWhen Steve Fraser and Gary Gerstle edited The Rise and Fall of the New Deal Order in 1989\, they made the concept of a political and social “order” central to an interpretative framework that reperiodized U.S. history\, from the election of Franklin Roosevelt\, through Lyndon Johnson’s Great Society and on to the Ronald Reagan’s victory in 1980. The New Deal was not just a presidential moment\, but a far larger construction – a combination of ideas\, policies\, institutions\, cultural norms and electoral dynamics – that spanned several decades and sustained a hegemonic governing regime. The Rise and Fall of the New Deal Order  offered a unique way to conceptualize the history of social reform and political conflict in the 20th century\, and it quickly emerged as the dominant narrative within and against which a new generation of scholars have sought to investigate the foundation\, evolution\, limits and decline of the New Deal. More than a quarter century after the book’s appearance\, the concept of a multi-decade\, political-social New Deal order still pervades our historical understanding of 20th century America. \n  \nOur conference\, “Beyond the New Deal Order\,” draws upon the new ways of thinking about politics\, ideas\, economy\, gender\, race and ethnicity\, and the U.S. role in the world that have emerged in recent historical scholarship to interrogate the foundational suppositions put forward by Fraser\, Gerstle and their co-authors more than a quarter century ago. Is the concept of a New Deal order still a viable way of framing the reform impulses unleashed in the Depression decade and continuing through the 1960s and even after? How does the New Deal order fit into the larger sweep of American history\, including what historian Richard Hofstader once called “the American political tradition?” And finally\, did the New Deal order actually fall\, or\, given the demographic reconfiguration of the American electorate and the emergence of movements and coalitions organized outside or in opposition to the New Deal framework\, would “transformation” rather than “fall” be a better word to describe how such an order continues to function in the 21st century? \n  \nConference Details: \n\nThe registration fees are $20 for students and part-time workers\, and $60 for those employed full time. The registration fee will cover all of the food for the conference. Please make checks payable to the Regents of the University of California and mail to: Kristoffer Smemo\, Department of History\, Humanities and Social Sciences Building 4000\, University of California\, Santa Barbara\, Santa Barbara CA\, 93106-9410. Those not presenting at the conference are welcome to attend. They should register as well. \n  \nThose presenting papers should e-mail Kit Smemo (ksmemo@gmail.com) a draft by September 1. We will post them\, with a password\, on the Conference web page. \n  \nA block of rooms have been reserved at the Best Western Plus South Coast Inn\, 5620 Calle Real\, Goleta\, CA 93117; phone (805) 967-3200. Please make a reservation and mention to them that you will be participating in the New Deal conference sponsored by the Department of History/Center for the Study of Work\, Labor\, and Democracy at UCSB. If you plan on flying\, we recommend you book a flight as soon is practicable. Use the airport at Santa Barbara (SBA)\, which is right next to the campus. We will help coordinate transportation to and from the airport. \n\n  \nConference Website:\nhttp://www.history.ucsb.edu/projects/new-deal/ \n  \nConference Program:\nhttp://www.history.ucsb.edu/projects/new-deal/wp-content/uploads/conference_schedule-revised-9-22-2015withcover.pdf
URL:https://history.ucsb.edu/events/beyond-the-new-deal-order-conference/
LOCATION:McCune Conference Room\, Humanities & Social Sciences Building\, University of California\, Santa Barbara\, Santa Barbara\, CA\, United States
CATEGORIES:Conference
ATTACH;FMTTYPE=image/jpeg:https://history.ucsb.edu/wp-content/uploads/Beyond-the-New-Deal-Image.jpg
GEO:34.4139629;-119.848947
X-APPLE-STRUCTURED-LOCATION;VALUE=URI;X-ADDRESS=McCune Conference Room Humanities & Social Sciences Building University of California Santa Barbara Santa Barbara CA United States;X-APPLE-RADIUS=500;X-TITLE=Humanities & Social Sciences Building\, University of California\, Santa Barbara:geo:-119.848947,34.4139629
END:VEVENT
END:VCALENDAR