BEGIN:VCALENDAR
VERSION:2.0
PRODID:-//Department of History, UC Santa Barbara - ECPv6.15.12.1//NONSGML v1.0//EN
CALSCALE:GREGORIAN
METHOD:PUBLISH
X-WR-CALNAME:Department of History, UC Santa Barbara
X-ORIGINAL-URL:https://history.ucsb.edu
X-WR-CALDESC:Events for Department of History, UC Santa Barbara
REFRESH-INTERVAL;VALUE=DURATION:PT1H
X-Robots-Tag:noindex
X-PUBLISHED-TTL:PT1H
BEGIN:VTIMEZONE
TZID:America/Los_Angeles
BEGIN:DAYLIGHT
TZOFFSETFROM:-0800
TZOFFSETTO:-0700
TZNAME:PDT
DTSTART:20200308T100000
END:DAYLIGHT
BEGIN:STANDARD
TZOFFSETFROM:-0700
TZOFFSETTO:-0800
TZNAME:PST
DTSTART:20201101T090000
END:STANDARD
BEGIN:DAYLIGHT
TZOFFSETFROM:-0800
TZOFFSETTO:-0700
TZNAME:PDT
DTSTART:20210314T100000
END:DAYLIGHT
BEGIN:STANDARD
TZOFFSETFROM:-0700
TZOFFSETTO:-0800
TZNAME:PST
DTSTART:20211107T090000
END:STANDARD
BEGIN:DAYLIGHT
TZOFFSETFROM:-0800
TZOFFSETTO:-0700
TZNAME:PDT
DTSTART:20220313T100000
END:DAYLIGHT
BEGIN:STANDARD
TZOFFSETFROM:-0700
TZOFFSETTO:-0800
TZNAME:PST
DTSTART:20221106T090000
END:STANDARD
END:VTIMEZONE
BEGIN:VEVENT
DTSTART;TZID=America/Los_Angeles:20210110T160000
DTEND;TZID=America/Los_Angeles:20210110T160000
DTSTAMP:20260422T153831
CREATED:20210107T070713Z
LAST-MODIFIED:20210107T070713Z
UID:10002329-1610294400-1610294400@history.ucsb.edu
SUMMARY:Miroslava Chávez-García\, "Migrant Longing"
DESCRIPTION:UCSB History Associates has partnered with the Santa Barbara Trust for Historic Preservation to present a public lecture by UCSB Professor of History Miroslava Chávez-García.  \nDrawing upon a personal collection of more than 300 letters exchanged between her parents and other family members across the U.S.-Mexico border\, Professor Chávez-García recreates and gives meaning to the hope\, fear\, and longing migrants experienced in their everyday lives both “here” and “there” (aqui y alla). As private sources of communication hidden from public consumption and historical research\, the letters provide a rare glimpse into the deeply emotional\, personal\, and social lives of ordinary Mexican men and women as recorded in their immediate\, firsthand accounts. Chávez-García demonstrates not only how migrants struggled to maintain their sense of humanity in el norte but also how those remaining at home made sense of their changing identities in response to the loss of loved ones who sometimes left for weeks\, months\, or years at a time\, or simply never returned. \nPlease register for this Zoom event in advance at this link. To download the event flyer\, click here.
URL:https://history.ucsb.edu/events/miroslava-chavez-garcia-migrant-longing/
LOCATION:Zoom\, CA
CATEGORIES:History Associates
ATTACH;FMTTYPE=image/jpeg:https://history.ucsb.edu/wp-content/uploads/2021-Migrant-Longing-flyer.jpg
END:VEVENT
BEGIN:VEVENT
DTSTART;TZID=America/Los_Angeles:20210115T120000
DTEND;TZID=America/Los_Angeles:20210115T133000
DTSTAMP:20260422T153831
CREATED:20210111T040040Z
LAST-MODIFIED:20230402T203939Z
UID:10002846-1610712000-1610717400@history.ucsb.edu
SUMMARY:Public History Colloquium Event–"Public Lands\, Public History: Putting History to Work for the United States Forest Service"
DESCRIPTION:Join the History Department’s Colloquium in Public History on Friday\, January 15 at noon for a Zoom talk by Leisl Carr Childers and Michael Childers (Colorado State University). \nChilders and Carr Childers will discuss their current project\, a new history of the USDA Forest Service from 1960-2020\, and the historical methodologies that undergird their work. In particular\, they will address what it means to work in applied history\, how applied history works (or does not work) with regard to public lands management agencies\, and how public history\, applied history\, and working as a public intellectual speaks to history taking a public turn. \nRegister in advance for this event here. You can download the event flyer at this link. \nRecommended Readings: \nBundyville\, Season ONE—podcast (applied history work by Leisl Carr Childers)\nhttps://longreads.com/bundyville/season-one/ \nImperiled Promise: The State of History in our National Parks\nhttps://www.oah.org/site/assets/files/10189/imperiled_promise.pdf \nPatricia Limerick\, “Applied History\, Knocked for a Loop but Neither Down Nor Out\,” and “Where Bipartisanship Finds a Refuge: A Rendezvous with the Western Governors’ Association\,” both in her “Not my first Rodeo” blog: \nhttps://www.centerwest.org/archives/23851 \nhttps://www.centerwest.org/archives/23429 \nAbout the speakers:\n• https://libarts.source.colostate.edu/csu-faculty-writing-history-of-the-modern-u-s-forest-service/\n• https://leislcarrchilders.org \n• https://michaelwchilders.com/author/michaelwchilders/
URL:https://history.ucsb.edu/events/public-history-colloquium-event-public-lands-public-history-putting-history-to-work-for-the-united-states-forest-service/
LOCATION:Zoom\, CA
CATEGORIES:Colloquium Event
ATTACH;FMTTYPE=image/jpeg:https://history.ucsb.edu/wp-content/uploads/USFS-History-Project.jpg
END:VEVENT
END:VCALENDAR