BEGIN:VCALENDAR
VERSION:2.0
PRODID:-//Department of History, UC Santa Barbara - ECPv6.15.12.1//NONSGML v1.0//EN
CALSCALE:GREGORIAN
METHOD:PUBLISH
X-WR-CALNAME:Department of History, UC Santa Barbara
X-ORIGINAL-URL:https://history.ucsb.edu
X-WR-CALDESC:Events for Department of History, UC Santa Barbara
REFRESH-INTERVAL;VALUE=DURATION:PT1H
X-Robots-Tag:noindex
X-PUBLISHED-TTL:PT1H
BEGIN:VTIMEZONE
TZID:America/Los_Angeles
BEGIN:DAYLIGHT
TZOFFSETFROM:-0800
TZOFFSETTO:-0700
TZNAME:PDT
DTSTART:20180311T100000
END:DAYLIGHT
BEGIN:STANDARD
TZOFFSETFROM:-0700
TZOFFSETTO:-0800
TZNAME:PST
DTSTART:20181104T090000
END:STANDARD
BEGIN:DAYLIGHT
TZOFFSETFROM:-0800
TZOFFSETTO:-0700
TZNAME:PDT
DTSTART:20190310T100000
END:DAYLIGHT
BEGIN:STANDARD
TZOFFSETFROM:-0700
TZOFFSETTO:-0800
TZNAME:PST
DTSTART:20191103T090000
END:STANDARD
BEGIN:DAYLIGHT
TZOFFSETFROM:-0800
TZOFFSETTO:-0700
TZNAME:PDT
DTSTART:20200308T100000
END:DAYLIGHT
BEGIN:STANDARD
TZOFFSETFROM:-0700
TZOFFSETTO:-0800
TZNAME:PST
DTSTART:20201101T090000
END:STANDARD
BEGIN:DAYLIGHT
TZOFFSETFROM:-0800
TZOFFSETTO:-0700
TZNAME:PDT
DTSTART:20210314T100000
END:DAYLIGHT
BEGIN:STANDARD
TZOFFSETFROM:-0700
TZOFFSETTO:-0800
TZNAME:PST
DTSTART:20211107T090000
END:STANDARD
END:VTIMEZONE
BEGIN:VEVENT
DTSTART;TZID=America/Los_Angeles:20191011T130000
DTEND;TZID=America/Los_Angeles:20191011T130000
DTSTAMP:20260419T052729
CREATED:20190925T200058Z
LAST-MODIFIED:20190924T185815Z
UID:10002800-1570798800-1570798800@history.ucsb.edu
SUMMARY:Colin Gordon\, "Citizen Brown: Race\, Democracy\, and Inequality in the St. Louis Suburbs"
DESCRIPTION:As part of the The Center for the Study of Work\, Labor\, and Democracy‘s “The Political Economy of Racial Inequality” Fall Quarter speaker series\, Colin Gordon (History\, University of Iowa) will present “Citizen Brown: Race\, Democracy\, and Inequality in the St. Louis Suburbs.” Gordon is an historian of US public policy\, political economy\, and urban history. He is the author of Mapping Decline: St. Louis and the Fate of the American City (2008)\, Dead on Arrival: The Politics of Health in Twentieth Century America (2003)\, and New Deals: Business\, Labor\, and Politics\, 1920-1935 (1994).
URL:https://history.ucsb.edu/events/colin-gordon-citizen-brown-race-democracy-and-inequality-in-the-st-louis-suburbs/
LOCATION:HSSB 4041
CATEGORIES:Colloquium Event
ATTACH;FMTTYPE=image/jpeg:https://history.ucsb.edu/wp-content/uploads/Gordon-Colin-2018-edited.jpg
END:VEVENT
BEGIN:VEVENT
DTSTART;TZID=America/Los_Angeles:20191108T130000
DTEND;TZID=America/Los_Angeles:20191108T130000
DTSTAMP:20260419T052729
CREATED:20190925T200023Z
LAST-MODIFIED:20190924T192110Z
UID:10002797-1573218000-1573218000@history.ucsb.edu
SUMMARY:Eric Rauchway\, "A New Deal Voting Rights Case: A Strategy of the Roosevelt Justice Department\, 1939-1941"
DESCRIPTION:As part of the The Center for the Study of Work\, Labor\, and Democracy‘s “The Political Economy of Racial Inequality” Fall Quarter speaker series\, Eric Rauchway (History\, University of California Davis) will present “A New Deal Voting Rights Case: A Strategy of the Roosevelt Justice Department\, 1939-1941.” Rauchway is the author of Murdering McKinley: The Making of Theodore Roosevelt’s America (2003)\, The Money Makers: How Roosevelt and Keynes Ended the Depression\, Defeated Fascism\, and Secured a Prosperous Peace (2015)\, and Winter War: Hoover\, Roosevelt\, and the First Clash over the New Deal (2018).
URL:https://history.ucsb.edu/events/eric-rauchway-a-new-deal-voting-rights-case-a-strategy-of-the-roosevelt-justice-department-1939-1941/
LOCATION:HSSB 4041\, University of California Santa Barbara\, Santa Barbara\, CA\, 93106\, United States
CATEGORIES:Colloquium Event
ATTACH;FMTTYPE=image/jpeg:https://history.ucsb.edu/wp-content/uploads/Eric-Rauchway.jpg
GEO:34.4142953;-119.8474491
X-APPLE-STRUCTURED-LOCATION;VALUE=URI;X-ADDRESS=HSSB 4041 University of California Santa Barbara Santa Barbara CA 93106 United States;X-APPLE-RADIUS=500;X-TITLE=University of California Santa Barbara:geo:-119.8474491,34.4142953
END:VEVENT
BEGIN:VEVENT
DTSTART;TZID=America/Los_Angeles:20200228T111500
DTEND;TZID=America/Los_Angeles:20200228T111500
DTSTAMP:20260419T052729
CREATED:20200222T194222Z
LAST-MODIFIED:20200222T202355Z
UID:10002821-1582888500-1582888500@history.ucsb.edu
SUMMARY:Brandon Seto\, "Doctorates Without Borders: Careers in Government\, Advocacy\, and Communication for PhDs"
DESCRIPTION:On February 28\, Dr. Brandon Seto\, Senior Floor Consultant to California State Assembly Speaker Anthony Rendon (and a 2010 UCSB history PhD)\, will give a talk entitled “Doctorates Without Borders: Careers in Government\, Advocacy\, and Communication for PhDs\,” about employment opportunities outside academia available to holders of PhDs. \nThe talk\, which is sponsored by UCSB’s Public History Program\, is free and open to the public\, and a delicious lunch will be served. All are welcome to attend\, and graduate students are especially encouraged to do so. \nClick here to download the flyer for this event.
URL:https://history.ucsb.edu/events/brandon-seto-doctorates-without-borders/
LOCATION:HSSB 4020\, University of California Santa Barbara\, Santa Barbara\, CA\, 93106\, United States
CATEGORIES:Public Lecture
ATTACH;FMTTYPE=application/pdf:https://history.ucsb.edu/wp-content/uploads/Seto-event-flyer-2.pdf
GEO:34.4139629;-119.848947
X-APPLE-STRUCTURED-LOCATION;VALUE=URI;X-ADDRESS=HSSB 4020 University of California Santa Barbara Santa Barbara CA 93106 United States;X-APPLE-RADIUS=500;X-TITLE=University of California Santa Barbara:geo:-119.848947,34.4139629
END:VEVENT
END:VCALENDAR