BEGIN:VCALENDAR
VERSION:2.0
PRODID:-//Department of History, UC Santa Barbara - ECPv6.15.12.1//NONSGML v1.0//EN
CALSCALE:GREGORIAN
METHOD:PUBLISH
X-WR-CALNAME:Department of History, UC Santa Barbara
X-ORIGINAL-URL:https://history.ucsb.edu
X-WR-CALDESC:Events for Department of History, UC Santa Barbara
REFRESH-INTERVAL;VALUE=DURATION:PT1H
X-Robots-Tag:noindex
X-PUBLISHED-TTL:PT1H
BEGIN:VTIMEZONE
TZID:America/Denver
BEGIN:DAYLIGHT
TZOFFSETFROM:-0700
TZOFFSETTO:-0600
TZNAME:MDT
DTSTART:20140309T090000
END:DAYLIGHT
BEGIN:STANDARD
TZOFFSETFROM:-0600
TZOFFSETTO:-0700
TZNAME:MST
DTSTART:20141102T080000
END:STANDARD
BEGIN:DAYLIGHT
TZOFFSETFROM:-0700
TZOFFSETTO:-0600
TZNAME:MDT
DTSTART:20150308T090000
END:DAYLIGHT
BEGIN:STANDARD
TZOFFSETFROM:-0600
TZOFFSETTO:-0700
TZNAME:MST
DTSTART:20151101T080000
END:STANDARD
BEGIN:DAYLIGHT
TZOFFSETFROM:-0700
TZOFFSETTO:-0600
TZNAME:MDT
DTSTART:20160313T090000
END:DAYLIGHT
BEGIN:STANDARD
TZOFFSETFROM:-0600
TZOFFSETTO:-0700
TZNAME:MST
DTSTART:20161106T080000
END:STANDARD
END:VTIMEZONE
BEGIN:VTIMEZONE
TZID:America/Los_Angeles
BEGIN:DAYLIGHT
TZOFFSETFROM:-0800
TZOFFSETTO:-0700
TZNAME:PDT
DTSTART:20170312T100000
END:DAYLIGHT
BEGIN:STANDARD
TZOFFSETFROM:-0700
TZOFFSETTO:-0800
TZNAME:PST
DTSTART:20171105T090000
END:STANDARD
BEGIN:DAYLIGHT
TZOFFSETFROM:-0800
TZOFFSETTO:-0700
TZNAME:PDT
DTSTART:20180311T100000
END:DAYLIGHT
BEGIN:STANDARD
TZOFFSETFROM:-0700
TZOFFSETTO:-0800
TZNAME:PST
DTSTART:20181104T090000
END:STANDARD
BEGIN:DAYLIGHT
TZOFFSETFROM:-0800
TZOFFSETTO:-0700
TZNAME:PDT
DTSTART:20190310T100000
END:DAYLIGHT
BEGIN:STANDARD
TZOFFSETFROM:-0700
TZOFFSETTO:-0800
TZNAME:PST
DTSTART:20191103T090000
END:STANDARD
END:VTIMEZONE
BEGIN:VEVENT
DTSTART;TZID=America/Denver:20151109T193000
DTEND;TZID=America/Denver:20151109T213000
DTSTAMP:20260423T111614
CREATED:20151103T005809Z
LAST-MODIFIED:20240417T172855Z
UID:10002069-1447097400-1447104600@history.ucsb.edu
SUMMARY:Film Showing: Run Boy Run
DESCRIPTION:Kristallnacht Commemoration and Santa Barbara Premiere\nWinner of 10 Film Festival Audience Awards \n  \nA superlative saga of courage and compassion\, Run Boy Run tells the extraordinary true story of a Polish boy who seeks the kindness of others in his solitary struggle to outlast the Nazi occupation and keep alive his Jewish faith. \nEscaping the Warsaw ghetto at the behest of his father\, nine-year old Srulik (movingly portrayed by twin child actors Andrzej and Kamil Tkacz) flees to the woods. There\, he learns to hide from SS patrols and scour for food\, until loneliness and the harsh onset of winter drive him back to civilization. Taken in by a kindhearted farmer’s wife (Elisabeth Duda)\, he is given shelter and a new identity. Passing himself off as Jurek\, a Christian war orphan\, the intrepid boy traverses the countryside from village to village\, working as a farmhand under an ever-present threat of persecution. Some will help him survive and others will betray him. Just when it seems his childhood memories and identity could be lost forever\, Jurek’s harrowing journey culminates in a powerhouse conclusion and postscript. \nAn unforgettable cinematic experience featuring exceptional performances\, arresting cinematography and transcendent musical score\, Run Boy Run is directed by Academy Award-winner Pepe Danquart and based on the bestselling Holocaust novel by Israeli author Uri Orlev. Newcomer Andy Tkacz plays Jurek together with a cast that includes Katarzyna Bargielowska (The Pianist)\, Rainer Bock (The White Ribbon)\, Jeanette Hain (Poll) and Itay Tiran (Lebanon).
URL:https://history.ucsb.edu/events/run-boy-run-film-screening/
LOCATION:Campbell Hall\, Building 538\, Santa Barbara\, CA\, 93106\, United States
CATEGORIES:Film Screening
ATTACH;FMTTYPE=image/jpeg:https://history.ucsb.edu/wp-content/uploads/runboyrun1.jpg
ORGANIZER;CN="Taubman Foundation Endowed Symposia in Jewish Studies":MAILTO:admin@ihc.ucsb.edu
GEO:34.4139629;-119.848947
X-APPLE-STRUCTURED-LOCATION;VALUE=URI;X-ADDRESS=Campbell Hall Building 538 Santa Barbara CA 93106 United States;X-APPLE-RADIUS=500;X-TITLE=Building 538:geo:-119.848947,34.4139629
END:VEVENT
BEGIN:VEVENT
DTSTART;TZID=America/Los_Angeles:20180207T170000
DTEND;TZID=America/Los_Angeles:20180207T183000
DTSTAMP:20260423T111614
CREATED:20180203T014841Z
LAST-MODIFIED:20180203T014841Z
UID:10002519-1518022800-1518028200@history.ucsb.edu
SUMMARY:Slave Revolt on Screen: The Haitian Revolution in Film and Video Games
DESCRIPTION:You are invited to join us for the third meeting of the Colloquium for Latin American and Caribbean History as we welcome Alyssa Goldstein Sepinwall from the California State University\, San Marcos who will be presenting a paper entitled “‘Slave Revolts on Screen: The Haitian Revolution in Film and Videogames”. \nThe lecture considers existing films and video games on the Haitian Revolution in light of anthropologist Michel-Rolph Trouillot’s arguments about the “unthinkability” of this event. It will compare existing cinematic representations of the Revolution to current historiography on the Revolution\, as well as to recent video games which touch upon slave revolt in colonial Saint-Domingue. Is it possible that despite conventional wisdom about video games representing the past simplistically\, that such games could offer a better depiction than existing films\, let alone many textbooks?  In examining video games as well as films\, the paper will consider larger issues about the representation of slavery and of slave revolt in twenty-first century popular culture. \nAlyssa Goldstein Sepinwall is professor of history at California State University San Marcos. Prof. Sepinwall’s research focuses on the late 18th and early 19th centuries\, particularly in France and Haiti.  Her scholarship centers on the origins of modern thinking about difference\, whether religious\, racial\, linguistic or gender. She published The Abbé Grégoire and the French Revolution: The Making of Modern Universalism (University of California Press\, 2005)\, Haitian History: New Perspectives (Routledge\, 2012) and many articles and book chapters. \nThe event is cosponsored by the Department of History\, the Center for Black Studies\, the Colloquium for Caribbean and Latin American History\, and the Slavery\, Captivity\, and the Meaning of Freedom RFG Interdisciplinary Humanities Center. \nDownload the flyer here
URL:https://history.ucsb.edu/events/slave-revolt-on-screen-the-haitian-revolution-in-film-and-video-games/
LOCATION:Engineering Science Building 1001\, United States
CATEGORIES:Paper Workshop,Public Lecture
GEO:37.09024;-95.712891
END:VEVENT
BEGIN:VEVENT
DTSTART;TZID=America/Los_Angeles:20180522T190000
DTEND;TZID=America/Los_Angeles:20180522T210000
DTSTAMP:20260423T111614
CREATED:20180517T162549Z
LAST-MODIFIED:20180517T162549Z
UID:10002553-1527015600-1527022800@history.ucsb.edu
SUMMARY:Film Screening & Discussion: Ghana's Electric Dreams
DESCRIPTION:Ghana’s Electric Dreams presents a history of the roots and wide-ranging impact of the famed hydroelectric Akosombo Dam\, Ghana’s most ambitious development project. R. Lane Clark (Independent Film Maker) and Stephan Miescher (History\, UCSB) will respond to comments from Boatema Boateng (Communication\, UC San Diego). Mona Damluji (Film and Media Studies\, UCSB) will moderate. \nGhana’s Electric Dreams was directed and edited by R. Lane Clark; produced by R. Lane Clark\, Stephan F. Miescher\, and France Winddance Twine. \nSponsored by the Blum Center for Global Poverty Alleviation and Sustainable Development. Co-sponsored by the departments of History\, Film and Media Studies\, and the IHC African Studies Research Focus Group. \nDownload flyer: GhanasElectricDreams2018May22
URL:https://history.ucsb.edu/events/film-screening-discussion-ghanas-electric-dreams/
LOCATION:Multicultural Center (MCC) Theater\, Multicultural Center\, Isla Vista\, CA\, 93117\, United States
GEO:34.4115271;-119.8466359
X-APPLE-STRUCTURED-LOCATION;VALUE=URI;X-ADDRESS=Multicultural Center (MCC) Theater Multicultural Center Isla Vista CA 93117 United States;X-APPLE-RADIUS=500;X-TITLE=Multicultural Center:geo:-119.8466359,34.4115271
END:VEVENT
END:VCALENDAR