BEGIN:VCALENDAR
VERSION:2.0
PRODID:-//Department of History, UC Santa Barbara - ECPv6.15.12.1//NONSGML v1.0//EN
CALSCALE:GREGORIAN
METHOD:PUBLISH
X-WR-CALNAME:Department of History, UC Santa Barbara
X-ORIGINAL-URL:https://history.ucsb.edu
X-WR-CALDESC:Events for Department of History, UC Santa Barbara
REFRESH-INTERVAL;VALUE=DURATION:PT1H
X-Robots-Tag:noindex
X-PUBLISHED-TTL:PT1H
BEGIN:VTIMEZONE
TZID:America/Los_Angeles
BEGIN:DAYLIGHT
TZOFFSETFROM:-0800
TZOFFSETTO:-0700
TZNAME:PDT
DTSTART:20180311T100000
END:DAYLIGHT
BEGIN:STANDARD
TZOFFSETFROM:-0700
TZOFFSETTO:-0800
TZNAME:PST
DTSTART:20181104T090000
END:STANDARD
BEGIN:DAYLIGHT
TZOFFSETFROM:-0800
TZOFFSETTO:-0700
TZNAME:PDT
DTSTART:20190310T100000
END:DAYLIGHT
BEGIN:STANDARD
TZOFFSETFROM:-0700
TZOFFSETTO:-0800
TZNAME:PST
DTSTART:20191103T090000
END:STANDARD
BEGIN:DAYLIGHT
TZOFFSETFROM:-0800
TZOFFSETTO:-0700
TZNAME:PDT
DTSTART:20200308T100000
END:DAYLIGHT
BEGIN:STANDARD
TZOFFSETFROM:-0700
TZOFFSETTO:-0800
TZNAME:PST
DTSTART:20201101T090000
END:STANDARD
BEGIN:DAYLIGHT
TZOFFSETFROM:-0800
TZOFFSETTO:-0700
TZNAME:PDT
DTSTART:20210314T100000
END:DAYLIGHT
BEGIN:STANDARD
TZOFFSETFROM:-0700
TZOFFSETTO:-0800
TZNAME:PST
DTSTART:20211107T090000
END:STANDARD
BEGIN:DAYLIGHT
TZOFFSETFROM:-0800
TZOFFSETTO:-0700
TZNAME:PDT
DTSTART:20220313T100000
END:DAYLIGHT
BEGIN:STANDARD
TZOFFSETFROM:-0700
TZOFFSETTO:-0800
TZNAME:PST
DTSTART:20221106T090000
END:STANDARD
END:VTIMEZONE
BEGIN:VEVENT
DTSTART;TZID=America/Los_Angeles:20191022T160000
DTEND;TZID=America/Los_Angeles:20191022T180000
DTSTAMP:20260419T181008
CREATED:20191010T173017Z
LAST-MODIFIED:20191014T221128Z
UID:10002804-1571760000-1571767200@history.ucsb.edu
SUMMARY:Elizabeth Buettner\, "Postcolonial Migration Meets European Integration: Britain in Comparative Perspective"
DESCRIPTION:Elizabeth Buettner\, Professor of Modern History at the University of Amsterdam\, will present her paper “Postcolonial Migration Meets European Integration: Britain in Comparative Perspective” on Tuesday\, October 22 at 4:00 in HSSB 4020. \nHow exceptional has Britain’s history of inward migration after 1945 been compared to that of other Western European countries? Like other former imperial powers\, Britain became home to many peoples from its former colonies and Commonwealth\, many of whom were not of European descent; moreover\, like many of its continental neighbors Britain too attracted migrants from other European countries. How did common responses to newcomers from outside Europe resemble or differ from attitudes towards foreign Europeans\, particularly those from within the European Economic Community/European Union? This paper will sketch out general issues and discuss changes over time\, not least by comparing earlier decades to developments occurring after EU’s eastward enlargement since 2004 that have culminated in Brexit. \nClick here to download the flyer for this event.
URL:https://history.ucsb.edu/events/elizabeth-buettner-postcolonial-migration-meets-european-integration-britain-in-comparative-perspective/
LOCATION:HSSB 4020\, University of California Santa Barbara\, Santa Barbara\, CA\, 93106\, United States
CATEGORIES:Public Lecture
ATTACH;FMTTYPE=image/png:https://history.ucsb.edu/wp-content/uploads/BOAC-Postcolonial-Migration-Buettner.png
GEO:34.4139629;-119.848947
X-APPLE-STRUCTURED-LOCATION;VALUE=URI;X-ADDRESS=HSSB 4020 University of California Santa Barbara Santa Barbara CA 93106 United States;X-APPLE-RADIUS=500;X-TITLE=University of California Santa Barbara:geo:-119.848947,34.4139629
END:VEVENT
BEGIN:VEVENT
DTSTART;TZID=America/Los_Angeles:20191025T130000
DTEND;TZID=America/Los_Angeles:20191025T150000
DTSTAMP:20260419T181008
CREATED:20190925T200030Z
LAST-MODIFIED:20191023T135728Z
UID:10002798-1572008400-1572015600@history.ucsb.edu
SUMMARY:Bernhard Rieger\, "Making Society Work Again: Workfare in Transnational Context since the 1960s""
DESCRIPTION:As part of the The Center for the Study of Work\, Labor\, and Democracy‘s “The Political Economy of Racial Inequality” Fall Quarter speaker series\, Bernhard Rieger (History\, University of Leiden) will present “Making Society Work Again: Workfare in Transnational Context since the 1960s”.” Rieger’s research examines European history within a comparative and transnational framework. His publications include Technology and the Culture of Modernity in Britain and Germany\, 1890-1945 (2009) and The People’s Car: A Global History of the Volkswagen Beetle (2013).
URL:https://history.ucsb.edu/events/bernhard-rieger/
LOCATION:HSSB 4041\, University of California Santa Barbara\, Santa Barbara\, CA\, 93106\, United States
CATEGORIES:Colloquium Event
ATTACH;FMTTYPE=image/png:https://history.ucsb.edu/wp-content/uploads/Berhnard-Rieger.png
GEO:34.4142953;-119.8474491
X-APPLE-STRUCTURED-LOCATION;VALUE=URI;X-ADDRESS=HSSB 4041 University of California Santa Barbara Santa Barbara CA 93106 United States;X-APPLE-RADIUS=500;X-TITLE=University of California Santa Barbara:geo:-119.8474491,34.4142953
END:VEVENT
BEGIN:VEVENT
DTSTART;TZID=America/Los_Angeles:20191031T120000
DTEND;TZID=America/Los_Angeles:20191031T120000
DTSTAMP:20260419T181008
CREATED:20191015T190641Z
LAST-MODIFIED:20191015T191922Z
UID:10002806-1572523200-1572523200@history.ucsb.edu
SUMMARY:Brad Bouley\, "To Catch a Witch: Gender\, Politics\, and Persecution in the European Past"
DESCRIPTION:As a special Halloween event\, Professor Brad Bouley will present “To Catch a Witch: Gender\, Politics\, and Persecution in the European Past.” Join us at noon on October 31 in the McCune Conference Room (HSSB 6020) for knowledge\, pizza\, and drinks. Undergraduates are especially welcome.
URL:https://history.ucsb.edu/events/brad-bouley-to-catch-a-witch-gender-politics-and-persecution-in-the-european-past/
LOCATION:McCune Conference Room (HSSB 6020)\, Humanities and Social Sciences Bldg\, Santa Barbara\, CA\, 93106\, United States
CATEGORIES:Public Lecture
ATTACH;FMTTYPE=image/png:https://history.ucsb.edu/wp-content/uploads/Witchcraft-Event.png
GEO:34.4139682;-119.8503034
X-APPLE-STRUCTURED-LOCATION;VALUE=URI;X-ADDRESS=McCune Conference Room (HSSB 6020) Humanities and Social Sciences Bldg Santa Barbara CA 93106 United States;X-APPLE-RADIUS=500;X-TITLE=Humanities and Social Sciences Bldg:geo:-119.8503034,34.4139682
END:VEVENT
BEGIN:VEVENT
DTSTART;TZID=America/Los_Angeles:20200208T140000
DTEND;TZID=America/Los_Angeles:20200208T153000
DTSTAMP:20260419T181008
CREATED:20200121T185645Z
LAST-MODIFIED:20200124T033933Z
UID:10002288-1581170400-1581175800@history.ucsb.edu
SUMMARY:Anna Rudolph\, "Queen Radegund and the Monarchy in Medieval Europe"
DESCRIPTION:Come hear Anna Rudolph‘s presentation on Queen Radegund (520AD – 587AD) – a royal sainted lady of Thuringia. Radegund was a princess and a war captive who became the unwilling queen of the Frankish Kingdom and one of the most beloved Saints of France. Radegund\, an extreme ascetic\, was widely believed to have the gift of healing. Venerated for centuries\, she has given us insights into the changing conventions of elite and royal women’s spirituality. Radegund is the patron saint of many churches in France and England\, with one priory dedicated to her memory\nbeing converted into the world-renowned Jesus College\, near Cambridge. \n\nJoin us for an afternoon of miracles\, warfare and intrigue as we illuminate the life of one of history’s most remarkable women. \nOriginal Medieval manuscripts will be on display. \nClick here to download the flyer for this event.
URL:https://history.ucsb.edu/events/anna-rudolph-queen-radegund-and-the-monarchy-in-medieval-europe/
LOCATION:Karpeles Manuscript Library\, 21 West Anapamu Street\, Santa Barbara\, CA\, United States
CATEGORIES:Public Lecture
ATTACH;FMTTYPE=application/pdf:https://history.ucsb.edu/wp-content/uploads/Radegund-1.pdf
GEO:34.4225149;-119.7048421
X-APPLE-STRUCTURED-LOCATION;VALUE=URI;X-ADDRESS=Karpeles Manuscript Library 21 West Anapamu Street Santa Barbara CA United States;X-APPLE-RADIUS=500;X-TITLE=21 West Anapamu Street:geo:-119.7048421,34.4225149
END:VEVENT
BEGIN:VEVENT
DTSTART;VALUE=DATE:20210429
DTEND;VALUE=DATE:20210501
DTSTAMP:20260419T181008
CREATED:20210428T033642Z
LAST-MODIFIED:20230203T154715Z
UID:10002874-1619654400-1619827199@history.ucsb.edu
SUMMARY:Interdisciplinary Conference on "Fallout: Chernobyl and the Ecology of Disaster"
DESCRIPTION:The interdisciplinary virtual conference Fallout: Chernobyl and the Ecology of Disaster will take place on Friday\, April 30\, 2021 at 9:00am-4:00pm (Pacific Time\, US & Canada)\, when an international slate of speakers representing a variety of disciplines will share their insights on the 35th anniversary of the Chernobyl disaster. \n \nThe day before\, an associated Carsey-Wolf Center virtual discussion of the award-winning documentary “The Babushkas of Chernobyl\,” with Director Holly Morris\, will take place on Thursday\, April 29\, 2021 at 4:00pm (Pacific Time\, US & Canada)\, before which registered participants can pre-screen the film. Information on registering for both events and the conference website are below:\n \nConference Website\n \nRegister for the Virtual Conference at 9am-4pm Pacific Time (US & Canada) on Friday\, April 30\, 2021\n \nRegister for the Carsey-Wolf Center Virtual Discussion at 4pm Pacific Time (US & Canada) on Thursday\, April\, 29\, 2021\n \nThirty-five years after the 1986 nuclear accident at Chernobyl\, the interdisciplinary virtual conference Fallout: Chernobyl and the Ecology of Disaster considers its afterlife and reverberations in various disciplines\, including culture and the arts. Situated at a watershed moment during the Cold War\, Chernobyl has spawned an unprecedented quantity of global responses from scientists\, writers\, filmmakers\, and artists\, and it has become a key moment for the global environmental movement. This conference views the accident and its aftermath in the context of broader global ecologies of disaster and considers how catastrophe is coded and understood — or fails to be understood — through the prism of science\, art\, literature\, and film. How do all these disciplines and discourses confront the disaster\, and where do they converge to produce the fiction\, or the truth\, of what we call “Chernobyl”? The conference brings together scholars and experts in Comparative Literature\, History\, Anthropology\, Environmental Studies\, Nuclear Engineering\, Medicine\, Art\, Film\, and Germanic and Slavic Studies.\n \nSponsored by the Division of Arts and Letters and the T. A. Barron Environmental Fund. Event partners include the Department of Germanic and Slavic Studies\, the\, and the Carsey-Wolf Center. Other sponsors include the Interdisciplinary Humanities Center\, Department of Global Studies\, Comparative Literature Program\, Environmental Studies\, Cold War Studies\, College of Creative Studies\, and History Department. (Rescheduled from April 2020 when it was postponed due to COVID-19.) 
URL:https://history.ucsb.edu/events/interdisciplinary-conference-on-fallout-chernobyl-and-the-ecology-of-disaster/
LOCATION:Zoom\, CA
CATEGORIES:Conference
ATTACH;FMTTYPE=image/jpeg:https://history.ucsb.edu/wp-content/uploads/Fallout-Chernobyl-Conference-page-001.jpg
END:VEVENT
BEGIN:VEVENT
DTSTART;TZID=America/Los_Angeles:20210506T160000
DTEND;TZID=America/Los_Angeles:20210506T160000
DTSTAMP:20260419T181008
CREATED:20210504T025939Z
LAST-MODIFIED:20230203T154658Z
UID:10002878-1620316800-1620316800@history.ucsb.edu
SUMMARY:Nicole Archambeau\, "War\, Plague & Confession: Stories of Survival from Fourteenth-Century Provence"
DESCRIPTION:The History Department is proud to welcome back alumna Dr. Nicole Archambeau (History\, Colorado State University) for a virtual talk based on her new book Souls under Siege: Stories of War\, Plague\, and Confession in Fourteenth-Century Provence. You can read a glowing review of Souls under Siege in the Los Angeles Review of Books. \nDr. Archambeau’s book and talk draw on a rich evidentiary base of 68 narrative testimonials from the canonization inquest for Countess Delphine de Puimichel\, which was held in the market town of Apt in 1363. Each witness in the inquest had lived through outbreaks of plague in 1348 and 1361\, as well as violence inflicted by mercenaries unemployed during truces in the Hundred Years’ War. Faced with an unprecedented cascade of crises\, the inhabitants of Provence relied on saints and healers\, their worldview connecting earthly disease and disaster to the struggle for their eternal souls. Their testimonies unexpectedly reveal the importance of faith and the role of affect in the healing of both body and soul. \nAdvance registration is required for this event. You can sign up here. \nClick here to download the flyer for Dr. Archambeau’s talk.
URL:https://history.ucsb.edu/events/nicole-archambeau-war-plague-confession-stories-of-survival-from-fourteenth-century-provence/
LOCATION:Zoom\, CA
CATEGORIES:Book Talk
ATTACH;FMTTYPE=image/jpeg:https://history.ucsb.edu/wp-content/uploads/archambeau.booktalkflyer-page-001.jpg
END:VEVENT
BEGIN:VEVENT
DTSTART;TZID=America/Los_Angeles:20210528T120000
DTEND;TZID=America/Los_Angeles:20210528T133000
DTSTAMP:20260419T181008
CREATED:20210428T161255Z
LAST-MODIFIED:20230203T154527Z
UID:10002875-1622203200-1622208600@history.ucsb.edu
SUMMARY:A Conversation on Early Modern Print Culture: Hilary Bernstein and Patricia Fumerton Present Their New Books
DESCRIPTION:Hilary Bernstein and Patricia Fumerton will each provide short introductions to their new books\, followed by a conversation between the authors and then with the audience. \nHilary Bernstein\, Associate Professor of History\, specializes in early modern France\, with a particular focus on the history\, culture\, and politics of provincial towns in the sixteenth and seventeenth centuries. Her new book is entitled Historical Communities: Cities\, Erudition\, and National Identity in Early Modern France. Professor Bernstein will be introduced by Professor Erika Rappaport. Patricia Fumerton is Distinguished Professor of English\, specializing in popular\, multimedia print culture\, with a focus on broadside ballads\, 1550-1750; she is also Director of the NEH-funded English Broadside Ballad Archive (EBBA)\, ebba.english.ucsb.edu. Her new book is entitled The Broadside Ballad in Early Modern England: Moving Media\, Tactical Publics. Professor Fumerton will be introduced by Professor Andrew Griffin.  \nRegistration Link \nA Conversation on EM Print Final Flyer \n 
URL:https://history.ucsb.edu/events/a-conversation-on-early-modern-print-culture-hilary-bernstein-and-patricia-fumerton-present-their-new-books/
LOCATION:Zoom\, CA
CATEGORIES:Book Talk
ATTACH;FMTTYPE=image/jpeg:https://history.ucsb.edu/wp-content/uploads/A-Conversation-on-EM-Print-Final-Flyer-1-1-2-1-1-page-001.jpg
END:VEVENT
END:VCALENDAR