BEGIN:VCALENDAR
VERSION:2.0
PRODID:-//Department of History, UC Santa Barbara - ECPv6.15.12.1//NONSGML v1.0//EN
CALSCALE:GREGORIAN
METHOD:PUBLISH
X-WR-CALNAME:Department of History, UC Santa Barbara
X-ORIGINAL-URL:https://history.ucsb.edu
X-WR-CALDESC:Events for Department of History, UC Santa Barbara
REFRESH-INTERVAL;VALUE=DURATION:PT1H
X-Robots-Tag:noindex
X-PUBLISHED-TTL:PT1H
BEGIN:VTIMEZONE
TZID:America/Los_Angeles
BEGIN:DAYLIGHT
TZOFFSETFROM:-0800
TZOFFSETTO:-0700
TZNAME:PDT
DTSTART:20210314T100000
END:DAYLIGHT
BEGIN:STANDARD
TZOFFSETFROM:-0700
TZOFFSETTO:-0800
TZNAME:PST
DTSTART:20211107T090000
END:STANDARD
BEGIN:DAYLIGHT
TZOFFSETFROM:-0800
TZOFFSETTO:-0700
TZNAME:PDT
DTSTART:20220313T100000
END:DAYLIGHT
BEGIN:STANDARD
TZOFFSETFROM:-0700
TZOFFSETTO:-0800
TZNAME:PST
DTSTART:20221106T090000
END:STANDARD
BEGIN:DAYLIGHT
TZOFFSETFROM:-0800
TZOFFSETTO:-0700
TZNAME:PDT
DTSTART:20230312T100000
END:DAYLIGHT
BEGIN:STANDARD
TZOFFSETFROM:-0700
TZOFFSETTO:-0800
TZNAME:PST
DTSTART:20231105T090000
END:STANDARD
END:VTIMEZONE
BEGIN:VEVENT
DTSTART;TZID=America/Los_Angeles:20220526T183000
DTEND;TZID=America/Los_Angeles:20220526T203000
DTSTAMP:20260423T004114
CREATED:20220505T002026Z
LAST-MODIFIED:20221026T183818Z
UID:10002904-1653589800-1653597000@history.ucsb.edu
SUMMARY:Spring 2022 Launch Party
DESCRIPTION:Join the UCSB Undergraduate Journal of History and the History Club at UCSB to celebrate the launch of the Spring 2022 Volume. \n \nThere are rumors of pizza.\n \nWe will meet in HSSB 4020\, starting at 6:30.\n \nThere will be treats.\n \nHear from undergrad editors and authors who will answer your questions about the whole process. 
URL:https://history.ucsb.edu/events/spring-2022-launch-party/
LOCATION:HSSB 4020
ATTACH;FMTTYPE=image/png:https://history.ucsb.edu/wp-content/uploads/Screen-Shot-2022-05-04-at-5.15.25-PM.png
END:VEVENT
END:VCALENDAR