BEGIN:VCALENDAR
VERSION:2.0
PRODID:-//Department of History, UC Santa Barbara - ECPv6.15.12.1//NONSGML v1.0//EN
CALSCALE:GREGORIAN
METHOD:PUBLISH
X-WR-CALNAME:Department of History, UC Santa Barbara
X-ORIGINAL-URL:https://history.ucsb.edu
X-WR-CALDESC:Events for Department of History, UC Santa Barbara
REFRESH-INTERVAL;VALUE=DURATION:PT1H
X-Robots-Tag:noindex
X-PUBLISHED-TTL:PT1H
BEGIN:VTIMEZONE
TZID:America/Los_Angeles
BEGIN:DAYLIGHT
TZOFFSETFROM:-0800
TZOFFSETTO:-0700
TZNAME:PDT
DTSTART:20200308T100000
END:DAYLIGHT
BEGIN:STANDARD
TZOFFSETFROM:-0700
TZOFFSETTO:-0800
TZNAME:PST
DTSTART:20201101T090000
END:STANDARD
BEGIN:DAYLIGHT
TZOFFSETFROM:-0800
TZOFFSETTO:-0700
TZNAME:PDT
DTSTART:20210314T100000
END:DAYLIGHT
BEGIN:STANDARD
TZOFFSETFROM:-0700
TZOFFSETTO:-0800
TZNAME:PST
DTSTART:20211107T090000
END:STANDARD
BEGIN:DAYLIGHT
TZOFFSETFROM:-0800
TZOFFSETTO:-0700
TZNAME:PDT
DTSTART:20220313T100000
END:DAYLIGHT
BEGIN:STANDARD
TZOFFSETFROM:-0700
TZOFFSETTO:-0800
TZNAME:PST
DTSTART:20221106T090000
END:STANDARD
END:VTIMEZONE
BEGIN:VEVENT
DTSTART;TZID=America/Los_Angeles:20210507T120000
DTEND;TZID=America/Los_Angeles:20210507T133000
DTSTAMP:20260420T195023
CREATED:20210429T065020Z
LAST-MODIFIED:20230402T204040Z
UID:10002876-1620388800-1620394200@history.ucsb.edu
SUMMARY:Public History Colloquium Event–"The Queerness of Home: Public History and the Domestic Archive"
DESCRIPTION:Join the History Department’s Colloquium in Public History on Friday\, May 7 at noon for a Zoom talk by Stephen Vider (History\, Cornell University). \nHistories of queer and trans politics and culture have centered almost exclusively on public activism and spaces. Stephen Vider will discuss how his forthcoming book\, The Queerness of Home: Gender\, Sexuality\, and the Politics of Domesticity After World War II (University of Chicago Press\, October 2021) retells LGBT history from the inside out\, revealing how LGBT people mobilized home spaces as crucial sites of intimate connection\, care\, and cultural inclusion. He’ll focus particularly on the challenges and possibilities of uncovering queer domestic life both in The Queerness of Home and in his 2017 exhibition\, AIDS at Home: Art and Everyday Activism (Museum of the City of New York)—and how a focus on the domestic archive can reshape methods in public history. \nRegister for this event at http://bit.ly/queerness-home \nRecommended links: \nA Place in the City: Three Stories about AIDS at Home\, dir. Nate Lavey and Stephen Vider (2017)\, documentary film which originally appeared in AIDS at Home: Art and Everyday Activism https://vimeo.com/303736782 \nStephen Vider\, “”Oh Hell\, May\, Why Don’t You People Have a Cookbook?”: Camp Humor and Gay Domesticity\,” American Quarterly 65\, no. 4 (2013): 877-904. [Open-access through JSTOR Daily: https://www.jstor.org/stable/43822994?mag=in-the-gay-cookbook-domestic-bliss-was-queer]
URL:https://history.ucsb.edu/events/public-history-colloquium-event-the-queerness-of-home-public-history-and-the-domestic-archive/
LOCATION:Zoom\, CA
CATEGORIES:Colloquium Event
ATTACH;FMTTYPE=image/png:https://history.ucsb.edu/wp-content/uploads/Public-History-event-queerness.png
END:VEVENT
BEGIN:VEVENT
DTSTART;TZID=America/Los_Angeles:20210519T160000
DTEND;TZID=America/Los_Angeles:20210519T173000
DTSTAMP:20260420T195023
CREATED:20210513T035226Z
LAST-MODIFIED:20230203T154640Z
UID:10002354-1621440000-1621445400@history.ucsb.edu
SUMMARY:Lily Anne Welty Tamai\, "Mixed-Race Black Identities in Postwar Japan and Okinawa"
DESCRIPTION:The East Asia Center welcomes UCSB History alumna Dr. Lily Anne Welty Tamai (Asian American Studies\, UCLA) for a talk on “Mixed-Race Black Identities in Postwar Japan and Okinawa.” \nMixed-race people born at the end of World War II made history quietly with their families and their communities. Wars and the military occupations that followed\, coupled with increased migration across the Pacific\, created a surge of interracial relationships\, resulting in a mid-century multiracial baby boom. Easily identifiable by their mixed-race features\, they were the children of the enemy: in Japan they symbolized defeat and racial impurity. In the U.S.\, they represented an extension of America’s democratic intervention abroad and for mixed-race adoptees in particular\, they embodied the salvation that the U.S. offered Japan during the postwar occupation. Interracial\ncommunities\, families\, and mixed-race individuals challenged the default narrative of White normativity in the U.S. military and in the post-war period\, while also expanding our understanding of the transnational Black Pacific\, or the diaspora of Blacks in the Pacific Rim. While Black soldiers migrated west across the Pacific\, some of their mixed-race children migrated east to the U.S. in the\ndecades following World War II. This presentation with center the voices of mixed-race Black Japanese in post-war Japan and within the militarized borderland of Okinawa to examine the tropes of hybrid degeneracy and hybrid vigor as these individuals navigated their lives between\ninvisibility and hyper-recognition.\n \nLily Anne Welty Tamai earned her doctorate in History from UCSB. She conducted research in Japan and in Okinawa as a Fulbright Graduate Research Fellow and was also a Ford\nFoundation Fellow. Her forthcoming book\, titled Military Industrial Intimacy: Mixed-Race American Japanese\, Eugenics and Transnational Identities\, documents the history of mixed-race American Japanese and American Okinawans born after World War II and raised during the post-war period. Dr. Tamai was formerly the Curator of History at the Japanese American National Museum and served on the U.S. Census Bureau National Advisory Committee on Racial\, Ethnic\, and Other\nPopulations. She is currently a lecturer in Asian American Studies at UCLA.\n \nTo join the Zoom meeting\, use Zoom ID 925 5728 2471.
URL:https://history.ucsb.edu/events/lily-anne-welty-tamai-mixed-race-black-identities-in-postwar-japan-and-okinawa/
LOCATION:Zoom\, CA
CATEGORIES:Public Lecture
ATTACH;FMTTYPE=image/jpeg:https://history.ucsb.edu/wp-content/uploads/EAC-Welty-Tamai-5.19.2021-page-001.jpg
END:VEVENT
BEGIN:VEVENT
DTSTART;TZID=America/Los_Angeles:20210520T110000
DTEND;TZID=America/Los_Angeles:20210520T121500
DTSTAMP:20260420T195023
CREATED:20210513T033419Z
LAST-MODIFIED:20230203T154634Z
UID:10002352-1621508400-1621512900@history.ucsb.edu
SUMMARY:Center for Cold War Studies Talk: Nancy Mitchell\, "Andrew Young: Challenging Anglo-Saxon Foreign Policy?"
DESCRIPTION:Andrew Young\, one of Martin Luther King’s top aides and a former member of Congress\, served as Jimmy Carter’s ambassador to the United Nations. Outspoken and controversial\, Young questioned prevailing Cold War assumptions. “Communism has never been a threat to me\,” he said. “Racism has always been a threat—and that has been the enemy of all of my life.” \nNancy Mitchell is Professor of History at North Carolina State University. She is the author of Jimmy Carter in Africa: Race and the Cold War (2016)\, which received the Douglas Dillon Award from the American Academy of Diplomacy and the Robert Ferrell Prize from the Society for Historians of American Foreign Relations. Professor Mitchell’s first book was The Danger of Dreams: German and American Imperialism in Latin America\, 1895-1914 (1999). She contributed the chapter on “The Cold War and Jimmy Carter” to The Cambridge History of the Cold War (2010)\, and her articles have appeared in Cold War History\, International History Review\, Diplomatic History\, American Historical Review\, Journal of American History\, Prologue\, H-Diplo\, and H-Pol. \nClick here to join the Zoom for this event.
URL:https://history.ucsb.edu/events/center-for-cold-war-studies-talk-nancy-mitchell-andrew-young-challenging-anglo-saxon-foreign-policy/
LOCATION:Zoom\, CA
CATEGORIES:Public Lecture
ATTACH;FMTTYPE=image/jpeg:https://history.ucsb.edu/wp-content/uploads/Nancy-Mitchell-talk-page-001.jpg
END:VEVENT
END:VCALENDAR