BEGIN:VCALENDAR
VERSION:2.0
PRODID:-//Department of History, UC Santa Barbara - ECPv6.15.12.1//NONSGML v1.0//EN
CALSCALE:GREGORIAN
METHOD:PUBLISH
X-WR-CALNAME:Department of History, UC Santa Barbara
X-ORIGINAL-URL:https://history.ucsb.edu
X-WR-CALDESC:Events for Department of History, UC Santa Barbara
REFRESH-INTERVAL;VALUE=DURATION:PT1H
X-Robots-Tag:noindex
X-PUBLISHED-TTL:PT1H
BEGIN:VTIMEZONE
TZID:America/Los_Angeles
BEGIN:DAYLIGHT
TZOFFSETFROM:-0800
TZOFFSETTO:-0700
TZNAME:PDT
DTSTART:20240310T100000
END:DAYLIGHT
BEGIN:STANDARD
TZOFFSETFROM:-0700
TZOFFSETTO:-0800
TZNAME:PST
DTSTART:20241103T090000
END:STANDARD
BEGIN:DAYLIGHT
TZOFFSETFROM:-0800
TZOFFSETTO:-0700
TZNAME:PDT
DTSTART:20250309T100000
END:DAYLIGHT
BEGIN:STANDARD
TZOFFSETFROM:-0700
TZOFFSETTO:-0800
TZNAME:PST
DTSTART:20251102T090000
END:STANDARD
BEGIN:DAYLIGHT
TZOFFSETFROM:-0800
TZOFFSETTO:-0700
TZNAME:PDT
DTSTART:20260308T100000
END:DAYLIGHT
BEGIN:STANDARD
TZOFFSETFROM:-0700
TZOFFSETTO:-0800
TZNAME:PST
DTSTART:20261101T090000
END:STANDARD
END:VTIMEZONE
BEGIN:VEVENT
DTSTART;TZID=America/Los_Angeles:20251003T120000
DTEND;TZID=America/Los_Angeles:20251003T135000
DTSTAMP:20260419T065107
CREATED:20251017T061521Z
LAST-MODIFIED:20251017T061521Z
UID:10003025-1759492800-1759499400@history.ucsb.edu
SUMMARY:Gender & Sexualities Colloquium: "Commodifying Contraception: A Political Economy of Sex in Interwar Britain"
DESCRIPTION:October 3\, 2025\n12:00-1:50 pm HSSB 4020\nJulie Johnson Warkentin (History\, UCSB) will present a chapter of her dissertation\, “Commodifying Contraception: A Political Economy of Sex in Interwar Britain.”
URL:https://history.ucsb.edu/events/gender-sexualities-colloquium-commodifying-contraception-a-political-economy-of-sex-in-interwar-britain/
LOCATION:CA
END:VEVENT
BEGIN:VEVENT
DTSTART;TZID=America/Los_Angeles:20251010T120000
DTEND;TZID=America/Los_Angeles:20251010T135000
DTSTAMP:20260419T065107
CREATED:20251017T062242Z
LAST-MODIFIED:20251017T063752Z
UID:10003029-1760097600-1760104200@history.ucsb.edu
SUMMARY:Public History Colloquium: National Parks and the Origins of Public History in the United States
DESCRIPTION:
URL:https://history.ucsb.edu/events/public-history-colloquium-national-parks-and-the-origins-of-public-history-in-the-united-states/
LOCATION:CA
ATTACH;FMTTYPE=image/jpeg:https://history.ucsb.edu/wp-content/uploads/COLQM-LINE-UP-F25.jpg
END:VEVENT
BEGIN:VEVENT
DTSTART;TZID=America/Los_Angeles:20251017T120000
DTEND;TZID=America/Los_Angeles:20251017T135000
DTSTAMP:20260419T065107
CREATED:20251017T062635Z
LAST-MODIFIED:20251017T063514Z
UID:10003031-1760702400-1760709000@history.ucsb.edu
SUMMARY:History and Political Economy Colloquium: Before Islamic Finance: A History of Muslim Private Banking from the Maghreb to Indonesia\, 1750-1975
DESCRIPTION:Please join us to welcome Professor Michael O’Sullivan from the University of North Carolina Chapel-Hill who will discuss the introduction to his forthcoming book Before Islamic Finance: A History of Muslim Private Banking from the Maghreb to Indonesia\, 1750-1975. Professor O’Sullivan is a scholar of early modern and modern South Asia in the context of Ottoman and European empires\, the Western Indian Ocean\, and connected histories of Muslim communities across Eurasia\, the Maghreb\, and East Africa. Please find the draft of the introduction attached below\, along with the poster for the colloquium and the quarter-long series. 
URL:https://history.ucsb.edu/events/history-and-political-economy-colloquium-before-islamic-finance-a-history-of-muslim-private-banking-from-the-maghreb-to-indonesia-1750-1975/
LOCATION:CA
ATTACH;FMTTYPE=image/jpeg:https://history.ucsb.edu/wp-content/uploads/Michael-O-Sullivan-HPE.jpg
END:VEVENT
BEGIN:VEVENT
DTSTART;TZID=America/Los_Angeles:20251024T120000
DTEND;TZID=America/Los_Angeles:20251024T135000
DTSTAMP:20260419T065107
CREATED:20251017T062336Z
LAST-MODIFIED:20251017T214543Z
UID:10003030-1761307200-1761313800@history.ucsb.edu
SUMMARY:Public History Colloquium: Erasing and Reclaiming Public Memory in Palestine
DESCRIPTION:
URL:https://history.ucsb.edu/events/public-history-colloquium-erasing-and-reclaiming-public-memory-in-palestine/
LOCATION:CA
ATTACH;FMTTYPE=image/jpeg:https://history.ucsb.edu/wp-content/uploads/Sherene-Seikaly-PH-Colqm.jpg
END:VEVENT
END:VCALENDAR