BEGIN:VCALENDAR
VERSION:2.0
PRODID:-//Department of History, UC Santa Barbara - ECPv6.15.12.1//NONSGML v1.0//EN
CALSCALE:GREGORIAN
METHOD:PUBLISH
X-ORIGINAL-URL:https://history.ucsb.edu
X-WR-CALDESC:Events for Department of History, UC Santa Barbara
REFRESH-INTERVAL;VALUE=DURATION:PT1H
X-Robots-Tag:noindex
X-PUBLISHED-TTL:PT1H
BEGIN:VTIMEZONE
TZID:America/Los_Angeles
BEGIN:DAYLIGHT
TZOFFSETFROM:-0800
TZOFFSETTO:-0700
TZNAME:PDT
DTSTART:20210314T100000
END:DAYLIGHT
BEGIN:STANDARD
TZOFFSETFROM:-0700
TZOFFSETTO:-0800
TZNAME:PST
DTSTART:20211107T090000
END:STANDARD
BEGIN:DAYLIGHT
TZOFFSETFROM:-0800
TZOFFSETTO:-0700
TZNAME:PDT
DTSTART:20220313T100000
END:DAYLIGHT
BEGIN:STANDARD
TZOFFSETFROM:-0700
TZOFFSETTO:-0800
TZNAME:PST
DTSTART:20221106T090000
END:STANDARD
BEGIN:DAYLIGHT
TZOFFSETFROM:-0800
TZOFFSETTO:-0700
TZNAME:PDT
DTSTART:20230312T100000
END:DAYLIGHT
BEGIN:STANDARD
TZOFFSETFROM:-0700
TZOFFSETTO:-0800
TZNAME:PST
DTSTART:20231105T090000
END:STANDARD
END:VTIMEZONE
BEGIN:VEVENT
DTSTART;TZID=America/Los_Angeles:20220203T180000
DTEND;TZID=America/Los_Angeles:20220203T190000
DTSTAMP:20260420T131609
CREATED:20211015T210019Z
LAST-MODIFIED:20221101T185824Z
UID:10002883-1643911200-1643914800@history.ucsb.edu
SUMMARY:History Associates Talk and Performance: Mhoze Chikowero and Dr. Tanyaradzwa Tawengwa on Musics of State-making in Zimbabwe
DESCRIPTION:History Associates presents\, in collaboration with UCSB Multicultural Center\, a special online performance from opera-singer and scholar\, Tanyaradzwa Tawengwa. Tawengwa is a close collaborator of UCSB Associate Professor of History\, Mhoze Chikowero\, who will be moderating the post performance Q&A. \nTawengwa and Chikowero worked together to adapt her senior thesis from Princeton\, “Dawn of the Rooster\,” into an abridged one-hour performance which tells the story of Tawengwa’s family during the Zimbabwean Liberation Struggle of 1965-1980. They performed this work on campus in early 2020 and spoke with KCSB about the importance of music in telling African histories. We are delighted to welcome her back to UCSB this year! \n\nMWEDZI\nMwedzi means moon\, menstrual cycle\, and month in Chivanhu. Mwedzi tells the story of a rite of passage into Womanhood. The twelve-year journey began in 2008\, when the artist left Zimbabwe for the United States. As a Zimbabwean woman living in the United States\, staying grounded in ancestral wisdom has been vital for survival. Mwedzi shares this wisdom and honors the healing power of ancestors\, the Divine Feminine\, and self-love. Post performance screening Q&A with Tanyaradzwa Tawengwa\, and special artist appearances with Etienne Charles and Gerson Lazo-Quiroga. Moderated by Dr. Mhoze Chikowero. \nTawengwa is a Zimbabwean gwenyambira\, scholar\, and community organizer\, composer\, and singer whose storytelling serves to bridge Zimbabwe’s past and present\, in order to inform a self-crafted future. Her craft lives at the intersection of music and healing\, drawing from the generations of Svikiro (spirit mediums) and N’anga (healers) in her bloodline. Read more \nThursday\, Feb 3rd\, 6pm\nONLINE PERFORMANCE SCREENING \nZOOM: HTTPS://UCSB.ZOOM.US/J/83279445270
URL:https://history.ucsb.edu/events/history-associates-talk-and-performance-mhoze-chikowera-and-dr-tanyaradzwa-tawengwa-on-musics-of-state-making-in-zimbabwe/
LOCATION:HTTPS://UCSB.ZOOM.US/J/83279445270\, Multicultural Center\, Santa Barbara\, CA\, 93117\, United States
CATEGORIES:History Associates,Public Lecture
END:VEVENT
BEGIN:VEVENT
DTSTART;TZID=America/Los_Angeles:20220203T190000
DTEND;TZID=America/Los_Angeles:20220203T210000
DTSTAMP:20260420T131609
CREATED:20190205T233739Z
LAST-MODIFIED:20190205T233928Z
UID:10002738-1643914800-1643922000@history.ucsb.edu
SUMMARY:History Club Weekly Meetings
DESCRIPTION:UCSB’s new and improved History Departmental club is for majors\, minors\, and anyone with a passion for the past! Meetings are held every Thursday at 7:00 PM in HSSB 4020. See flier below for information about upcoming events. Please email histclub.ucsb@gmail.com with any questions. 
URL:https://history.ucsb.edu/events/history-club-weekly-meetings/2022-02-03/
LOCATION:HSSB 4020
END:VEVENT
BEGIN:VEVENT
DTSTART;TZID=America/Los_Angeles:20220210T160000
DTEND;TZID=America/Los_Angeles:20220210T173000
DTSTAMP:20260420T131609
CREATED:20220211T223656Z
LAST-MODIFIED:20221101T185821Z
UID:10002889-1644508800-1644514200@history.ucsb.edu
SUMMARY:History Faculty John W. I. Lee on IHC's Humanities Decanted: on his new book The First Black Archaeologist: A Life of John Wesley Gilbert
DESCRIPTION:The Interdisciplinary Humanities Center is hosting a dialogue between John W. I. Lee (History) and Krzysztof Janowicz (Geography) about Lee’s new book\, The First Black Archaeologist: A Life of John Wesley Gilbert. Audience Q&A will follow. \nThe First Black Archaeologist reveals the untold story of a pioneering African American classical scholar\, teacher\, community leader\, and missionary. Born into slavery in rural Georgia\, John Wesley Gilbert (1863-1923) gained national prominence in the early 1900s\, but his accomplishments are little known today. Using evidence from archives across the U.S. and Europe\, from contemporary publications\, and from newly discovered documents\, this book chronicles\, for the first time\, Gilbert’s remarkable journey. As we follow Gilbert from the segregated public schools of Augusta\, Georgia\, to the lecture halls of Brown University\, to his hiring as the first black faculty member of Augusta’s Paine Institute\, and through his travels in Greece\, western Europe\, and the Belgian Congo\, we learn about the development of African American intellectual and religious culture\, and about the enormous achievements of an entire generation of black students and educators. \n  \nWhen: February 10th\, 2022 @ 4:00 – :5:30 PM \nWhere: McCune Conference Room\, 6020 HSSB
URL:https://history.ucsb.edu/events/ihcs-humanities-decanted-history-faculty-john-w-i-lee-speaks-on-his-new-book-the-first-black-archaeologist-a-life-of-john-wesley-gilbert/
LOCATION:HSSB 6020 (McCune Room)\, University of California Santa Barbara\, Santa Barbara\, CA\, 93106\, United States
CATEGORIES:Book Talk,Public Lecture
GEO:34.4142938;-119.8474306
X-APPLE-STRUCTURED-LOCATION;VALUE=URI;X-ADDRESS=HSSB 6020 (McCune Room) University of California Santa Barbara Santa Barbara CA 93106 United States;X-APPLE-RADIUS=500;X-TITLE=University of California Santa Barbara:geo:-119.8474306,34.4142938
END:VEVENT
BEGIN:VEVENT
DTSTART;TZID=America/Los_Angeles:20220210T190000
DTEND;TZID=America/Los_Angeles:20220210T210000
DTSTAMP:20260420T131609
CREATED:20190205T233739Z
LAST-MODIFIED:20190205T233928Z
UID:10002739-1644519600-1644526800@history.ucsb.edu
SUMMARY:History Club Weekly Meetings
DESCRIPTION:UCSB’s new and improved History Departmental club is for majors\, minors\, and anyone with a passion for the past! Meetings are held every Thursday at 7:00 PM in HSSB 4020. See flier below for information about upcoming events. Please email histclub.ucsb@gmail.com with any questions. 
URL:https://history.ucsb.edu/events/history-club-weekly-meetings/2022-02-10/
LOCATION:HSSB 4020
END:VEVENT
BEGIN:VEVENT
DTSTART;TZID=America/Los_Angeles:20220217T153000
DTEND;TZID=America/Los_Angeles:20220217T170000
DTSTAMP:20260420T131609
CREATED:20220211T215909Z
LAST-MODIFIED:20240411T172514Z
UID:10002892-1645111800-1645117200@history.ucsb.edu
SUMMARY:Gender Cluster Workshop | Giulia Giamboni "Women’s donations of Textiles. A Shared Body of Memories"
DESCRIPTION:Graduate student\, Giulia Giamboni shares the 3rd chapter of her dissertation – “Women’s donations of Textiles” (here)–  with the Gender and Sexualities Research Cluster.  \n \n  \nThis chapter investigates the construction of political affiliation and religious patronage through the donation of textiles in the cross-cultural context of fourteenth-century Zadar (Croatia). I argue that these gifts\, in particular those involving textiles\, constituted a public expression of political participation. Women asked the clergy to wear or exhibit their textiles during the mass when the entire community would have gathered there and recognized them as patrons. Charitable donations of garments had the ability to shape subjects both physically and socially\, and to constitute subjects through their power as material memories.  \n  \nWe will meet at 3:30 PM on Zoom to discuss. Please use this link: Join Zoom Meeting (https://ucsb.zoom.us/j/87526376038). 
URL:https://history.ucsb.edu/events/gender-cluster-workshop-giulia-giamboni-womens-donations-of-textiles-a-shared-body-of-memories/
LOCATION:Zoom Box
CATEGORIES:Student Presentations
END:VEVENT
BEGIN:VEVENT
DTSTART;TZID=America/Los_Angeles:20220217T190000
DTEND;TZID=America/Los_Angeles:20220217T210000
DTSTAMP:20260420T131609
CREATED:20190205T233739Z
LAST-MODIFIED:20190205T233928Z
UID:10002740-1645124400-1645131600@history.ucsb.edu
SUMMARY:History Club Weekly Meetings
DESCRIPTION:UCSB’s new and improved History Departmental club is for majors\, minors\, and anyone with a passion for the past! Meetings are held every Thursday at 7:00 PM in HSSB 4020. See flier below for information about upcoming events. Please email histclub.ucsb@gmail.com with any questions. 
URL:https://history.ucsb.edu/events/history-club-weekly-meetings/2022-02-17/
LOCATION:HSSB 4020
END:VEVENT
BEGIN:VEVENT
DTSTART;TZID=America/Los_Angeles:20220224T190000
DTEND;TZID=America/Los_Angeles:20220224T210000
DTSTAMP:20260420T131609
CREATED:20190205T233739Z
LAST-MODIFIED:20190205T233928Z
UID:10002741-1645729200-1645736400@history.ucsb.edu
SUMMARY:History Club Weekly Meetings
DESCRIPTION:UCSB’s new and improved History Departmental club is for majors\, minors\, and anyone with a passion for the past! Meetings are held every Thursday at 7:00 PM in HSSB 4020. See flier below for information about upcoming events. Please email histclub.ucsb@gmail.com with any questions. 
URL:https://history.ucsb.edu/events/history-club-weekly-meetings/2022-02-24/
LOCATION:HSSB 4020
END:VEVENT
END:VCALENDAR