BEGIN:VCALENDAR
VERSION:2.0
PRODID:-//Department of History, UC Santa Barbara - ECPv6.15.12.1//NONSGML v1.0//EN
CALSCALE:GREGORIAN
METHOD:PUBLISH
X-ORIGINAL-URL:https://history.ucsb.edu
X-WR-CALDESC:Events for Department of History, UC Santa Barbara
REFRESH-INTERVAL;VALUE=DURATION:PT1H
X-Robots-Tag:noindex
X-PUBLISHED-TTL:PT1H
BEGIN:VTIMEZONE
TZID:America/Los_Angeles
BEGIN:DAYLIGHT
TZOFFSETFROM:-0800
TZOFFSETTO:-0700
TZNAME:PDT
DTSTART:20150308T100000
END:DAYLIGHT
BEGIN:STANDARD
TZOFFSETFROM:-0700
TZOFFSETTO:-0800
TZNAME:PST
DTSTART:20151101T090000
END:STANDARD
BEGIN:DAYLIGHT
TZOFFSETFROM:-0800
TZOFFSETTO:-0700
TZNAME:PDT
DTSTART:20160313T100000
END:DAYLIGHT
BEGIN:STANDARD
TZOFFSETFROM:-0700
TZOFFSETTO:-0800
TZNAME:PST
DTSTART:20161106T090000
END:STANDARD
BEGIN:DAYLIGHT
TZOFFSETFROM:-0800
TZOFFSETTO:-0700
TZNAME:PDT
DTSTART:20170312T100000
END:DAYLIGHT
BEGIN:STANDARD
TZOFFSETFROM:-0700
TZOFFSETTO:-0800
TZNAME:PST
DTSTART:20171105T090000
END:STANDARD
END:VTIMEZONE
BEGIN:VEVENT
DTSTART;TZID=America/Los_Angeles:20160502T170000
DTEND;TZID=America/Los_Angeles:20160502T183000
DTSTAMP:20260420T093058
CREATED:20160426T201653Z
LAST-MODIFIED:20160426T201653Z
UID:10002093-1462208400-1462213800@history.ucsb.edu
SUMMARY:"Was the Rise of Islam a Black Swan Event?" Michael Cook\, 2016 R. Stephen Humphreys Distinguished Visiting Scholar
DESCRIPTION:A Black Swan Event is by definition a highly improbable happening with a massive impact. No one questions the impact of rise of Islam\, but just how improbable was it? Two of its central features look very unlikely against the background of earlier history: the appearance among the Arabs of a new\nmonotheistic religion\, and the formation of a powerful state in Arabia. Does that add up to two Black Swans\, or do they cancel out? \nMichael Cook is the Class of 1943 University Professor of Near Eastern Studies at Princeton University. He is the author of Commanding Right and Forbidding Wrong in Islamic Thought and A Brief History of the Human Race\, among other books\, and he is also the general editor of The New Cambridge History of Islam. \nSponsored by the Center for Middle East Studies\, R. Stephen Humphreys Distinguished\nLecture Series \nDownload flyer
URL:https://history.ucsb.edu/events/rise-islam-black-swan-event-michael-cook-2016-r-stephen-humphreys-distinguished-visiting-scholar/
LOCATION:McCune Conference Room (HSSB 6020)\, Humanities and Social Sciences Bldg\, Santa Barbara\, CA\, 93106\, United States
CATEGORIES:Public Lecture
ATTACH;FMTTYPE=image/jpeg:https://history.ucsb.edu/wp-content/uploads/Cook-239x280.jpg
GEO:34.4139682;-119.8503034
X-APPLE-STRUCTURED-LOCATION;VALUE=URI;X-ADDRESS=McCune Conference Room (HSSB 6020) Humanities and Social Sciences Bldg Santa Barbara CA 93106 United States;X-APPLE-RADIUS=500;X-TITLE=Humanities and Social Sciences Bldg:geo:-119.8503034,34.4139682
END:VEVENT
BEGIN:VEVENT
DTSTART;TZID=America/Los_Angeles:20160503T153000
DTEND;TZID=America/Los_Angeles:20160503T170000
DTSTAMP:20260420T093058
CREATED:20160427T040315Z
LAST-MODIFIED:20160427T040315Z
UID:10002095-1462289400-1462294800@history.ucsb.edu
SUMMARY:Wolfenden's Witnesses: Making Sense of Homosexuality in Postwar Britain
DESCRIPTION:Brian Lewis\, Professor of History at McGill University\, Montreal will be giving a lecture related to his recently published book Wolfenden’s Witnesses: Homosexuality in Postwar Britain (Palgrave Macmillan\, 2016. In addition to two other books\, Professor Lewis has published two collections of essays on British Queer History. He is currently writing a study of sexologist and criminologist George Ives\, tentatively titled Greek to the Soul: George Ives and Homosexuality in Britain from Wilde to Wolfenden.
URL:https://history.ucsb.edu/events/wolfendens-witnesses-making-sense-homosexuality-postwar-britain/
LOCATION:HSSB 4202\, 4202 Humanities and Social Sciences Building\, Santa Barbara\, CA\, 93106\, United States
CATEGORIES:Public Lecture
ORGANIZER;CN="Erika Rappaport":MAILTO:rappaport@history.ucsb.edu
GEO:34.4139682;-119.8503034
X-APPLE-STRUCTURED-LOCATION;VALUE=URI;X-ADDRESS=HSSB 4202 4202 Humanities and Social Sciences Building Santa Barbara CA 93106 United States;X-APPLE-RADIUS=500;X-TITLE=4202 Humanities and Social Sciences Building:geo:-119.8503034,34.4139682
END:VEVENT
BEGIN:VEVENT
DTSTART;TZID=America/Los_Angeles:20160504T140000
DTEND;TZID=America/Los_Angeles:20160504T153000
DTSTAMP:20260420T093058
CREATED:20160427T154752Z
LAST-MODIFIED:20160427T154752Z
UID:10002097-1462370400-1462375800@history.ucsb.edu
SUMMARY:Senior Honors Seminar Informational Meeting
DESCRIPTION:The Senior Honors Seminar is a two-quarter seminar for majors in History\, History of Public Policy\, and Medieval Studies to be held in fall 2016 and winter 2017. \nThe informational meeting for interested and eligible students is scheduled for Wednesday\, May 4th from 2-3:30 pm in HSSB 4020. Please contact Prof. Hilary Bernstein at bernstein@history.ucsb.edu with any questions.
URL:https://history.ucsb.edu/events/senior-honors-seminar-informational-meeting/
LOCATION:HSSB 4020\, University of California Santa Barbara\, Santa Barbara\, CA\, 93106\, United States
CATEGORIES:Academic Calendar
GEO:34.4139629;-119.848947
X-APPLE-STRUCTURED-LOCATION;VALUE=URI;X-ADDRESS=HSSB 4020 University of California Santa Barbara Santa Barbara CA 93106 United States;X-APPLE-RADIUS=500;X-TITLE=University of California Santa Barbara:geo:-119.848947,34.4139629
END:VEVENT
BEGIN:VEVENT
DTSTART;TZID=America/Los_Angeles:20160507T090000
DTEND;TZID=America/Los_Angeles:20160507T160000
DTSTAMP:20260420T093058
CREATED:20160505T211113Z
LAST-MODIFIED:20160505T211113Z
UID:10002101-1462611600-1462636800@history.ucsb.edu
SUMMARY:2016 Annual Medieval Studies Program Conference: "Gender & Religious Practice in the Middle Ages"
DESCRIPTION:Keynote talk:\n“Men in Women’s Monasteries: Nuns’ Priests in the Central Middle Ages”\n by Fiona Griffiths\,\nProfessor of History at Stanford University \nThe Medieval Studies Program would like to invite you to join us for our annual conference\, May 7\, 2016. \nThe theme of this year’s conference is “Gender and Religious Practice in the Middle Ages.” There will be a keynote talk from Fiona Griffiths\, Associate Professor of History at Stanford University\, entitled “Men in Women’s Religious Spaces in the Central Middle Ages.” \nAdditionally\, a number of students from the department will be presenting at or moderating panels. Attached please find a flyer advertising the event\, along with a schedule of speakers. Please also note that there will also be a reception following the conference. \nDownload flyer
URL:https://history.ucsb.edu/events/gender-religious-practice-middle-ages/
LOCATION:McCune Conference Room (HSSB 6020)\, Humanities and Social Sciences Bldg\, Santa Barbara\, CA\, 93106\, United States
CATEGORIES:Conference
ATTACH;FMTTYPE=image/jpeg:https://history.ucsb.edu/wp-content/uploads/MedStudies16-Flyer.jpg
GEO:34.4139682;-119.8503034
X-APPLE-STRUCTURED-LOCATION;VALUE=URI;X-ADDRESS=McCune Conference Room (HSSB 6020) Humanities and Social Sciences Bldg Santa Barbara CA 93106 United States;X-APPLE-RADIUS=500;X-TITLE=Humanities and Social Sciences Bldg:geo:-119.8503034,34.4139682
END:VEVENT
BEGIN:VEVENT
DTSTART;TZID=America/Los_Angeles:20160511T190000
DTEND;TZID=America/Los_Angeles:20160511T200000
DTSTAMP:20260420T093058
CREATED:20160504T185948Z
LAST-MODIFIED:20160504T185948Z
UID:10002099-1462993200-1462996800@history.ucsb.edu
SUMMARY:Seeking Peace Amid Violence: Professor James F. Brooks to Speak on Awat'ovi Massacre
DESCRIPTION:Modern Americans love thinking that the Hopi people of the Southwest represent the epitome of peacefulness. But in the year 1700\, in the populous village of Awat’ovi\, Hopi slaughtered Hopi by the hundreds in a predawn raid\, showering crushed red pepper\, fire\, and arrows into subterranean kivas while kidnapping the women and children who survived. This massacre is well documented\, but UCSB history and anthropology professor James Brooks wanted to find out why\, and whether the tragic incident resonates in today’s world. \nJames Brooks will speak about Mesa of Sorrows at the Alhecama Theatre (914 Santa Barbara St.) on Wednesday\, May 11\, at 7 p.m. in an event hosted by the S.B. Trust for Historic Preservation and the UCSB History Associates. Free for members; $10 otherwise. \nRead more @ http://www.independent.com/news/2016/may/02/finding-peace-amid-hopi-violence/
URL:https://history.ucsb.edu/events/seeking-peace-amid-violence-professor-james-f-brooks-speak-awatovi-massacre/
LOCATION:Alhecama Theatre\, 914 Santa Barbara Street\, Santa Barbara\, CA\, 93101\, United States
CATEGORIES:Public Lecture
GEO:34.4232789;-119.6986913
X-APPLE-STRUCTURED-LOCATION;VALUE=URI;X-ADDRESS=Alhecama Theatre 914 Santa Barbara Street Santa Barbara CA 93101 United States;X-APPLE-RADIUS=500;X-TITLE=914 Santa Barbara Street:geo:-119.6986913,34.4232789
END:VEVENT
BEGIN:VEVENT
DTSTART;TZID=America/Los_Angeles:20160513T110000
DTEND;TZID=America/Los_Angeles:20160513T124500
DTSTAMP:20260420T093058
CREATED:20160512T213859Z
LAST-MODIFIED:20160512T213859Z
UID:10002103-1463137200-1463143500@history.ucsb.edu
SUMMARY:Talk by Neil Maher: Cold War Star Wars: The New Left and the Space Race During the Vietnam War
DESCRIPTION:In the mid-1960s\, NASA began building space technologies for the war in Vietnam. Students from the New Left vigorously protested against the space agency\, which responded in the early 1970s by scrapping several of its military projects and instead developing satellites that could collect useful ecological data on natural resources around the world.  Soon scientists\, engineers\, and politicians from Latin America\, Africa\, and Asia—including even Vietnam—were cooperating with the U.S. government to acquire satellite data about their countries’ natural resources. The Soviets did similarly with their own space technology and developing communist nations. The result was a more subtle\, but still hegemonic\, superpower rivalry \nNeil M. Maher is Associate Professor in the Federated History Department at the New Jersey Institute of Technology and Rutgers University at Newark\, where he teaches environmental history and political history.  He has published widely in academic and has edited a collection of essays by historians\, scientists\, and policy analysts titled New Jersey’s Environments: Past\, Present\, and Future (Rutgers University Press\, 2006). His first monograph\, Nature’s New Deal: The Civilian Conservation Corps and the Roots of the American Environmental Movement (Oxford University Press\, 2008)\, received the Charles A. Weyerhaeuser Book Award for the best monograph in conservation history. He has recently completed his second book\, tentatively titled Ground Control: How Apollo Scrubbed the Age of Aquarius (Harvard University Press\, 2017)\, which will examine how efforts to put humans on the Moon influenced the social and political movements of the “long 1960s.” \nDownload the Event Flyer
URL:https://history.ucsb.edu/events/talk-neil-maher-cold-war-star-wars-new-left-space-race-vietnam-war/
LOCATION:HSSB 4020\, University of California Santa Barbara\, Santa Barbara\, CA\, 93106\, United States
CATEGORIES:Public Lecture
GEO:34.4139629;-119.848947
X-APPLE-STRUCTURED-LOCATION;VALUE=URI;X-ADDRESS=HSSB 4020 University of California Santa Barbara Santa Barbara CA 93106 United States;X-APPLE-RADIUS=500;X-TITLE=University of California Santa Barbara:geo:-119.848947,34.4139629
END:VEVENT
BEGIN:VEVENT
DTSTART;TZID=America/Los_Angeles:20160515T133000
DTEND;TZID=America/Los_Angeles:20160515T150000
DTSTAMP:20260420T093058
CREATED:20160325T052712Z
LAST-MODIFIED:20160325T202728Z
UID:10002429-1463319000-1463324400@history.ucsb.edu
SUMMARY:"The Calorie\, Development\, and War in Mandate Palestine\, 1915-1945"
DESCRIPTION:Sherene Seikaly\nEvent Description:\nThis talk explores British economic policy in the Middle East in general and Palestine specifically during WWII. Scholarly depictions have focused on the importance of measuring and realizing economic growth. This analysis looks instead at the construction and provision of basic needs during times of scarcity. It shows how British officials sought to realize economy through new technologies such as the calorie and the emerging science of nutrition. Far from an imperative to rationalize the colonized body\, this effort was born of the exigencies of war. British colonial officials introduced new conceptions of development\, poverty\, health\, and productivity throughout the war. Their failures reveal the politics of basic needs. They also show how paradigms such as colonial development and sciences like nutrition promised the universal but instead enforced and were constituted by exclusion. \nAbout the Speaker:\nSherene Seikaly is Assistant Professor of History at the University of California\, Santa Barbara. She is the editor of the Arab Studies Journal\, co-founder and co-editor of Jadaliyya e-zine\, and an editor of Journal of Palestine Studies. Her book\, Men of Capital: Scarcity and Economy in Mandate Palestine (Stanford University Press\, 2016) explores how Palestinian capitalists and British colonial officials used economy to shape territory\, nationalism\, the home\, and the body. She has published in academic journals such as International Journal of Middle East Studies and Journal of Middle East Women’s Studies and several online venues. \nRSVP:\nThis event is free\, but please download the event flyer\, detach the included RSVP form\, fill it out\, and mail to UCSB History Associates\, Department of History\, UCSB\, 93106-9410 so we can insure that we have enough refreshments on hand. \n  \n  \n  \n  \n. \n 
URL:https://history.ucsb.edu/events/calorie-development-war-mandate-palestine-1915-1945/
LOCATION:Santa Barbara Mission Archive Library\,\, 2201 Laguna Street\, Santa Barbara\, United States
CATEGORIES:Public Lecture
GEO:34.4380006;-119.71363
X-APPLE-STRUCTURED-LOCATION;VALUE=URI;X-ADDRESS=Santa Barbara Mission Archive Library 2201 Laguna Street Santa Barbara United States;X-APPLE-RADIUS=500;X-TITLE=2201 Laguna Street:geo:-119.71363,34.4380006
END:VEVENT
BEGIN:VEVENT
DTSTART;TZID=America/Los_Angeles:20160518T190000
DTEND;TZID=America/Los_Angeles:20160518T210000
DTSTAMP:20260420T093058
CREATED:20160518T210355Z
LAST-MODIFIED:20240410T190339Z
UID:10002435-1463598000-1463605200@history.ucsb.edu
SUMMARY:Film Screening/Talk: "American Umpire"
DESCRIPTION:Elizabeth Cobbs and James Shelley grant us a sneak preview of their forthcoming PBS documentary film\, “American Umpire\,” based on Prof. Cobbs’s acclaimed history book of the same name. The film recounts America’s post-World War II role as the world’s policemen and explores whether the United States can\, and should\, continue to play that role in the future. After screening the film\, which runs for 56 minutes\, Professor Cobbs and Mr. Shelley\, the film’s director\, will discuss the making of the documentary and engage the audience members in dialogue. \nElizabeth Cobbs is Professor and Melbern G. Glasscock Chair in American History at Texas A & M University. Her first book\, The Rich Neighbor Policy: Kaiser and Rockefeller in Brazil (Yale\, 1992)\, won the Allan Nevins Prize from the Organization of American Historians and the Stuart Bernath Prize from the Society for Historians of American Foreign Relations. Professor Cobbs has also authored All You Need is Love: The Peace Corps and the Spirit of the 1960s (Harvard\, 2000)\, along with works of historical fiction. Her most recent historical monograph\, American Umpire (Harvard\, 2013)\, is the inspiration for the featured documentary film. \nJames Shelley is the owner of Shell Studios\, a San Diego-based production company that specializes in award-winning documentaries and commercial films. Having retired from a 35-year career as a global risk management executive\, Shelley is now pursuing a lifelong interest in filmmaking. He is a graduate of Johns Hopkins University and of the University of California\, San Diego’s video production program. He is currently pursuing his Master of Fine Arts degree in Television\, Media\, and Film at San Diego State University. \nDownload the Event Flyer
URL:https://history.ucsb.edu/events/film-screeningtalk-american-umpire/
LOCATION:HSSB 6020 (McCune Room)\, University of California Santa Barbara\, Santa Barbara\, CA\, 93106\, United States
CATEGORIES:Film Screening,Public Lecture
GEO:34.4142938;-119.8474306
X-APPLE-STRUCTURED-LOCATION;VALUE=URI;X-ADDRESS=HSSB 6020 (McCune Room) University of California Santa Barbara Santa Barbara CA 93106 United States;X-APPLE-RADIUS=500;X-TITLE=University of California Santa Barbara:geo:-119.8474306,34.4142938
END:VEVENT
BEGIN:VEVENT
DTSTART;TZID=America/Los_Angeles:20160520T080000
DTEND;TZID=America/Los_Angeles:20160520T170000
DTSTAMP:20260420T093058
CREATED:20160411T201528Z
LAST-MODIFIED:20160518T222057Z
UID:10002086-1463731200-1463763600@history.ucsb.edu
SUMMARY:History Honors Seminar Colloquium
DESCRIPTION:  \n\nUCSB History Department’s Annual Senior Honors Seminar Colloquium \n\n\nFriday\, May 20th \n\n\n4020 HSSB \n\n\n\n\n8:30 AM Coffee and pastries \n\n\n\n9:00 AM Welcome \n\n\n– Professor Sharon Farmer\, Chair of the History Department \n\n\n– Professor Debra Blumenthal\, Director of 2015-16 Senior Honors Seminar \n\n\n\n9:15 AM \n\n\nBruno Tomasini\, “The Danger of Moral Necessity: The Dissolution of the Civil Rights Congress” (advisor: Professor Randy Bergstrom) \n\n\nComment: Professor Nelson Lichtenstein\, History Department \n\n\n\n\n9:45 AM \n\n\nI-Wen (Winnie) Wang\, “The New Chinese-American Baby: Chinese Birth Tourism in Southern California” (advisor: Professor Paul Spickard) \n\n\nComment: Professor Xiaojian Zhao\, Department of Asian and Asian-American Studies \n\n\n\n\n10:15 AM COFFEE BREAK \n\n\n\n\n10:30 AM \n\n\nPaola Villegas\, “‘Vivimos en conflicto’: University-Induced Displacement in Isla Vista\, CA” (advisor: Professor George Lipsitz\, Sociology) \n\n\nComment: Professor Paul Spickard\, History Department \n\n\n\n\n11:00 AM \n\n\nC.J. Key\, “Dogwhistle Disarmament: A History of Racialized Gun Control in 20th Century America (advisor: Professor Laura Kalman) \n\n\nComment: Professor Mary Furner\, History Department \n\n\n\n\n11:30 – 1:00PM LUNCH BREAK \n\n\n\n\n1:00 PM \n\n\nLovepreet Brah\, “The Mixed Race Issue: A Curious Case of a Muslim Nawab\, his Jewish Lover and the Late 19th Century Calcutta High Court” (Advisor: Professor Erika Rappaport) \n\n\nComment: Professor Mary Hancock\, History Department \n\n\n\n\n1:30 PM \n\n\nAudrey Dalton\, “The First World War in Contemporary Juvenile Fiction” (advisor: Professor Alice O’Connor) \n\n\nComment: Professor Lisa Jacobson\, History Department \n\n\n\n\n2:00 PM \n\n\nRemy Bogna\, “From Nothing to Something: Recognizing Hidden Children as Holocaust Survivors” (Advisor: Professor Harold Marcuse) \n\n\nComment: Professor Stephan Miescher\, History Department \n\n\n\n\n2:30 PM COFFEE BREAK \n\n\n\n\n2:45 PM \n\n\nMeghan Brown\, “Three Million Slaves and a Celebration of Progress: Slavery and The London Great Exhibition of 1851” (Advisor: Professor John Majewski) \n\n\nComment: Professor Jeannine DeLombard\, English Department \n\n\n\n\n3:15 PM \n\n\nJacob Weeks\, “No One Reads this Rag: Punk Rock and the Zine-Scene Dynamic” (Advisor: Professor Alice O’Connor) \n\n\nComment: Jesse Halvorsen\, History Department
URL:https://history.ucsb.edu/events/history-honors-seminar-colloquium/
LOCATION:HSSB 4020\, University of California Santa Barbara\, Santa Barbara\, CA\, 93106\, United States
GEO:34.4139629;-119.848947
X-APPLE-STRUCTURED-LOCATION;VALUE=URI;X-ADDRESS=HSSB 4020 University of California Santa Barbara Santa Barbara CA 93106 United States;X-APPLE-RADIUS=500;X-TITLE=University of California Santa Barbara:geo:-119.848947,34.4139629
END:VEVENT
BEGIN:VEVENT
DTSTART;TZID=America/Los_Angeles:20160520T143000
DTEND;TZID=America/Los_Angeles:20160522T123000
DTSTAMP:20260420T093058
CREATED:20160518T210758Z
LAST-MODIFIED:20160518T210758Z
UID:10002436-1463754600-1463920200@history.ucsb.edu
SUMMARY:2016 Islamic Studies Graduate Student Conference - Identity\, Memory\, & Diaspora
DESCRIPTION:Please join the History Department for its 6th annual Islamic Studies Graduate Student Conference\, beginning on May 20th and concluding on the 22nd in HSSB’s McCune Conference Room. For additional information\, including the schedule of speakers\, please review the conference program which is provided below. \nDownload the Conference Program
URL:https://history.ucsb.edu/events/2016-islamic-studies-graduate-student-conference-identity-memory-diaspora/
LOCATION:McCune Conference Room (HSSB 6020)\, Humanities and Social Sciences Bldg\, Santa Barbara\, CA\, 93106\, United States
CATEGORIES:Academic Calendar
GEO:34.4139682;-119.8503034
X-APPLE-STRUCTURED-LOCATION;VALUE=URI;X-ADDRESS=McCune Conference Room (HSSB 6020) Humanities and Social Sciences Bldg Santa Barbara CA 93106 United States;X-APPLE-RADIUS=500;X-TITLE=Humanities and Social Sciences Bldg:geo:-119.8503034,34.4139682
END:VEVENT
BEGIN:VEVENT
DTSTART;TZID=America/Los_Angeles:20160520T160000
DTEND;TZID=America/Los_Angeles:20160520T180000
DTSTAMP:20260420T093058
CREATED:20160517T185115Z
LAST-MODIFIED:20160517T185115Z
UID:10002433-1463760000-1463767200@history.ucsb.edu
SUMMARY:U.S. Senate Historian on Career Opportunities in Public History
DESCRIPTION:Betty K. Koed is the U.S. Senate Historian and Director of the Senate Historical office. Koed earned her Ph.D. in political and public history at the University of California\, Santa Barbara\, where she also taught history and provided editorial assistance to The Public Historian. A Senate Historian\, Koed supervises all historical and archival projects\, provides talks and presentations to senators\, staff\, and the public on wide-ranging topics of Senate history\, and conducts oral history interviews with former senators and staff. She oversees more than 10\,000 pages of historical material on the Senate website\, is senior editor of the Biographical Directory of the U.S. Congress\, and provides research and reference assistance to the Senate community and the media. Her current Senate projects include online documentary histories of Senate impeachment trials and a series of oral history interviews to explore the decision-making process during the 2008-2009 financial crisis. \nSome Questions Dr. Koed Will Address: \n\nHow and why did you pursue a career in public history?\nWhat does the Senate Historian do?\nWhat do you like the most\, and the least\, about your job?\nAs a professional public historian\, how do you interact with those working in the broader historical profession?\nWhat are the unique challenges of being a Senate historian?\nWhat are your thoughts on the state of public history and how well that field is served by academic departments and professional organizations?\nAs the Senate historian\, how do you define professional success?\n\nA reception follows the session: light refreshments and libations included.
URL:https://history.ucsb.edu/events/u-s-senate-historian-career-opportunities-public-history/
LOCATION:HSSB 4080\, 4080 Humanities and Social Sciences Building\, UC Santa Barbara\, Santa Barbara\, CA\, 93106\, United States
CATEGORIES:Public Lecture
GEO:34.4139629;-119.848947
X-APPLE-STRUCTURED-LOCATION;VALUE=URI;X-ADDRESS=HSSB 4080 4080 Humanities and Social Sciences Building UC Santa Barbara Santa Barbara CA 93106 United States;X-APPLE-RADIUS=500;X-TITLE=4080 Humanities and Social Sciences Building\, UC Santa Barbara:geo:-119.848947,34.4139629
END:VEVENT
END:VCALENDAR