BEGIN:VCALENDAR
VERSION:2.0
PRODID:-//Department of History, UC Santa Barbara - ECPv6.15.12.1//NONSGML v1.0//EN
CALSCALE:GREGORIAN
METHOD:PUBLISH
X-ORIGINAL-URL:https://history.ucsb.edu
X-WR-CALDESC:Events for Department of History, UC Santa Barbara
REFRESH-INTERVAL;VALUE=DURATION:PT1H
X-Robots-Tag:noindex
X-PUBLISHED-TTL:PT1H
BEGIN:VTIMEZONE
TZID:America/Los_Angeles
BEGIN:DAYLIGHT
TZOFFSETFROM:-0800
TZOFFSETTO:-0700
TZNAME:PDT
DTSTART:20150308T100000
END:DAYLIGHT
BEGIN:STANDARD
TZOFFSETFROM:-0700
TZOFFSETTO:-0800
TZNAME:PST
DTSTART:20151101T090000
END:STANDARD
BEGIN:DAYLIGHT
TZOFFSETFROM:-0800
TZOFFSETTO:-0700
TZNAME:PDT
DTSTART:20160313T100000
END:DAYLIGHT
BEGIN:STANDARD
TZOFFSETFROM:-0700
TZOFFSETTO:-0800
TZNAME:PST
DTSTART:20161106T090000
END:STANDARD
BEGIN:DAYLIGHT
TZOFFSETFROM:-0800
TZOFFSETTO:-0700
TZNAME:PDT
DTSTART:20170312T100000
END:DAYLIGHT
BEGIN:STANDARD
TZOFFSETFROM:-0700
TZOFFSETTO:-0800
TZNAME:PST
DTSTART:20171105T090000
END:STANDARD
END:VTIMEZONE
BEGIN:VEVENT
DTSTART;TZID=America/Los_Angeles:20160203T160000
DTEND;TZID=America/Los_Angeles:20160203T173000
DTSTAMP:20260421T165002
CREATED:20160127T231019Z
LAST-MODIFIED:20160127T231020Z
UID:10002416-1454515200-1454520600@history.ucsb.edu
SUMMARY:Public Lecture: "Racialized Paths to Proletarianization: Myths about Black Economic Competition\, Cheap Labor\, and White Vulnerability"
DESCRIPTION:Tiffany Willoughby-Herard (African American Studies\, UC Irvine) \nThe presentation discusses a key historiographical intervention about so-called “cheap labor” in WASTE OF A WHITE SKIN: THE CARNEGIE CORPORATION AND THE RACIAL LOGIC OF WHITE VULNERABILITY. What did calls for the protection of “civilized labor” and a “white wage” mean to the history of race and class in apartheid South Africa? How did depiction of African workers as “cheap” and “inefficient” laborers “encroaching on white jobs” characterize African women and men as having a purely ornamental function in the history of South African industrialization? What does this legacy suggest about contemporary post-apartheid struggle in South Africa? \nTiffany Willoughby-Herard is an Associate Professor of African American Studies at the University of California\, Irvine. She is the author of WASTE OF A WHITE SKIN: THE CARNEGIE CORPORATION AND THE RACIAL LOGIC OF WHITE VULNERABILITY (University of California Press\, 2015) and editor of the NATIONAL POLITICAL SCIENCE REVIEW. \nSponsored by the IHC’s African Studies RFG\, the Center for Black Studies Research\, and the History Department \n  \n\nWilloughby-Herard1-Flyer\, 3 Feb. 2016
URL:https://history.ucsb.edu/events/public-lecture-racialized-paths-to-proletarianization-myths-about-black-economic-competition-cheap-labor-and-white-vulnerability/
LOCATION:HSSB 4041\, University of California Santa Barbara\, Santa Barbara\, CA\, 93106\, United States
CATEGORIES:Public Lecture
ATTACH;FMTTYPE=image/jpeg:https://history.ucsb.edu/wp-content/uploads/Willoughby-Herard-Waste-of-a-White-Skin-Cover.jpg
GEO:34.4139629;-119.848947
X-APPLE-STRUCTURED-LOCATION;VALUE=URI;X-ADDRESS=HSSB 4041 University of California Santa Barbara Santa Barbara CA 93106 United States;X-APPLE-RADIUS=500;X-TITLE=University of California Santa Barbara:geo:-119.848947,34.4139629
END:VEVENT
BEGIN:VEVENT
DTSTART;TZID=America/Los_Angeles:20160205T130000
DTEND;TZID=America/Los_Angeles:20160205T150000
DTSTAMP:20260421T165002
CREATED:20160127T001040Z
LAST-MODIFIED:20160127T001040Z
UID:10002415-1454677200-1454684400@history.ucsb.edu
SUMMARY:Maurice Isserman\, "The Rucksack Revolution: Mountaineering and American Culture\, 1945-1963"
DESCRIPTION:Maurice Isserman writes pathbreaking books on the American left – and on mountaineering. In the latter category are Fallen Giants: A History of Himalayan Mountaineering from the Age of Empire to the Age of Extremes(2008\, with Stewart Weaver); and Continental Divide: A History of American Mountaineering (2016). In the former can be found Which Side Were You On? The American Communist Party During the Second World War (1982); If I Had a Hammer: The Death of the Old Left and the Birth of the New Left (1987); America Divided: The Civil War of the 1960s (2000\, with Michael Kazin); and The Other American: The Life of Michael Harrington (2000). \n  \nA chapter from Professor Isserman’s new book on American mountaineering can be found here:  /sites/secure.lsit.ucsb.edu.hist.d7_labor/files/sitefiles/ContinentalDivide-Ch6.pdf
URL:https://history.ucsb.edu/events/maurice-isserman-the-rucksack-revolution-mountaineering-and-american-culture-1945-1963/
LOCATION:HSSB 4041\, University of California Santa Barbara\, Santa Barbara\, CA\, 93106\, United States
ATTACH;FMTTYPE=image/jpeg:https://history.ucsb.edu/wp-content/uploads/Maurice_Isserman.jpg
GEO:34.4139629;-119.848947
X-APPLE-STRUCTURED-LOCATION;VALUE=URI;X-ADDRESS=HSSB 4041 University of California Santa Barbara Santa Barbara CA 93106 United States;X-APPLE-RADIUS=500;X-TITLE=University of California Santa Barbara:geo:-119.848947,34.4139629
END:VEVENT
BEGIN:VEVENT
DTSTART;TZID=America/Los_Angeles:20160210T160000
DTEND;TZID=America/Los_Angeles:20160210T171500
DTSTAMP:20260421T165002
CREATED:20160209T225945Z
LAST-MODIFIED:20160210T002326Z
UID:10002419-1455120000-1455124500@history.ucsb.edu
SUMMARY:Activism and Social Change: Panel Discussion
DESCRIPTION:Professors Alice O’Connor (History)\, Hahrie Han (Political Science)\, and National People’s Action Director Ryan Greenwood will lead a discussion of “Activism and Social Change” as part of the Library’s UCSB Reads 2016 programming. \nThe panelists will explore both historical and contemporary activism\, including the Black Lives Matter movement\, and Bryan Stevenson’s legal work as highlighted in his memoir\, Just Mercy: A Story of Justice and Redemption\, which is this year’s UCSB Reads book. \nLocation:\nThe event will be in Davidson Library’s new Instruction & Training Room 1312 (Mountain Side\, 1st Floor) from 4 to 5:15 pm Wednesday\, February 10. Light refreshments will be served. \nFor more information\, please visit the following URL: http://www.library.ucsb.edu/news/2016/01/ucsb-reads-activism-social-change-panel-discussion-wed-feb-10-4-pm \n 
URL:https://history.ucsb.edu/events/activism-and-social-change-panel-discussion/
LOCATION:Davidson Library (UCSB)\, Davidson Library\, University of California\, Santa Barbara\, CA\, 93106\, United States
ATTACH;FMTTYPE=image/jpeg:https://history.ucsb.edu/wp-content/uploads/Black_Lives_Matter_700px.jpg
GEO:34.413074;-119.845472
X-APPLE-STRUCTURED-LOCATION;VALUE=URI;X-ADDRESS=Davidson Library (UCSB) Davidson Library University of California Santa Barbara CA 93106 United States;X-APPLE-RADIUS=500;X-TITLE=Davidson Library\, University of California:geo:-119.845472,34.413074
END:VEVENT
BEGIN:VEVENT
DTSTART;VALUE=DATE:20160215
DTEND;VALUE=DATE:20160216
DTSTAMP:20260421T165002
CREATED:20151215T183336Z
LAST-MODIFIED:20151215T183336Z
UID:10002406-1455494400-1455580799@history.ucsb.edu
SUMMARY:HOLIDAY - Presidents' Day
DESCRIPTION:
URL:https://history.ucsb.edu/events/holiday-presidents-day/
LOCATION:CA
CATEGORIES:Academic Calendar
END:VEVENT
BEGIN:VEVENT
DTSTART;TZID=America/Los_Angeles:20160217T170000
DTEND;TZID=America/Los_Angeles:20160217T183000
DTSTAMP:20260421T165002
CREATED:20160120T205741Z
LAST-MODIFIED:20160120T205741Z
UID:10002414-1455728400-1455733800@history.ucsb.edu
SUMMARY:Beyond Hebrew: Zionism and the Politics of Multilingualism in Palestine\, 1920-1948
DESCRIPTION:Event Description:\nThe promotion of modern Hebrew as a spoken vernacular is often viewed as a central accomplishment of the Zionist movement in Palestine before Israeli statehood. But by viewing twentieth-century history through the lens of language\, author Liora Halperin questions the common narrative of a Zionist move away from multilingualism during the years following World War I. She demonstrates how Jews in Palestine remained connected by both preference and necessity to a world of languages outside the boundaries of the pro-Hebrew community even as many of them promoted Hebrew and achieved that language’s dominance. \nThe story of language encounters in the Jewish community of Palestine is a fascinating tale of shifting power relationships\, both locally and globally. Halperin’s absorbing study explores how a young national community was compelled to modify demands for Hebrew exclusivity as it negotiated its relationships with its diverse Jewish population\, Palestinian Arabs\, the British\, and others outside the margins of the national project and ultimately came to terms with the limitations of its influence and power in an interconnected world. \n  \nAbout the Speaker:\nLiora R. Halperin is an Assistant Professor in the Department of History and the Program in Jewish Studies and the holder of the Endowed Professorship in Israel/Palestine Studies at the University of Colorado Boulder\, where she has taught since 2013. Her research focuses on Jewish cultural history\, Jewish-Arab relations in Ottoman and Mandate Palestine\, language ideology and policy\, and the politics surrounding nation formation in Palestine in the years leading up to the creation of the State of Israel in 1948. She is also a member of the advisory board for CU’s Archive of Post-Holocaust American Judaism\, and affiliated faculty in Middle Eastern Studies at the CU Center for Asian Studies. \n  \nSponsored by the Center for Middle East Studies and Jewish Studies at UCSB.
URL:https://history.ucsb.edu/events/beyond-hebrew-zionism-and-the-politics-of-multilingualism-in-palestine-1920-1948/
LOCATION:HSSB 3041\, University of California Santa Barbara\, Santa Barbara\, CA\, 93106\, United States
GEO:34.4139629;-119.848947
X-APPLE-STRUCTURED-LOCATION;VALUE=URI;X-ADDRESS=HSSB 3041 University of California Santa Barbara Santa Barbara CA 93106 United States;X-APPLE-RADIUS=500;X-TITLE=University of California Santa Barbara:geo:-119.848947,34.4139629
END:VEVENT
BEGIN:VEVENT
DTSTART;TZID=America/Los_Angeles:20160219T130000
DTEND;TZID=America/Los_Angeles:20160219T150000
DTSTAMP:20260421T165002
CREATED:20160130T211552Z
LAST-MODIFIED:20160208T224508Z
UID:10002417-1455886800-1455894000@history.ucsb.edu
SUMMARY:Desmond King\, "When  the State Stops: The Unruly Demise of Federal Civil Rights Activism"
DESCRIPTION:Professor Desmond King is the author Making Americans: Immigration\, Race\, and the Origins of Diverse Democracy (Harvard University Press\, 2002) and co-author (with Lawrence Jacobs) of Fed Power: The Federal Reserve and the Great Recession (forthcoming).
URL:https://history.ucsb.edu/events/desmond-king-university-of-oxford-when-the-state-stops-the-unruly-demise-of-federal-civil-rights-activism/
LOCATION:HSSB 4041\, University of California Santa Barbara\, Santa Barbara\, CA\, 93106\, United States
CATEGORIES:Public Lecture
ATTACH;FMTTYPE=image/jpeg:https://history.ucsb.edu/wp-content/uploads/desmond-king.jpg
GEO:34.4139629;-119.848947
X-APPLE-STRUCTURED-LOCATION;VALUE=URI;X-ADDRESS=HSSB 4041 University of California Santa Barbara Santa Barbara CA 93106 United States;X-APPLE-RADIUS=500;X-TITLE=University of California Santa Barbara:geo:-119.848947,34.4139629
END:VEVENT
BEGIN:VEVENT
DTSTART;TZID=America/Los_Angeles:20160223T140000
DTEND;TZID=America/Los_Angeles:20160223T150000
DTSTAMP:20260421T165002
CREATED:20160222T171119Z
LAST-MODIFIED:20160222T171119Z
UID:10002421-1456236000-1456239600@history.ucsb.edu
SUMMARY:Probing "Presence": Photography and Policing in Colonial South Africa
DESCRIPTION:TALK: \nLorena Rizzo (University of Bielefeld & Harvard University) \nProbing “Presence” – Photography and Policing in Colonial South Africa \nThe presentation starts from research conducted in the Western Cape Archives in 2012/3. While working on a collection of photographic albums produced in a Cape Town convict station in the late 19th and early 20th century\, I came across a pair of photographs portraying a convict who bore my surname. I use this archival coincidence or curiosity as an entry point into a methodological and theoretical discussion of the status of photography as a historical source and its appeal as a medium to genealogical research and memory studies. While revisiting some of the classical texts on photography\, among them Roland Barthes’s Camera Lucida\, this paper focuses on Eelco Runia’s notion of “presence.” In sum\, it examines some of the ways in which historical photographs resonate with contemporary negotiations of the past in South Africa. \n  \nThe talk is sponsored by the IHC’s African Studies Research Focus Group\, History (Research Cluster Empires\, Borderlands\, and their Legacies)\, History of Art and Architecture\, Film and Media Studies. \nEvent Flyer
URL:https://history.ucsb.edu/events/probing-presence-photography-and-policing-in-colonial-south-africa/
LOCATION:SSMS 2135\, 2135 Social Sciences and Media Studies Building\, Santa Barbara\, CA\, 93106\, United States
CATEGORIES:Public Lecture
GEO:34.4152249;-119.8493908
X-APPLE-STRUCTURED-LOCATION;VALUE=URI;X-ADDRESS=SSMS 2135 2135 Social Sciences and Media Studies Building Santa Barbara CA 93106 United States;X-APPLE-RADIUS=500;X-TITLE=2135 Social Sciences and Media Studies Building:geo:-119.8493908,34.4152249
END:VEVENT
BEGIN:VEVENT
DTSTART;TZID=America/Los_Angeles:20160223T190000
DTEND;TZID=America/Los_Angeles:20160223T200000
DTSTAMP:20260421T165002
CREATED:20160118T023625Z
LAST-MODIFIED:20160118T023625Z
UID:10002413-1456254000-1456257600@history.ucsb.edu
SUMMARY:Book Launch and Signing: James F. Brooks\, Mesa of Sorrows: A History of the Awat'ovi Massacre
DESCRIPTION:On Tuesday\, February 23\, 2016\, Chaucer Books in Santa Barbara will be hosted a book launch/signing for James F. Brooks’ new monograph\, Mesa of Sorrows: A History of the Awat’ovi Massacre. \n  \nFor additional information on Mesa of Sorrows\, please visit the following URL: http://books.wwnorton.com/books/Mesa-of-Sorrows/
URL:https://history.ucsb.edu/events/book-launch-and-signing-james-f-brooks-mesa-of-sorrows-a-history-of-the-awatovi-massacre/
LOCATION:Chaucer Books\, 3321 State Street\, Santa Barbara\, CA\, 93105\, United States
GEO:34.4403263;-119.7349172
X-APPLE-STRUCTURED-LOCATION;VALUE=URI;X-ADDRESS=Chaucer Books 3321 State Street Santa Barbara CA 93105 United States;X-APPLE-RADIUS=500;X-TITLE=3321 State Street:geo:-119.7349172,34.4403263
END:VEVENT
BEGIN:VEVENT
DTSTART;TZID=America/Los_Angeles:20160228T123000
DTEND;TZID=America/Los_Angeles:20160228T150000
DTSTAMP:20260421T165002
CREATED:20160210T001001Z
LAST-MODIFIED:20160210T184719Z
UID:10002420-1456662600-1456671600@history.ucsb.edu
SUMMARY:Holly Roose: 3rd Annual Van Gelderen Graduate Student Lecture
DESCRIPTION:On February 28\, the UCSB History Associates present the 3rd annual Van Gelderen Lecture shocasing graduate student Holly Roose who will talk about her doctoral dissertation: \n“Once you go Black you got to go back: Multicultural Garveyism in the Far West” \nAbout our Speaker:\nHolly Roose has recently completed her doctoral dissertation and will receive her degree soon. In 2015\, she won a campus-wide Graduate Student Association Teaching Prize and also received the History Department’s Outstanding TA Award. \nLecture Background:\nBetween 1916 and 1925\, Marcus Garvey created the largest Black nationalist movement in world history\, in in the American West his work linked up with other such movements in ways that have gone unstudied by scholars. \nOnce you go “Black” (that is\, become interested in the issues of race\, Blackness\, and current social issues)\, you have to go “Back” (become knowledgeable about the U.S.’s shared racial history and dynamics to under-stand our contemporary experiences). “Black Lives Matter” and the violence visited upon on the bodies of Black men and women are not new social phenomena\, but have deep roots in the nation’s foundations. These issues must be examined by investigating their origins\, paths of continuity\, and impacts which flow down from that history. One of the most fruitful areas lies in the nature of Black identity and the articulation of the ob-jectives of racial progress that emerged from the con-cept of Black nationalism as conceived in the early 20th century. These were central to the Civil Rights and Black Power movements of the mid 1950s through the 1970s. \nLuncheon\nA luncheon of bbq beef and chicken will be served at 12:30 pm in the Alumni Hall on the plaza level (second floor) of the Mosher Alumni House. The Alumni House is at the entrance road for Campbell Hall\, next to con-venient parking ($3 on weekends). \nCampus map available at: http://www.tps.ucsb.edu/mapFlash.aspx \nRSVP\nPlease see attached flyer and send in your reservation. \nCost\n$10 for graduate students\, $20 for History Associates members and their guests\, and $25 for non-members.
URL:https://history.ucsb.edu/events/holly-roose-3rd-annual-van-gelderen-graduate-student-lecture/
LOCATION:Alumni Hall\, Mosher Alumni Center\, UCSB\, Santa Barbara \, CA\, 93106\, United States
CATEGORIES:Public Lecture
ATTACH;FMTTYPE=image/jpeg:https://history.ucsb.edu/wp-content/uploads/Roose1.jpg
GEO:34.4140478;-119.8455644
X-APPLE-STRUCTURED-LOCATION;VALUE=URI;X-ADDRESS=Alumni Hall Mosher Alumni Center UCSB Santa Barbara  CA 93106 United States;X-APPLE-RADIUS=500;X-TITLE=UCSB:geo:-119.8455644,34.4140478
END:VEVENT
END:VCALENDAR