BEGIN:VCALENDAR
VERSION:2.0
PRODID:-//Department of History, UC Santa Barbara - ECPv6.15.12.1//NONSGML v1.0//EN
CALSCALE:GREGORIAN
METHOD:PUBLISH
X-ORIGINAL-URL:https://history.ucsb.edu
X-WR-CALDESC:Events for Department of History, UC Santa Barbara
REFRESH-INTERVAL;VALUE=DURATION:PT1H
X-Robots-Tag:noindex
X-PUBLISHED-TTL:PT1H
BEGIN:VTIMEZONE
TZID:America/Denver
BEGIN:DAYLIGHT
TZOFFSETFROM:-0700
TZOFFSETTO:-0600
TZNAME:MDT
DTSTART:20140309T090000
END:DAYLIGHT
BEGIN:STANDARD
TZOFFSETFROM:-0600
TZOFFSETTO:-0700
TZNAME:MST
DTSTART:20141102T080000
END:STANDARD
BEGIN:DAYLIGHT
TZOFFSETFROM:-0700
TZOFFSETTO:-0600
TZNAME:MDT
DTSTART:20150308T090000
END:DAYLIGHT
BEGIN:STANDARD
TZOFFSETFROM:-0600
TZOFFSETTO:-0700
TZNAME:MST
DTSTART:20151101T080000
END:STANDARD
BEGIN:DAYLIGHT
TZOFFSETFROM:-0700
TZOFFSETTO:-0600
TZNAME:MDT
DTSTART:20160313T090000
END:DAYLIGHT
BEGIN:STANDARD
TZOFFSETFROM:-0600
TZOFFSETTO:-0700
TZNAME:MST
DTSTART:20161106T080000
END:STANDARD
END:VTIMEZONE
BEGIN:VEVENT
DTSTART;TZID=America/Denver:20151102T120000
DTEND;TZID=America/Denver:20151102T130000
DTSTAMP:20260419T145539
CREATED:20151026T165721Z
LAST-MODIFIED:20151026T193209Z
UID:10002065-1446465600-1446469200@history.ucsb.edu
SUMMARY:Magna Carta Lecture
DESCRIPTION:Speaker:\nJoshua C. Tate\nSMU Dedman School of Law \n  \nEvent Description: \nPlease join us in HSSB 4080 at noon on Monday\, November 2 to hear Josh Tate lecture on the Magna Carta. Josh is a professor at SMU Dedman School of Law and is the author of many articles on medieval legal history. Light refreshments will be served.
URL:https://history.ucsb.edu/events/magna-carta-lecture/
LOCATION:HSSB 4080\, 4080 Humanities and Social Sciences Building\, UC Santa Barbara\, Santa Barbara\, CA\, 93106\, United States
ATTACH;FMTTYPE=image/jpeg:https://history.ucsb.edu/wp-content/uploads/Joshua-C.-Tate.jpg
GEO:34.4139629;-119.848947
X-APPLE-STRUCTURED-LOCATION;VALUE=URI;X-ADDRESS=HSSB 4080 4080 Humanities and Social Sciences Building UC Santa Barbara Santa Barbara CA 93106 United States;X-APPLE-RADIUS=500;X-TITLE=4080 Humanities and Social Sciences Building\, UC Santa Barbara:geo:-119.848947,34.4139629
END:VEVENT
BEGIN:VEVENT
DTSTART;TZID=America/Denver:20151106T130000
DTEND;TZID=America/Denver:20151106T150000
DTSTAMP:20260419T145539
CREATED:20151016T220153Z
LAST-MODIFIED:20151016T221514Z
UID:10002396-1446814800-1446822000@history.ucsb.edu
SUMMARY:David Engerman\, How to Lose by Winning: Soviet Economic Aid to India in the 1960s
DESCRIPTION:Professor Engerman’s most recent book is Know Your Enemy: The Rise and Fall of America’s Soviet Experts (Oxford University Press\, 2009). \n  \nThis event is one of many included in the Center for the Study of Work\, Labor\, and Democracy‘s “Power and Policy across National Borders” series.
URL:https://history.ucsb.edu/events/david-engerman-how-to-lose-by-winning-soviet-economic-aid-to-india-in-the-1960s/
LOCATION:CA
END:VEVENT
BEGIN:VEVENT
DTSTART;TZID=America/Denver:20151109T180000
DTEND;TZID=America/Denver:20151109T200000
DTSTAMP:20260419T145539
CREATED:20151013T220703Z
LAST-MODIFIED:20151016T213342Z
UID:10002378-1447092000-1447099200@history.ucsb.edu
SUMMARY:John McK. Camp\, The Archaeology of Democracy
DESCRIPTION:Speaker:\nDr. John McK. Camp\nDirector of the Athenian Agora Excavations \n  \nEvent Description: \nAncient Athens is generally regarded as the birthplace of the world’s first democracy. The administrative center of Athenian democracy was the Agora\, the main square of the city\, which has been under excavation for the past eighty-five years. Here have been found the buildings which housed the government (magistrates’ offices\, law courts\, and assembly places)\, along with the objects used every day to make sure the system worked as it should (laws and regulations inscribed on stone\, allotment machines\, water clocks\, and ballots). A visitor to the agora in antiquity would have occasion to see all three branches of the government in action: executive\, legislative\, and judicial. This lecture will illuminate the archaeological material that sheds light on the development and practice of this political phenomenon. \n  \nEvent Flyer:
URL:https://history.ucsb.edu/events/john-mck-camp-the-archaeology-of-democracy/
LOCATION:Karpeles Manuscript Library\, 21 West Anapamu Street\, Santa Barbara\, CA\, United States
ATTACH;FMTTYPE=image/jpeg:https://history.ucsb.edu/wp-content/uploads/The-Archeology-of-Democracy-Image.jpg
GEO:34.4225149;-119.7048421
X-APPLE-STRUCTURED-LOCATION;VALUE=URI;X-ADDRESS=Karpeles Manuscript Library 21 West Anapamu Street Santa Barbara CA United States;X-APPLE-RADIUS=500;X-TITLE=21 West Anapamu Street:geo:-119.7048421,34.4225149
END:VEVENT
BEGIN:VEVENT
DTSTART;TZID=America/Denver:20151109T193000
DTEND;TZID=America/Denver:20151109T213000
DTSTAMP:20260419T145539
CREATED:20151103T005809Z
LAST-MODIFIED:20240417T172855Z
UID:10002069-1447097400-1447104600@history.ucsb.edu
SUMMARY:Film Showing: Run Boy Run
DESCRIPTION:Kristallnacht Commemoration and Santa Barbara Premiere\nWinner of 10 Film Festival Audience Awards \n  \nA superlative saga of courage and compassion\, Run Boy Run tells the extraordinary true story of a Polish boy who seeks the kindness of others in his solitary struggle to outlast the Nazi occupation and keep alive his Jewish faith. \nEscaping the Warsaw ghetto at the behest of his father\, nine-year old Srulik (movingly portrayed by twin child actors Andrzej and Kamil Tkacz) flees to the woods. There\, he learns to hide from SS patrols and scour for food\, until loneliness and the harsh onset of winter drive him back to civilization. Taken in by a kindhearted farmer’s wife (Elisabeth Duda)\, he is given shelter and a new identity. Passing himself off as Jurek\, a Christian war orphan\, the intrepid boy traverses the countryside from village to village\, working as a farmhand under an ever-present threat of persecution. Some will help him survive and others will betray him. Just when it seems his childhood memories and identity could be lost forever\, Jurek’s harrowing journey culminates in a powerhouse conclusion and postscript. \nAn unforgettable cinematic experience featuring exceptional performances\, arresting cinematography and transcendent musical score\, Run Boy Run is directed by Academy Award-winner Pepe Danquart and based on the bestselling Holocaust novel by Israeli author Uri Orlev. Newcomer Andy Tkacz plays Jurek together with a cast that includes Katarzyna Bargielowska (The Pianist)\, Rainer Bock (The White Ribbon)\, Jeanette Hain (Poll) and Itay Tiran (Lebanon).
URL:https://history.ucsb.edu/events/run-boy-run-film-screening/
LOCATION:Campbell Hall\, Building 538\, Santa Barbara\, CA\, 93106\, United States
CATEGORIES:Film Screening
ATTACH;FMTTYPE=image/jpeg:https://history.ucsb.edu/wp-content/uploads/runboyrun1.jpg
ORGANIZER;CN="Taubman Foundation Endowed Symposia in Jewish Studies":MAILTO:admin@ihc.ucsb.edu
GEO:34.4139629;-119.848947
X-APPLE-STRUCTURED-LOCATION;VALUE=URI;X-ADDRESS=Campbell Hall Building 538 Santa Barbara CA 93106 United States;X-APPLE-RADIUS=500;X-TITLE=Building 538:geo:-119.848947,34.4139629
END:VEVENT
BEGIN:VEVENT
DTSTART;TZID=America/Denver:20151112T160000
DTEND;TZID=America/Denver:20151112T180000
DTSTAMP:20260419T145539
CREATED:20151104T185233Z
LAST-MODIFIED:20151104T193808Z
UID:10002071-1447344000-1447351200@history.ucsb.edu
SUMMARY:Contemporary Iraq: Walls and Circuits
DESCRIPTION:Global Studies and the Center for Middle East Studies will be hosting an event titled\, “CONTEMPORARY IRAQ: WALLS AND CIRCUITS.”  \nMona Damluji\, Stanford University: “Baghdad’s Deep Dilemma: Urban Segregation Under Occupation” \nPaulo Hilu Pinto\, Fluminense Federal University (Brazil): “Remaking Transnational Shiism in Contemporary Iraq: Economic and Religious Geographies on the Pilgrim’s Road to Karbala” \nPaul Amar\, Global Studies: Moderator
URL:https://history.ucsb.edu/events/contemporary-iraq-walls-and-circuits/
LOCATION:SSMS 2135\, 2135 Social Sciences and Media Studies Building\, Santa Barbara\, CA\, 93106\, United States
CATEGORIES:Conference
GEO:34.4152249;-119.8493908
X-APPLE-STRUCTURED-LOCATION;VALUE=URI;X-ADDRESS=SSMS 2135 2135 Social Sciences and Media Studies Building Santa Barbara CA 93106 United States;X-APPLE-RADIUS=500;X-TITLE=2135 Social Sciences and Media Studies Building:geo:-119.8493908,34.4152249
END:VEVENT
BEGIN:VEVENT
DTSTART;TZID=America/Denver:20151118T180000
DTEND;TZID=America/Denver:20151118T200000
DTSTAMP:20260419T145539
CREATED:20151104T194408Z
LAST-MODIFIED:20151112T105013Z
UID:10002400-1447869600-1447876800@history.ucsb.edu
SUMMARY:Film Showing: Valentino's Ghost
DESCRIPTION:Hailed by the Village Voice as “both sobering and illuminating\,” Michael Singh’s documentary exposes how America’s foreign policy agenda in the Middle East drives U.S. media portrayals of Arabs and Muslims. It reveals truths behind taboo subjects often avoided or treated as sound bites and challenges the media barrage of misinformation about our complex relationship with the Middle East. Sherene Seikaly\, Assistant Professor of History\, will lead a post-film discussion. (93 min\, English\, 2012). \n  \nWatch the Trailer:\n[youtube http://www.youtube.com/watch?v=yb0Z_XErOgc]
URL:https://history.ucsb.edu/events/valentinos-ghost/
LOCATION:HSSB 4020\, University of California Santa Barbara\, Santa Barbara\, CA\, 93106\, United States
CATEGORIES:Film Screening,Public Lecture
ATTACH;FMTTYPE=image/jpeg:https://history.ucsb.edu/wp-content/uploads/vg-lowres.jpg
GEO:34.4139629;-119.848947
X-APPLE-STRUCTURED-LOCATION;VALUE=URI;X-ADDRESS=HSSB 4020 University of California Santa Barbara Santa Barbara CA 93106 United States;X-APPLE-RADIUS=500;X-TITLE=University of California Santa Barbara:geo:-119.848947,34.4139629
END:VEVENT
BEGIN:VEVENT
DTSTART;TZID=America/Denver:20151118T190000
DTEND;TZID=America/Denver:20151118T203000
DTSTAMP:20260419T145539
CREATED:20151115T224727Z
LAST-MODIFIED:20151115T225709Z
UID:10002403-1447873200-1447878600@history.ucsb.edu
SUMMARY:Orit Bashkin\, From Palestinian Village to an Iraqi Transit Camp
DESCRIPTION:Event Description:\nOver 130\,000 Iraqi Jews arrived in Israel during the 1950s; they were forced to settle in transit camps where they lived in horrendous poverty. Previous scholarship on this migration focused on the state and its actions towards\, and representations of\, these newcomers. Later generations of scholars highlighted the resistance of Mizrahi men to the state\, in the form of mass demonstrations\, urban riots\, and the construction of political parties. This talk\, in contrast\, examines the Iraqi individuals in the camps: how family life took shape when families lived in crowded tents and wooden shacks; how Iraqi women raised children in the most dreadful conditions; and how children struggled to survive cold winters and loss of any sense of security. The focus on daily lives in the transit camps\, I argue\, changes the ways in which we understand resistance. I focus in particular on Iraqis forced to settle in transit camps built on the ruins of the Palestinian villages\, Kafar ‘Ana\, Khayriyya and Sakiyya and analyze the relationships between the native population displaced\, the Palestinians\, and the new population\, forced to settle there\, the Iraqi Jews. \n  \nAbout the Speaker:\nOrit Bashkin got her Ph.D. from Princeton University (2004) and her BA (1995) and MA (1999) from Tel Aviv University. She is now a professor of modern Arab history in the Department of Near Eastern Languages and Civilizations at the University of Chicago. Her publications include 25 book chapters and articles on the history of Arab-Jews in Iraq\, on Iraqi history and on Arabic literature. She has also edited a book Sculpturing Culture in Egypt [le-fasel tarbut be-mitzrayim] with Israel Gershoni and Liat Kozma\, which included translations into Hebrew of seminal works by Egyptian intellectuals. She is the author of the following books: The Other Iraq – Pluralism and Culture in Hashemite Iraq (Stanford University Press\, 2009 and Paperback\, 2010)\, New Babylonians: A History of Jews in Modern Iraq (Stanford University Press\, 2012). \n  \nEvent Flyer:
URL:https://history.ucsb.edu/events/orit-bashkin-from-palestinian-village-to-an-iraqi-transit-camp/
LOCATION:HSSB 4020\, University of California Santa Barbara\, Santa Barbara\, CA\, 93106\, United States
ATTACH;FMTTYPE=image/jpeg:https://history.ucsb.edu/wp-content/uploads/Orit-Bashkin.jpg
GEO:34.4139629;-119.848947
X-APPLE-STRUCTURED-LOCATION;VALUE=URI;X-ADDRESS=HSSB 4020 University of California Santa Barbara Santa Barbara CA 93106 United States;X-APPLE-RADIUS=500;X-TITLE=University of California Santa Barbara:geo:-119.848947,34.4139629
END:VEVENT
BEGIN:VEVENT
DTSTART;TZID=America/Denver:20151119T133000
DTEND;TZID=America/Denver:20151119T143000
DTSTAMP:20260419T145540
CREATED:20151113T131302Z
LAST-MODIFIED:20240417T172721Z
UID:10002402-1447939800-1447943400@history.ucsb.edu
SUMMARY:Hussein Ibish\, Anxious Allies: The Arab Gulf States and the Iran Nuclear Deal
DESCRIPTION:Event Description: \nIsrael’s opposition to the Iran nuclear deal is well-known. But how are other U.S. allies in the Middle East\, especially Arab Gulf states like Saudi Arabia\, the UAE\, Qatar and Kuwait\, reacting to the agreement? Are the Sunni Arab countries on a collision course with Iran and its allies\, or is some degree of accommodation possible? Dr. Hussein Ibish examines these and similar questions\, and considers policy options facing the United States. \n  \nHussein Ibish is a Senior Resident Scholar at the Arab Gulf States Institute in Washington. He is a regular contributor to The National (UAE)\, The International New York Times\, and many other U.S. and Middle Eastern publications. He is the author What’s Wrong With the One-State Agenda? Why Ending the Occupation and Peace with Israel is Still the Palestinian National Goal (American Task Force on Palestine\, 2009). From 2001 to 2008 Dr. Ibish was the editor and principal author of three major studies of hate crimes and discrimination against Arab Americans\, commissioned by the American Arab Anti-Discrimination Committee. He co-authored (with Ali Abunimah) The Palestinian Right of Return (ADC\, 2001) and co-edited (with Saliba Sarsar) Principles and Pragamatism (Verso\, 2006). Ibish previously served as a senior fellow at the American Task Force on Palestine\, as executive director of the Hala Salaam Maksoud Foundation for Arab-American Leadership from 2004 to 2009\, and as communications director for the American-Arab Anti-Discrimination Committee. \n  \nEvent Flyer:
URL:https://history.ucsb.edu/events/hussein-ibish-anxious-allies-the-arab-gulf-states-and-the-iran-nuclear-deal/
LOCATION:HSSB 6056\, UCSB\, CA\, United States
CATEGORIES:Public Lecture
ATTACH;FMTTYPE=image/jpeg:https://history.ucsb.edu/wp-content/uploads/Hussein-Ibish.jpg
GEO:34.4271935;-119.8398835
X-APPLE-STRUCTURED-LOCATION;VALUE=URI;X-ADDRESS=HSSB 6056 UCSB CA United States;X-APPLE-RADIUS=500;X-TITLE=UCSB:geo:-119.8398835,34.4271935
END:VEVENT
BEGIN:VEVENT
DTSTART;TZID=America/Denver:20151120T130000
DTEND;TZID=America/Denver:20151120T150000
DTSTAMP:20260419T145540
CREATED:20151016T220713Z
LAST-MODIFIED:20151116T232009Z
UID:10002397-1448024400-1448031600@history.ucsb.edu
SUMMARY:Maria Fedorova\, Radical Relief: American Food  Aid to the Soviet Union\, 1921-1923
DESCRIPTION:Ms. Fedorova is completing a dissertation on American food aid and agricultural development in the Soviet Union during the 1920s and early 1930s. \n  \nThis event is one of many included in the Center for the Study of Work\, Labor\, and Democracy‘s “Power and Policy across National Borders” series.
URL:https://history.ucsb.edu/events/maria-fedorova-radical-relief-american-food-aid-to-the-soviet-union-1921-1923/
LOCATION:HSSB 4041\, University of California Santa Barbara\, Santa Barbara\, CA\, 93106\, United States
CATEGORIES:Public Lecture
ATTACH;FMTTYPE=image/jpeg:https://history.ucsb.edu/wp-content/uploads/maria_fedorova.jpg
GEO:34.4139629;-119.848947
X-APPLE-STRUCTURED-LOCATION;VALUE=URI;X-ADDRESS=HSSB 4041 University of California Santa Barbara Santa Barbara CA 93106 United States;X-APPLE-RADIUS=500;X-TITLE=University of California Santa Barbara:geo:-119.848947,34.4139629
END:VEVENT
END:VCALENDAR