BEGIN:VCALENDAR
VERSION:2.0
PRODID:-//Department of History, UC Santa Barbara - ECPv6.15.12.1//NONSGML v1.0//EN
CALSCALE:GREGORIAN
METHOD:PUBLISH
X-ORIGINAL-URL:https://history.ucsb.edu
X-WR-CALDESC:Events for Department of History, UC Santa Barbara
REFRESH-INTERVAL;VALUE=DURATION:PT1H
X-Robots-Tag:noindex
X-PUBLISHED-TTL:PT1H
BEGIN:VTIMEZONE
TZID:America/Denver
BEGIN:DAYLIGHT
TZOFFSETFROM:-0700
TZOFFSETTO:-0600
TZNAME:MDT
DTSTART:20140309T090000
END:DAYLIGHT
BEGIN:STANDARD
TZOFFSETFROM:-0600
TZOFFSETTO:-0700
TZNAME:MST
DTSTART:20141102T080000
END:STANDARD
BEGIN:DAYLIGHT
TZOFFSETFROM:-0700
TZOFFSETTO:-0600
TZNAME:MDT
DTSTART:20150308T090000
END:DAYLIGHT
BEGIN:STANDARD
TZOFFSETFROM:-0600
TZOFFSETTO:-0700
TZNAME:MST
DTSTART:20151101T080000
END:STANDARD
BEGIN:DAYLIGHT
TZOFFSETFROM:-0700
TZOFFSETTO:-0600
TZNAME:MDT
DTSTART:20160313T090000
END:DAYLIGHT
BEGIN:STANDARD
TZOFFSETFROM:-0600
TZOFFSETTO:-0700
TZNAME:MST
DTSTART:20161106T080000
END:STANDARD
END:VTIMEZONE
BEGIN:VEVENT
DTSTART;TZID=America/Denver:20150719T000000
DTEND;TZID=America/Denver:20150719T000000
DTSTAMP:20260420T041802
CREATED:20150928T112908Z
LAST-MODIFIED:20240417T172924Z
UID:10002349-1437264000-1437264000@history.ucsb.edu
SUMMARY:We Remember Them: Acts of Love and Compassion in Isla Vista
DESCRIPTION:Opening hours: Monday – Thursday 11am-4pm\, until August 13 only!\nLocation: Building 479 (The Red Barn/Old Gym)\, near the bus loop by South Hall on the UCSB campus. \nA space for healing and reflection\, this exhibition honors the acts of love and compassion that emerged in Isla Vista and on campus after the tragedy on May 23\, 2014. Through photographs of planned and unplanned memorials\, artifacts and messages left at spontaneous memorial sites\, and documentation of support from around the globe\, the exhibition remembers those who died and were injured\, and tells the story of a community empowered by its own humanity in reacting to a collective loss. \nMore information\, including directions and flickr gallery\, available at the UCSB Library We Remember Them website\, as well as on the We Remember Them facebook event page. \nIf you want a preview\, 805Productions has created a Google 360 Tour. \nJune 14\, 2015 feature article from Noozhawk: “Exhibit Helps Isla Vista Grieve for Victims of 2014 Massacre.” \nPlease note that counseling is available on campus\, and that you can speak with a counselor 24 hours a day\, year-round at (805) 893-4411. More information is available at: UCSB Counseling Services. \nhm 7/19/15
URL:https://history.ucsb.edu/events/we-remember-them-acts-of-love-and-compassion-in-isla-vista/
LOCATION:Unnamed Venue\, CA\, United States
GEO:36.778261;-119.4179324
END:VEVENT
END:VCALENDAR