BEGIN:VCALENDAR
VERSION:2.0
PRODID:-//Department of History, UC Santa Barbara - ECPv6.15.12.1//NONSGML v1.0//EN
CALSCALE:GREGORIAN
METHOD:PUBLISH
X-WR-CALNAME:Department of History, UC Santa Barbara
X-ORIGINAL-URL:https://history.ucsb.edu
X-WR-CALDESC:Events for Department of History, UC Santa Barbara
REFRESH-INTERVAL;VALUE=DURATION:PT1H
X-Robots-Tag:noindex
X-PUBLISHED-TTL:PT1H
BEGIN:VTIMEZONE
TZID:America/Denver
BEGIN:DAYLIGHT
TZOFFSETFROM:-0700
TZOFFSETTO:-0600
TZNAME:MDT
DTSTART:20140309T090000
END:DAYLIGHT
BEGIN:STANDARD
TZOFFSETFROM:-0600
TZOFFSETTO:-0700
TZNAME:MST
DTSTART:20141102T080000
END:STANDARD
BEGIN:DAYLIGHT
TZOFFSETFROM:-0700
TZOFFSETTO:-0600
TZNAME:MDT
DTSTART:20150308T090000
END:DAYLIGHT
BEGIN:STANDARD
TZOFFSETFROM:-0600
TZOFFSETTO:-0700
TZNAME:MST
DTSTART:20151101T080000
END:STANDARD
BEGIN:DAYLIGHT
TZOFFSETFROM:-0700
TZOFFSETTO:-0600
TZNAME:MDT
DTSTART:20160313T090000
END:DAYLIGHT
BEGIN:STANDARD
TZOFFSETFROM:-0600
TZOFFSETTO:-0700
TZNAME:MST
DTSTART:20161106T080000
END:STANDARD
END:VTIMEZONE
BEGIN:VEVENT
DTSTART;TZID=America/Denver:20150504T000000
DTEND;TZID=America/Denver:20150504T000000
DTSTAMP:20260424T144046
CREATED:20150928T112905Z
LAST-MODIFIED:20150928T112905Z
UID:10002316-1430697600-1430697600@history.ucsb.edu
SUMMARY:American Population Politics in Global Perspective
DESCRIPTION:This  lecture series on the biopolitics of reproduction in the US and globally is hosted by the Black Studies Colloquium\, with the co-sponsorship of the department of Feminist Studies\, Chicana and Chicano Studies\, the History of Science Program\, and the New Health\, Medicine\, and Care Working Group.\nSpeakers will explore how cultural and political commitments shape and constrain the conditions under which women and people of color control their reproductive lives and experience ownership over their own biology. This lecture series approaches these issues from a historical and ethnographic perspective\, exploring the eugenics movement\, progressive era public health reform\, cultural politics of abortion\, and the science of women’s reproductive systems. \nhm 4/1/15
URL:https://history.ucsb.edu/events/american-population-politics-in-global-perspective/
LOCATION:CA
END:VEVENT
BEGIN:VEVENT
DTSTART;TZID=America/Denver:20150506T000000
DTEND;TZID=America/Denver:20150506T000000
DTSTAMP:20260424T144046
CREATED:20150928T112906Z
LAST-MODIFIED:20150928T112906Z
UID:10002328-1430870400-1430870400@history.ucsb.edu
SUMMARY:Tens of Thousands of Page Views and Counting: Why One Scholar Contributes to Wikipedia
DESCRIPTION:Since retiring from teaching in Spring 2014\, Sarah Cline has become an  enthusiastic Wikipedian\, one of just 20% who are women.  Now\, a year  into Wiki editing\, she has nearly 2\,000 edits on 302 different pages\,  mostly in English\, a few in Spanish.  She will discuss what got her  started and what keeps her engaged in this evolving crowd-sourced\,  public history publishing endeavor.  From a skeptic to a convert —  the evolution of one Wikipedian.\nPlease join us for this brown-bag lunch event. \nhm 4/17/15
URL:https://history.ucsb.edu/events/tens-of-thousands-of-page-views-and-counting-why-one-scholar-contributes-to-wikipedia/
LOCATION:CA
END:VEVENT
BEGIN:VEVENT
DTSTART;TZID=America/Denver:20150506T000000
DTEND;TZID=America/Denver:20150506T000000
DTSTAMP:20260424T144046
CREATED:20150928T112906Z
LAST-MODIFIED:20150928T112906Z
UID:10002333-1430870400-1430870400@history.ucsb.edu
SUMMARY:J-Rap\, AKB48\, and Miku: Japan's Musical Creativity in an Age of Free
DESCRIPTION:Now that recorded music is always available for free\, what are the possible futures for musicians and fans? This talk will explore recent developments in Japan\, including the resurgence of Japanese hip-hop\, idol groups like AKB48\, and a virtual idol\, or “vocaloid\,” by the name of Hatsune Miku. Each case highlights different dynamics in the restructuring of business and creativity\, and fan and musician interaction.  I argue that music offers lessons for rethinking capitalism and democracy in the 21st century.\nBio: Ian Condry is a cultural anthropologist who studies cultural movements that go global from below.  He is Professor and Head of Global Studies and Langages at the Massachusetts Institute of Technology.   He is the author of two books\, “Hip-Hop Japan” (2008) and “The Soul of Anime” (2013).  His new research lab is the Creative Communities Initiative which uses ethnography to explore the connections between online and offline worlds\, and their potential to offer new solutions to old problems. More info: click the link below. \nhm 5/1/15
URL:https://history.ucsb.edu/events/j-rap-akb48-and-miku-japans-musical-creativity-in-an-age-of-free/
LOCATION:CA
END:VEVENT
BEGIN:VEVENT
DTSTART;TZID=America/Denver:20150508T000000
DTEND;TZID=America/Denver:20150508T000000
DTSTAMP:20260424T144046
CREATED:20150928T112907Z
LAST-MODIFIED:20150928T112907Z
UID:10002335-1431043200-1431043200@history.ucsb.edu
SUMMARY:War and Remembrance: Cultural Imprints of Japan’s Samurai Age
DESCRIPTION:An interdisciplinary group of scholars of medieval and early modern Japanese literature\, history\, religion\, and performing arts examine topics related to “War and Remembrance” during Japan’s years of military rule (late 12th to late 19th centuries). Exploring a range of representations and responses to war\, participants examine the impacts of war on cultural memory and production.\nThis conference is a program of UCSB’s Department of East Asian Languages and Cultural Studies with co-sponsorship from the UCSB College of Letters & Science\, the Interdisciplinary Humanities Center\, the East Asia Center\, and the Departments of Theater and Dance\, History\, and Comparative Literature. \nFunding also provided by the Japan-U.S. Friendship Commission and the Northeast Asia Council of the Association for Asian Studies  \nFor information about the conference schedule\, participants\, and papers\, please see the website below:  \nhm 5/5/15
URL:https://history.ucsb.edu/events/war-and-remembrance-cultural-imprints-of-japans-samurai-age/
LOCATION:CA
END:VEVENT
BEGIN:VEVENT
DTSTART;TZID=America/Denver:20150513T000000
DTEND;TZID=America/Denver:20150513T000000
DTSTAMP:20260424T144046
CREATED:20150928T112905Z
LAST-MODIFIED:20150928T112905Z
UID:10002001-1431475200-1431475200@history.ucsb.edu
SUMMARY:Science\, Secrecy\, and the Soviet State
DESCRIPTION:Secrecy was endemic in Soviet society and culture. Information that we might consider benign in the Western context was off-limits to most of the general populace throughout the existence of the Soviet Union. Controls over the circulation of information were particularly strict relating to matters of national security\, which usually subsumed most scientific and engineering activity. Yet\, the state also had an imperative to publicize Soviet achievements in science and technology even as it kept most of this activity secret. This obvious contradiction forms the backdrop to my current paper in which I describe limits on the production\, circulation\, and interpretation of scientific knowledge in the Soviet Union (with examples of secret artifacts\, people\, and institutions) as a way to add to a broader discussion of secrecy and science and technology in the 20th century. \nAbout the Speaker\nAsif Siddiqi is a Professor of History at Fordham University in New York and specializes in the history of 20th century science and technology. He has written widely on the Soviet space program\, including his most recent book The Red Rockets’ Glare: Spaceflight and the Soviet Imagination\, 1857-1957 (Cambridge\, 2010). His new projects include a book project on the history of use of scientific and engineering expertise to maintain and expand the Stalinist Gulag. He is also writing book on the origins of the Indian space program set in the larger context of Cold War science in a postcolonial setting.
URL:https://history.ucsb.edu/events/science-secrecy-and-the-soviet-state/
LOCATION:CA
END:VEVENT
BEGIN:VEVENT
DTSTART;TZID=America/Denver:20150514T000000
DTEND;TZID=America/Denver:20150514T000000
DTSTAMP:20260424T144046
CREATED:20150928T112906Z
LAST-MODIFIED:20150928T112906Z
UID:10002332-1431561600-1431561600@history.ucsb.edu
SUMMARY:When Worlds Collide: Fracking and Community in Rio Arriba County\, New Mexico
DESCRIPTION:In July 2012\, the Bureau of Land Management announced atwo-week public scoping period for its decision to fulfill its\nmandate under the Mineral Leasing Act of 1920 to “explore\nfor and develop oil and gas resources on public lands through\na competitive leasing process” on 343\,439 acres in Rio Arriba\nCounty\, New Mexico. Included in these lands were 13\,300\nacres on the Cebolla Mesa\, in the heart of the 2 million acre Rio\nChama Basin. As a result of community responses\, the BLM\ndeferred action in February 2014\, “pending further analysis.”\nProf. James Brooks will report on his discussions with more than\n100 citizens of the region who have mounted a “cultural defense”\nof water rights in the region. A wine-and-cheese reception will\nfollow his talk. \nAbout the Speaker\nAn award-winning historian\, Prof. James Brooks has rejoined\nthe UCSB faculty after serving as President of the School for\nAdvanced Research in Santa Fe.. He has held appointments\nat the University of Maryland and UC Berkeley\, and\ncurrently serves as Chair of the Board of Directors of the\nWestern National Parks Association\, which supports research\,\npreservation and education in 67 National Parks\, including\nChannel Islands National Park. \nMembers and their guests: FREE; non-members: $5 \nPresented by the UCSB History Associates and the Santa Barbara Trust for Historic Preservation \nhm 4/29/15
URL:https://history.ucsb.edu/events/when-worlds-collide-fracking-and-community-in-rio-arriba-county-new-mexico/
LOCATION:CA
END:VEVENT
BEGIN:VEVENT
DTSTART;TZID=America/Denver:20150514T000000
DTEND;TZID=America/Denver:20150514T000000
DTSTAMP:20260424T144046
CREATED:20150928T112907Z
LAST-MODIFIED:20150928T112907Z
UID:10002338-1431561600-1431561600@history.ucsb.edu
SUMMARY:The Predicament of Aftermath: Memorializing Landscapes of Violence
DESCRIPTION:Prof. Linenthal is the author of:\nhe Landscapes of 9/11: A Photographer’s Journey. Austin: University of Texas Press\, 2013. (with Jonathan Hyman and Christiane Gruber) \nThe Unfinished Bombing: Oklahoma City in American Memory. New York: Oxford University Press\, 2001. \nHistory Wars: The Enola Gay and Other Battles for the American Past. New York: Metropolitan Books\, 1996. (with Tom Engelhardt)\n(Selected by the Los Angeles Times as one of the 10 most significant non-fiction books of 1996\, and recipient of an “Award of Merit” from the American Association for State and Local History.) \nPreserving Memory: The Struggle to Create America’s Holocaust Museum. 2nd edition. New York: Columbia University Press\, 2001. \nhm 5/13/15
URL:https://history.ucsb.edu/events/the-predicament-of-aftermath-memorializing-landscapes-of-violence/
LOCATION:CA
END:VEVENT
BEGIN:VEVENT
DTSTART;TZID=America/Denver:20150515T000000
DTEND;TZID=America/Denver:20150515T000000
DTSTAMP:20260424T144046
CREATED:20150928T112907Z
LAST-MODIFIED:20150928T112907Z
UID:10002337-1431648000-1431648000@history.ucsb.edu
SUMMARY:Senior Honors Seminar Presentations
DESCRIPTION:Everyone is invited to this event\, at which some of our best students present the fruits of two quarters of intensive research. Please attend as many presentations or panels as you would like.\nRefreshments will be available. \nThe event will be run in a conference panel-type format\, with the following schedule: \nPanel I: Contemporary Issues Around the World \n9:15	Zachary Alpert\, “The Failure of the United States to Render Usama Bin Laden to Justice through Diplomatic and Covert Action during his Residency in Afghanistan Prior to 9/11” (Mentor: Prof. Salim Yaqub)\nCommentator: Prof. Tsuyoshi Hasegawa \n9:45	Andrew Farkash\, “If Not Now\, When?: The Histories and Legacies of Jewish Dissent from Zionism” (Mentor: Prof. Paul Spickard)\nCommentator: Prof. Sherene Seikaly \n10:15	Alan Chuang\, ” The Rise of the Chinese Economy: Policy\, Innovation and Technology” (Mentor: Prof. Richard Appelbaum)\nCommentator: Prof. Lijuan Zhang \n10:45 Break \nPanel II: Ideas about Slavery in the 19th Century United States \n11:00	Grant E. Stanton\, “The Doctrine of the Declaration: Lincoln\, Douglass\, and The Battle Rhetorical” (Mentor: Prof. John Majewski)\nCommentator: Prof. Mary Furner \n11:30	Anne Kidder Osborn\, “De Bow’s South: How One Periodical Reflected Education Reform in the Antebellum South” (Mentor: Prof. John Majewski)\nCommentator: Jason Zeledon \n12:00 Lunch (a catered buffet will be available) \nPanel III: Media and Policy \n12:45	Geneva Douma\, “The Gendered History of Informed Consent: The Lunacy Commission and the “Treatment” of Female Mental Illness in Mid-Victorian England” (Mentor: Prof. Erika Rappoport)\nCommentator: Prof. Laury Oaks \n1:15	Evan Liddle\, “A ‘Media Campaign’? The German Press and the Early Yugoslav Crisis (1989-1992): A Comparative Case Study of Neues Deutschland\, Die Frankfurter Allgemeine Zeitung\, Der Spiegel\, and Die Süddeutsche Zeitung” (Mentor: Prof. Adrienne Edgar)\nCommentator: Prof. Salim Yaqub \n1:45	Adela Contreras\, “The Salvadoran Revolution in the U.S.: Rufina Amaya’s Testimonies\, January 1982” (Mentor: Prof. Miroslava Chavez-Garcia)\nCommentator: Prof. Cecilia Méndez \n2:15 Break \nPanel IV: Ancient and Early Modern Borderlands \n2:30	Brittany White\, “Late Roman Alexandria: A Hot Mess of Identity From the Emperor to the Common Alexandrian” (Mentor: Prof. Elizabeth DePalma Digeser)\nCommentator: Prof. Rose MacLean \n3:00	Richard Ibarra\, “Magnates\, Monks and Shepherds: Power and Land in Medieval Extremadura\, Spain” (Mentor: Prof. Debra Blumenthal)\nCommentator: Prof. Carol Lansing \nhm 5/10/15\, 5/12
URL:https://history.ucsb.edu/events/senior-honors-seminar-presentations/
LOCATION:CA
END:VEVENT
BEGIN:VEVENT
DTSTART;TZID=America/Denver:20150517T000000
DTEND;TZID=America/Denver:20150517T000000
DTSTAMP:20260424T144046
CREATED:20150928T112906Z
LAST-MODIFIED:20150928T112906Z
UID:10002334-1431820800-1431820800@history.ucsb.edu
SUMMARY:Island of the Blue Dolphins Revisited: The Search for the True Story
DESCRIPTION:Recently retired\, Steve was the Navy’s senior archaeologist on San Nicolas for the past 25 years. Due to this uniqueposition\, he has become one of the leading experts on the Lone Woman story\, the true story behind ‘Island of the Blue\nDolphins’. \nDuring his time with the Navy\, Steve oversaw the excavation of dozens of archaeological sites spanning several\nthousand years of island occupation. He also has a keen interest in the history of the island and has conducted studies of\nthe various historic themes from sheep ranching through the Cold War. He continues to research the story of the Lone\nWoman and publish his findings. \nSteve’s talk will recap what is known of the true story behind the\nbeloved children’s novel ‘Island of the Blue Dolphins’\, and will present\nthe latest archival and archaeological findings. Much new information\nhas come to light in the last few years; recently discovered Russian documents\nadd to our understanding of the circumstances of Lone Woman’s\nabandonment\, the tragic start of the story; on-going archival research into\nchurch and census records document the history of the rest of the tribe’s\nremoved in 1835; and new historical research adds to our understanding\nof her life in Santa Barbara\, the tragic end of the story. Also highlighted\nare exciting new archaeological finds that add details about her isolated\nlife on the island: the search to find the cave where she lived\, and the\namazing discovery of a cache of artifacts that show how she lived and\nsurvived. \nSteve has walked where she walked\, is one of the leading experts\non the story\, and has many insights from his 25 years of experience on the\nisland. \nAdmission is $15.00 for non-members\, $10.00 for SBMAL members\, OMSB Docents\, and students with valid ID.  \nAll proceeds benefit the  Santa Bárbara Mission Archive-Library  and Old Mission Santa Barbara.  \nFor more information call (805) 682-4713 or email director@sbmal.org  \nReservation Form available on our website\, below. \nhm 4/30/15; 5/5
URL:https://history.ucsb.edu/events/island-of-the-blue-dolphins-revisited-the-search-for-the-true-story/
LOCATION:CA
END:VEVENT
BEGIN:VEVENT
DTSTART;TZID=America/Denver:20150518T000000
DTEND;TZID=America/Denver:20150518T000000
DTSTAMP:20260424T144046
CREATED:20150928T112907Z
LAST-MODIFIED:20150928T112907Z
UID:10002336-1431907200-1431907200@history.ucsb.edu
SUMMARY:An Industrious Mind\, The Worlds of Sir Simonds D’Ewes
DESCRIPTION:In Promotion of Professor J. Sears McGee’s new book An Industrious Mind\, The Worlds of Sir Simonds D’Ewes (Stanford University Press\, 2015).With guest speaker Prof. Chris R. Kyle\, Associate Professor of History\, Syracuse University. \nReception to follow with light refreshments. \nThis is the first biography of Sir Simonds D’Ewes (1602–1650)\, a member of England’s Long Parliament\, a Puritan\, historian and antiquarian. D’Ewes took the Puritan side against the supporters of King Charles I in the English Civil War.  His extensive journal of the Long Parliament\, together with his autobiography and correspondence\, offer a uniquely comprehensive view of the life of a seventeenth-century English gentleman\, his opinions\, thoughts and prejudices during this tumultuous time. \nD’Ewes left the most extensive archive of personal papers of any individual in early modern Europe. His life and thought before the Long Parliament are carefully analyzed\, so that the mind of one of the Parliamentary opponents of King Charles I’s policies can be understood more fully than that of any other Member of Parliament. Although conservative in social and political terms\, D’Ewes’s Puritanism prevented him from joining his Royalist younger brother Richard during the civil war that began in 1642.  \nD’Ewes collected one of the largest private libraries of books and manuscripts in England in his era and used them to pursue historical and antiquarian research. He followed news of national and international events voraciously and conveyed his opinions of them to his friends in many hundreds of letters. McGee’s biography is the first thorough exploration of the life and ideas of this extraordinary observer\, offering fresh insight into this pivotal time in European history. \nCopies will be available for signing and purchase. (Cash or check only) \nhm 5/7/15
URL:https://history.ucsb.edu/events/an-industrious-mind-the-worlds-of-sir-simonds-dewes/
LOCATION:CA
END:VEVENT
BEGIN:VEVENT
DTSTART;TZID=America/Denver:20150519T000000
DTEND;TZID=America/Denver:20150519T000000
DTSTAMP:20260424T144046
CREATED:20150928T112907Z
LAST-MODIFIED:20150928T112907Z
UID:10002339-1431993600-1431993600@history.ucsb.edu
SUMMARY:Stanley Kubrick's classic World War I  film "Paths of Glory" (1957)\, starring Kirk Douglas.
DESCRIPTION:The UCSB  History Department and the Center for Cold War Studies and  International History will show Stanley Kubrick’s classic World War I  film “Paths of Glory” (1957)\, about the court-martialing of French  soldiers who refuse to continue a suicidal assault.\nIn addition to watching the movie\, we will hear expert commentary by  Prof. Ross Melnick of the UCSB Department of Film & Media Studies and  Prof. Jack Talbott of the UCSB Department of History.  They will  briefly discuss the significance of the film and the historical events  on which it is loosely based. \nEveryone is invited to attend. \nhm 5/14/15
URL:https://history.ucsb.edu/events/stanley-kubricks-classic-world-war-i-film-paths-of-glory-1957-starring-kirk-douglas/
LOCATION:CA
END:VEVENT
BEGIN:VEVENT
DTSTART;TZID=America/Denver:20150526T000000
DTEND;TZID=America/Denver:20150526T000000
DTSTAMP:20260424T144046
CREATED:20150928T112907Z
LAST-MODIFIED:20150928T112907Z
UID:10002342-1432598400-1432598400@history.ucsb.edu
SUMMARY:The Form and Content of Suffering: Humanitarian Knowledge and Genocide in the Early 20th Century Middle East
DESCRIPTION:Debates about the intertwined nature of humanity\, human rights and humanitarianism have brought historians into new fields bridging social\, international\, legal and colonial history. Keith David Watenpaugh’s book Bread from Stones: The Middle East and the Making of Modern Humanitarianism (University of California\, 2015) contributes to this debate from the unique perspective of the First World War and its aftermath in the Middle East. In this talk\, he argues that international and local efforts to address mass violence against the Ottoman Empire’s ethnic minorities gave rise to a new form of conceptualizing and writing about human suffering and human need ?humanitarian knowledge. Humanitarian knowledge was not only necessary to the design and implementation of humanitarian programs for rehabilitation and relief\, but was a critical element in the process of naming genocide and comprehending its vast\, multigenerational consequences for humanity.\nKeith David Watenpaugh is a historian and director of the UC Davis Human Rights Initiative. He is author of Being Modern in the Middle East (Princeton\, 2006)\, and his articles have appeared in the American Historical Review\, Social History\, the Journal of Human Rights\, Humanity\, as well as Perspectives on History\, the Chronicle of Higher Education and the Huffington Post. \nCo-sponsored by the Center for Middle East Studies\, the Department of History\, and the Department of Global Studies\nhm 5/19/15
URL:https://history.ucsb.edu/events/the-form-and-content-of-suffering-humanitarian-knowledge-and-genocide-in-the-early-20th-century-middle-east/
LOCATION:CA
END:VEVENT
BEGIN:VEVENT
DTSTART;TZID=America/Denver:20150527T000000
DTEND;TZID=America/Denver:20150527T000000
DTSTAMP:20260424T144046
CREATED:20150928T112906Z
LAST-MODIFIED:20150928T112906Z
UID:10002318-1432684800-1432684800@history.ucsb.edu
SUMMARY:Un(rely)able: The Technological Health Crisis of Toxic Shock Syndrome & Rely Tampons
DESCRIPTION:This  lecture series on the biopolitics of reproduction in the US and globally is hosted by the Black Studies Colloquium\, with the co-sponsorship of the department of Feminist Studies\, Chicana and Chicano Studies\, the History of Science Program\, and the New Health\, Medicine\, and Care Working Group.\nSpeakers will explore how cultural and political commitments shape and constrain the conditions under which women and people of color control their reproductive lives and experience ownership over their own biology. This lecture series approaches these issues from a historical and ethnographic perspective\, exploring the eugenics movement\, progressive era public health reform\, cultural politics of abortion\, and the science of women’s reproductive systems. \nhm 4/1/15
URL:https://history.ucsb.edu/events/unrelyable-the-technological-health-crisis-of-toxic-shock-syndrome-rely-tampons/
LOCATION:CA
END:VEVENT
BEGIN:VEVENT
DTSTART;TZID=America/Denver:20150527T000000
DTEND;TZID=America/Denver:20150527T000000
DTSTAMP:20260424T144046
CREATED:20150928T112908Z
LAST-MODIFIED:20150928T112908Z
UID:10002344-1432684800-1432684800@history.ucsb.edu
SUMMARY:NEW PERSPECTIVES ON HUMAN RIGHTS IN THE MIDEAST
DESCRIPTION:Gershon Shafir\, UCSD:  “Minority Rights and Second-Class Citizenship in Israel”\nKeith Watenpaugh\, UC Davis: “Syrian Refugees: A Lost Generation”\n        \nwith comments by UCSB faculty: Sherene Seikaly (History)  \nSponsored by Prof. Alison Brysk \nfor the Mellichamp Chairs in 21st Century Global Dynamics\n                       and the Orfalea Center Hub in Global Governance  \nhm 5/27/15
URL:https://history.ucsb.edu/events/new-perspectives-on-human-rights-in-the-mideast/
LOCATION:CA
END:VEVENT
BEGIN:VEVENT
DTSTART;TZID=America/Denver:20150528T000000
DTEND;TZID=America/Denver:20150528T000000
DTSTAMP:20260424T144046
CREATED:20150928T112907Z
LAST-MODIFIED:20150928T112907Z
UID:10002341-1432771200-1432771200@history.ucsb.edu
SUMMARY:Taking Stock of the Anthropocene: An Interdisciplinary Roundtable
DESCRIPTION:Peter Alagona (History and Environmental Studies\, UCSB)Elizabeth Heckendorn Cook (English and Comparative Literature\, UCSB)\nJohn Foran (Sociology\, UCSB)\nKen Hiltner (English and Environmental Studies\, UCSB)\nJeff Hoelle (Anthropology\, UCSB)\nDavid Lea (Geology\, USCB)\nChristopher Walker (English\, UCSB) \nFaculty and graduate students will consider key issues and themes that have emerged over the course of the IHC’s year-long events series “The Anthropocene: Views from the Humanities\,” Speakers will reflect upon anthropocentric concerns of their individual disciplines\, and they will offer insight into the cross-disciplinary implications of the lectures\, films\, and debates that have taken place. \nSponsored by the IHC series The Anthropocene: Views from the Humanities.\nMore Information: http://www.ihc.ucsb.edu/taking-stock-of-the-anthropocene/ \nhm 5/19/15
URL:https://history.ucsb.edu/events/taking-stock-of-the-anthropocene-an-interdisciplinary-roundtable/
LOCATION:CA
END:VEVENT
BEGIN:VEVENT
DTSTART;TZID=America/Denver:20150529T000000
DTEND;TZID=America/Denver:20150529T000000
DTSTAMP:20260424T144046
CREATED:20150928T112907Z
LAST-MODIFIED:20150928T112907Z
UID:10002340-1432857600-1432857600@history.ucsb.edu
SUMMARY:Anti-Stalinist Left Intellectuals in Chile and Argentina\, 1940-1970
DESCRIPTION:Cody Stephens is completing a dissertation on the rise and fall of “dependency theory” in the era of the long 1960s.\nSponsored by Center for the Study of Work\, Labor and Democracy\nMore Information: http://www.ihc.ucsb.edu/anti-stalinist-left/ \nhm 5/19/15
URL:https://history.ucsb.edu/events/anti-stalinist-left-intellectuals-in-chile-and-argentina-1940-1970/
LOCATION:CA
END:VEVENT
END:VCALENDAR