BEGIN:VCALENDAR
VERSION:2.0
PRODID:-//Department of History, UC Santa Barbara - ECPv6.15.12.1//NONSGML v1.0//EN
CALSCALE:GREGORIAN
METHOD:PUBLISH
X-WR-CALNAME:Department of History, UC Santa Barbara
X-ORIGINAL-URL:https://history.ucsb.edu
X-WR-CALDESC:Events for Department of History, UC Santa Barbara
REFRESH-INTERVAL;VALUE=DURATION:PT1H
X-Robots-Tag:noindex
X-PUBLISHED-TTL:PT1H
BEGIN:VTIMEZONE
TZID:America/Los_Angeles
BEGIN:DAYLIGHT
TZOFFSETFROM:-0800
TZOFFSETTO:-0700
TZNAME:PDT
DTSTART:20190310T100000
END:DAYLIGHT
BEGIN:STANDARD
TZOFFSETFROM:-0700
TZOFFSETTO:-0800
TZNAME:PST
DTSTART:20191103T090000
END:STANDARD
BEGIN:DAYLIGHT
TZOFFSETFROM:-0800
TZOFFSETTO:-0700
TZNAME:PDT
DTSTART:20200308T100000
END:DAYLIGHT
BEGIN:STANDARD
TZOFFSETFROM:-0700
TZOFFSETTO:-0800
TZNAME:PST
DTSTART:20201101T090000
END:STANDARD
BEGIN:DAYLIGHT
TZOFFSETFROM:-0800
TZOFFSETTO:-0700
TZNAME:PDT
DTSTART:20210314T100000
END:DAYLIGHT
BEGIN:STANDARD
TZOFFSETFROM:-0700
TZOFFSETTO:-0800
TZNAME:PST
DTSTART:20211107T090000
END:STANDARD
END:VTIMEZONE
BEGIN:VEVENT
DTSTART;TZID=America/Los_Angeles:20201210T093000
DTEND;TZID=America/Los_Angeles:20201210T093000
DTSTAMP:20260420T073237
CREATED:20201124T222018Z
LAST-MODIFIED:20201124T222018Z
UID:10002317-1607592600-1607592600@history.ucsb.edu
SUMMARY:Nyasha Mboti\, "Closing the Loophole: Apartheid Studies"
DESCRIPTION:Professor Mhoze Chikowero invites all to attend a special guest lecture by Dr. Nyashi Mboti as part of UCSB’s African Studies Series. Dr. Mboti will discuss the new field he founded: Apartheid Studies. He will introduce his forthcoming 4-volume treatise on the subject\, Apartheid Studies: A Manifesto\, which will change how we think about enslavement\, colonialism\, neocolonialism\, impoverishment\, and the exploitation and carnage of humans that has defined global history for at least half a millennium.\n \nDr. Mboti is an Associate Professor in the Department of Communication Science at the University of the Free State in South Africa. His keen interest in academia is to ask questions that people do not normally intend or think to ask. He has\, to date\, successfully supervised ten doctoral students\,\ndelivered seminal keynotes at international conferences\, and published over two dozen peer reviewed research articles.\n \nTo read an early copy of Volume 1 of Apartheid Studies: A Manifesto\, contact Professor Chikowero at chikowero@history.ucsb.edu or Claudia Ankrah at c_ankrah@ucsb.edu. To download the flyer for the lecture\, click here. To attend Dr. Mbughuni’s lecture on Zoom\, use this link.
URL:https://history.ucsb.edu/events/nyasha-mboti-closing-the-loophole-apartheid-studies/
LOCATION:Zoom\, CA
CATEGORIES:Public Lecture
ATTACH;FMTTYPE=image/jpeg:https://history.ucsb.edu/wp-content/uploads/Mboti-Final-page-001-scaled.jpg
END:VEVENT
END:VCALENDAR