BEGIN:VCALENDAR
VERSION:2.0
PRODID:-//Department of History, UC Santa Barbara - ECPv6.15.12.1//NONSGML v1.0//EN
CALSCALE:GREGORIAN
METHOD:PUBLISH
X-WR-CALNAME:Department of History, UC Santa Barbara
X-ORIGINAL-URL:https://history.ucsb.edu
X-WR-CALDESC:Events for Department of History, UC Santa Barbara
REFRESH-INTERVAL;VALUE=DURATION:PT1H
X-Robots-Tag:noindex
X-PUBLISHED-TTL:PT1H
BEGIN:VTIMEZONE
TZID:America/Los_Angeles
BEGIN:DAYLIGHT
TZOFFSETFROM:-0800
TZOFFSETTO:-0700
TZNAME:PDT
DTSTART:20180311T100000
END:DAYLIGHT
BEGIN:STANDARD
TZOFFSETFROM:-0700
TZOFFSETTO:-0800
TZNAME:PST
DTSTART:20181104T090000
END:STANDARD
BEGIN:DAYLIGHT
TZOFFSETFROM:-0800
TZOFFSETTO:-0700
TZNAME:PDT
DTSTART:20190310T100000
END:DAYLIGHT
BEGIN:STANDARD
TZOFFSETFROM:-0700
TZOFFSETTO:-0800
TZNAME:PST
DTSTART:20191103T090000
END:STANDARD
BEGIN:DAYLIGHT
TZOFFSETFROM:-0800
TZOFFSETTO:-0700
TZNAME:PDT
DTSTART:20200308T100000
END:DAYLIGHT
BEGIN:STANDARD
TZOFFSETFROM:-0700
TZOFFSETTO:-0800
TZNAME:PST
DTSTART:20201101T090000
END:STANDARD
END:VTIMEZONE
BEGIN:VEVENT
DTSTART;TZID=America/Los_Angeles:20190123T170000
DTEND;TZID=America/Los_Angeles:20190123T183000
DTSTAMP:20260420T125800
CREATED:20190119T021451Z
LAST-MODIFIED:20240417T172228Z
UID:10002573-1548262800-1548268200@history.ucsb.edu
SUMMARY:Talk by Sigrid Schmalzer\, University of Massachusetts\, Amherst: "The Layered Landscapes of Hebei and Guangxi: Mao-era History and the COnstruction of China's Agricultural Heritage"
DESCRIPTION:Chinese scientists\, scholars\, and state officials are actively engaged in a transnational movement to preserve “agricultural heritage.” But what is agricultural heritage and how does it relate to a “people’s history” of agriculture? This talk will focus on two sites where the PRC state is actively seeking to promote and preserve agricultural heritage. Both sites are famed for their spectacular agricultural terraces: one lies in the northern province of Hebei and the other in the southern province of Guangxi. Despite ethnic\, cultural\, and environmental differences\, the two sites share some important historical experiences. In both places\, people identify terracing as a form of survivial for their migrant ancestors in a new land. More recently\, the two sites underwent a powerful\, transformative Mao-era history that matters deeply to local people but is in danger or erasure or cooption today in the ahnds of an eco-authoritarian state. The speaker will explore these two cases to demonstrate the need for a critical historical approach: she will urge scholars to recognize the significance of the Mao era in the construction of both agricultural knowledge and the agricultural heritage paradigm\, while resisting efforts to coopt that history in the service of state power. \nSigrid Schmalzer is Professor of History at the University of Massachusetts\, Amherst. Her first book\, The People’s Peking Man: Popular Science and Human Identity in Twentieth-Century China\, was published by the University of Chicago Press in 2008 and won the Sharlin Memorial Award from the Social Science History Association. Her second book\, Red Revolution\, Green Revolution: Scientific Farming in Socialist China (Chicago\, 2016) won the Joseph Levenson Prize form the Association for Asian Studies.
URL:https://history.ucsb.edu/events/talk-by-sigrid-schmalzer-university-of-massacusetts-amherst-the-layered-landscapes-of-hebei-and-guangxi-mao-era-history-and-the-construction-of-chinas-agricultural-heritage/
LOCATION:SS&MS 2135
CATEGORIES:Public Lecture
END:VEVENT
BEGIN:VEVENT
DTSTART;TZID=America/Los_Angeles:20190130T160000
DTEND;TZID=America/Los_Angeles:20190130T173000
DTSTAMP:20260420T125800
CREATED:20190130T000824Z
LAST-MODIFIED:20190130T092446Z
UID:10002577-1548864000-1548869400@history.ucsb.edu
SUMMARY:"Agrarian Quests: The Search for Comunidades and Campesinos in Rural Peru\,”  a lecture by Javier Puente
DESCRIPTION:Abstract \nThe history of twentieth-century Peru is the history of the rural countryside\, its governance\, and the making of comunidadesand campesinosas foundational elements of a social\, economic\, and political landscape. Throughout a number of decades\, domestic state powers and transnational capital turned lands and pastures into battlegrounds of ideas about labor\, property\, and modernization at large. In turn\, clashing visions of power placed comunidadesand campesinosat the center of their responses to enduring uncertainties and anxieties on the economic exploitation and sociopolitical control of the country. Hacendados\, engineers\, intellectuals\, corporations\, political parties\, the military\, among others\, contended and disputed the meaning of being a comunidadand a campesino. Ultimately\, a civil war brought the search to a violent end\, revealing the extent\, limitations\, and failures of the rural making of a nation-state. \nAbout  \nJAVIER PUENTE holds a Ph.D. from Georgetown University and currently serves as assistant professor of Andean history at the Instituto de Historia of the Pontificia Universidad Católica de Chile. \nThis lecture s presented as part of the LAIS 200 graduate seminar. It is free and open to the campus community. A small reception follows the talk. Students interested in discussing further Dr. Puente’s work after the reception are encouraged to contact the LAIS Program Director at mendez@lais.ucsb.edu to get the reading materials. \n*LAIS thanks the generous co-sponsorship of the Departments of History\, Global Studies\, and the Global Environmental Justice Project to this event. \n 
URL:https://history.ucsb.edu/events/agrarian-quests-the-search-for-comunidades-and-campesinos-in-rural-peru-a-lecture-by-javier-puente/
LOCATION:HSSB 4020\, University of California Santa Barbara\, Santa Barbara\, CA\, 93106\, United States
CATEGORIES:Academic Calendar,Public Lecture
ATTACH;FMTTYPE=image/jpeg:https://history.ucsb.edu/wp-content/uploads/Javier-Puente-poster-V4-FINAL.jpg
GEO:34.4139629;-119.848947
X-APPLE-STRUCTURED-LOCATION;VALUE=URI;X-ADDRESS=HSSB 4020 University of California Santa Barbara Santa Barbara CA 93106 United States;X-APPLE-RADIUS=500;X-TITLE=University of California Santa Barbara:geo:-119.848947,34.4139629
END:VEVENT
END:VCALENDAR