BEGIN:VCALENDAR
VERSION:2.0
PRODID:-//Department of History, UC Santa Barbara - ECPv6.15.12.1//NONSGML v1.0//EN
CALSCALE:GREGORIAN
METHOD:PUBLISH
X-WR-CALNAME:Department of History, UC Santa Barbara
X-ORIGINAL-URL:https://history.ucsb.edu
X-WR-CALDESC:Events for Department of History, UC Santa Barbara
REFRESH-INTERVAL;VALUE=DURATION:PT1H
X-Robots-Tag:noindex
X-PUBLISHED-TTL:PT1H
BEGIN:VTIMEZONE
TZID:America/Los_Angeles
BEGIN:DAYLIGHT
TZOFFSETFROM:-0800
TZOFFSETTO:-0700
TZNAME:PDT
DTSTART:20170312T100000
END:DAYLIGHT
BEGIN:STANDARD
TZOFFSETFROM:-0700
TZOFFSETTO:-0800
TZNAME:PST
DTSTART:20171105T090000
END:STANDARD
BEGIN:DAYLIGHT
TZOFFSETFROM:-0800
TZOFFSETTO:-0700
TZNAME:PDT
DTSTART:20180311T100000
END:DAYLIGHT
BEGIN:STANDARD
TZOFFSETFROM:-0700
TZOFFSETTO:-0800
TZNAME:PST
DTSTART:20181104T090000
END:STANDARD
BEGIN:DAYLIGHT
TZOFFSETFROM:-0800
TZOFFSETTO:-0700
TZNAME:PDT
DTSTART:20190310T100000
END:DAYLIGHT
BEGIN:STANDARD
TZOFFSETFROM:-0700
TZOFFSETTO:-0800
TZNAME:PST
DTSTART:20191103T090000
END:STANDARD
END:VTIMEZONE
BEGIN:VEVENT
DTSTART;TZID=America/Los_Angeles:20180502T170000
DTEND;TZID=America/Los_Angeles:20180502T170000
DTSTAMP:20260420T163939
CREATED:20180425T065106Z
LAST-MODIFIED:20180425T102740Z
UID:10002546-1525280400-1525280400@history.ucsb.edu
SUMMARY:Spanish Colonialism and the Origins of Microeconomics\, a talk by Patricia Seed
DESCRIPTION:Please join us for the next meeting of the History Department’s Colloquium on Latin American and Caribbean History as we welcome Dr. Patricia Seed (UC Irvine)\, who will be presenting a paper entitled “Spanish Colonialism and the Origins of Microeconomics”. \nThe talk will be held at 5pm on Wednesday\, May 2nd in HSSB 4020\, and will be followed by a small reception. \nSpanish Colonialism and the Origins of Microeconomics. For those wondering what Spanish colonialism has to do with the origins of modern microeconomics\, the answer is everything. This talk will take you through the canon law of the School of Salamanca\, the turbulent history of the unique Latin American institution of the encomienda\, and Islamic traditions of property\, only to see how it all came together in modern microeconomics. \nPatricia Seed is History Professor at UC Irvine and the author of several award-winning books\, including: The American Pentimento: The Pursuit of Riches and the Invention of “Indians” (University of Minnesota Press\, 2001)\, winner of the 2003 Prize in Atlantic History; Ceremonies of Possession in Europe’s Conquest of the New World\, 1492-1640 (Cambridge University Press\, 1995; Portuguese edition\, 2000) (ACLS E-selection); To Love\, Honor\, and Obey in Colonial Mexico: Conflicts Over Marriage Choice\, 1574-1821 (Stanford University Press\, 1988; Spanish edition\, 1992)\, winner of the Bolton Prize and serialized in La Jornada (Mexico City). She is also the editor of José Limón and La Malinche: The Dancer and the Dance (The University of Texas Press\, 2007). \n  \nWe hope to see many of you there!
URL:https://history.ucsb.edu/events/spanish-colonialism-and-the-origins-of-microeconomics-a-talk-by-patricia-seed/
LOCATION:HSSB 4020\, University of California Santa Barbara\, Santa Barbara\, CA\, 93106\, United States
CATEGORIES:Public Lecture
ATTACH;FMTTYPE=image/jpeg:https://history.ucsb.edu/wp-content/uploads/Seed-Final-poster-Juan.jpg
GEO:34.4139629;-119.848947
X-APPLE-STRUCTURED-LOCATION;VALUE=URI;X-ADDRESS=HSSB 4020 University of California Santa Barbara Santa Barbara CA 93106 United States;X-APPLE-RADIUS=500;X-TITLE=University of California Santa Barbara:geo:-119.848947,34.4139629
END:VEVENT
BEGIN:VEVENT
DTSTART;TZID=America/Los_Angeles:20180509T160000
DTEND;TZID=America/Los_Angeles:20180509T173000
DTSTAMP:20260420T163939
CREATED:20180403T172503Z
LAST-MODIFIED:20180322T164052Z
UID:10002531-1525881600-1525887000@history.ucsb.edu
SUMMARY:Lawrence Badash Memorial Lecture – Alex Wellerstein on “Truman's Bomb”
DESCRIPTION:Please join us on May 9\, 4PM\, in the McCune Conference Room for the 2018 Lawrence Badash Memorial Lecture. Our guest speaker will be Alex Wellerstein who will be giving a lecture titled Truman’s Bomb and the Making of the Atomic Presidency.  \nWhen we think of the importance of the atomic bomb to the Truman presidency\, we think of Truman’s weighty decision regarding the use of the weapon on Japan. But historians have known for decades that the narrative of “the decision to use the bomb” is largely mythical\, and his actual role was mostly peripheral. But despite this\, Truman did make several decisions during the war that would have vast consequences for the future of nuclear weapons\, decisions that still resonate today. This talk will look at the making of the “Atomic Presidency” during the Truman administration: the regulations\, norms\, and procedures that invest in a single person the power to destroy the world\, a power that has extraordinary relevance for us today. \n \nAlex Wellerstein is an Assistant Professor of Science and Technology Studies (STS) in the College of Arts and Letters at the Stevens Institute of Technology in Hoboken\, New Jersey. He received his PhD from the Department of the History of Science at Harvard University in 2010\, and has BA in History from the University of California\, Berkeley. He is the author of “Restricted Data: The Nuclear Secrecy Blog\,” the creator of the heavily-used nuclear weapons effects simulator website NUKEMAP\, and is a regular contributor to the New Yorker’s Elements web site\, among other outlets for his more popular writing. \nThe Badash Lecture honors the late Prof. Lawrence Badash\, a long-time professor in the history of science at UCSB. The lecture is made possible with generous donations from Larry’s partner Nancy Hofbauer\, his former student Peter Neushel\, and numerous other donors who have contributed their support to the series. \nA flyer for this event is here.
URL:https://history.ucsb.edu/events/lawrence-badash-memorial-lecture-alex-wellerstein-on-trumans-bomb/
LOCATION:HSSB 6020 (McCune Room)\, University of California Santa Barbara\, Santa Barbara\, CA\, 93106\, United States
CATEGORIES:Public Lecture
GEO:34.4142938;-119.8474306
X-APPLE-STRUCTURED-LOCATION;VALUE=URI;X-ADDRESS=HSSB 6020 (McCune Room) University of California Santa Barbara Santa Barbara CA 93106 United States;X-APPLE-RADIUS=500;X-TITLE=University of California Santa Barbara:geo:-119.8474306,34.4142938
END:VEVENT
BEGIN:VEVENT
DTSTART;TZID=America/Los_Angeles:20180509T163000
DTEND;TZID=America/Los_Angeles:20180509T180000
DTSTAMP:20260420T163939
CREATED:20180508T181550Z
LAST-MODIFIED:20180508T181550Z
UID:10002549-1525883400-1525888800@history.ucsb.edu
SUMMARY:Kelly Shannon\, Florida Atlantic University. Book talk: "U.S. Foreign Policy and Muslim Women's Human Rights"
DESCRIPTION:Professor Kelly Shannon of Florida Atlantic University will speak about her new book\, U.S. Foreign Policy and Muslim Women’s Human Rights. She argues that since the late 1970s\, the issue of women’s human rights in Islamic societies has become increasingly important to U.S. foreign policy. Her analysis sheds new light on U.S. identity and policy creation and alters the standard narratives of the U.S. relationship with the Muslim world.The talk is free and open to the public; delicious refreshments will be served.  \nThe event is sponsored by the Center for Cold War Studies\, the Center for Middle Eastern Studies\, the Walter H. Capps Center\, and the Orfalea Center for Global and International Studies.
URL:https://history.ucsb.edu/events/kelly-shannon-florida-atlantic-university-book-talk-u-s-foreign-policy-and-muslim-womens-human-rights/
LOCATION:HSSB 4020\, University of California Santa Barbara\, Santa Barbara\, CA\, 93106\, United States
CATEGORIES:Book Talk,Public Lecture
ATTACH;FMTTYPE=image/jpeg:https://history.ucsb.edu/wp-content/uploads/Kelly_Shannon.jpg
GEO:34.4139629;-119.848947
X-APPLE-STRUCTURED-LOCATION;VALUE=URI;X-ADDRESS=HSSB 4020 University of California Santa Barbara Santa Barbara CA 93106 United States;X-APPLE-RADIUS=500;X-TITLE=University of California Santa Barbara:geo:-119.848947,34.4139629
END:VEVENT
BEGIN:VEVENT
DTSTART;TZID=America/Los_Angeles:20180517T160000
DTEND;TZID=America/Los_Angeles:20180517T173000
DTSTAMP:20260420T163939
CREATED:20180501T222957Z
LAST-MODIFIED:20180501T222957Z
UID:10002548-1526572800-1526578200@history.ucsb.edu
SUMMARY:"Lawyers and Legal Consciousness in Early Modern Europe: A Cultural History\," a Talk by Michael P. Breen\, Reed College
DESCRIPTION:“Historians have long believed that lawyers played a central role in the dissemination of legal knowledge and the ideal of the ‘rule of law’ in early modern Europe. Recent scholarship\, however\, has called this view into question\, emphasizing instead the ways ordinary men and women appropriated the law and its institutions for their own ends. This talk will reconsider the ways legal professionals helped mediate the development of early modern legal consciousness by examining their activities beyond the courtroom and the identities they fashioned for themselves not as legal experts\, but as intellectuals\, literary figures\, and political actors.” \n  \nMichael P. Breen is Professor of History and Humanities and Chair of the Division of History and Social Sciences at Reed College. He is the author of Law\, City\, and King: Legal Culture\, Municipal Politics and State Formation inEarly Modern Dijon (2007) and numerous articles on lawyers and legal culture in early modern France. \nCo-sponsored by the Departments of History and French and Italian\, the Early Modern Center\, and the IHC. \n 
URL:https://history.ucsb.edu/events/lawyers-and-legal-consciousness-in-early-modern-europe-a-cultural-history-a-talk-by-michael-p-breen-reed-college/
LOCATION:HSSB 4080\, 4080 Humanities and Social Sciences Building\, UC Santa Barbara\, Santa Barbara\, CA\, 93106\, United States
CATEGORIES:Public Lecture
GEO:34.4139629;-119.848947
X-APPLE-STRUCTURED-LOCATION;VALUE=URI;X-ADDRESS=HSSB 4080 4080 Humanities and Social Sciences Building UC Santa Barbara Santa Barbara CA 93106 United States;X-APPLE-RADIUS=500;X-TITLE=4080 Humanities and Social Sciences Building\, UC Santa Barbara:geo:-119.848947,34.4139629
END:VEVENT
BEGIN:VEVENT
DTSTART;TZID=America/Los_Angeles:20180518T093000
DTEND;TZID=America/Los_Angeles:20180518T150000
DTSTAMP:20260420T163939
CREATED:20180516T055105Z
LAST-MODIFIED:20180516T164803Z
UID:10002552-1526635800-1526655600@history.ucsb.edu
SUMMARY:Senior Honors Thesis Colloquium
DESCRIPTION:Honors Student and Mentor with Thesis Poster\nThis Friday from 9:30am to 2:45pm nine students from the 2017-18 History Senior Honors Seminar will present the results of their research in a conference-panel format\, with professors commenting afterwards. Everyone is invited! \nProgram: \nPanel 1\, 9:30-11am: Public Policies’ Effects on People’s Lives \n\nHalley Thiel\, “’There is Power in the Blood:’ The Growth of the California Oil Industry and Its Resistance to Standard Oil”\nMentor: Dr. Graves; comment by Dr. Martin\nPenelope Fergison\, “Head for the Hills: Race and Property Value in Oakland”\nMentor: Prof. Perrone; comment by Prof Lichtenstein\nSasha Bates\, “Ignoring Atrocities: The Reagan Administration Funding the Salvadoran Government\, 1981-1984”\nMentor: Prof. Yaqub; comment by Prof. Bergstrom\n\nPanel 2\, 11:15-12:45: Individual Agency in Policy Formation \n\nMilo Schaberg\, “Nuclear Semiotics: Thomas Sebeok and the ‘Atomic Priesthood’”\nMentor: Prof. Aronova; comment by Prof. McCray\nAvery Barboza\, “A Sixteenth Century Cold War: England\, Spain\, and John Hawkins”\nMentor: Prof. McGee; comment by Prof. Covo\nAmanda Krstic\, “Age of Quarrel: Slavery and Diplomacy in Maryland in the\nAge of Atlantic Revolutions”\nMentor: Prof. Covo; comment by Prof. Perrone\n\nLunch break\, 12:45-1:15 (will be provided for all participants) \nPanel 3\, 1:15-2:45: Culture’s Effects on Life and Politics \n\nMegan Lucas\, “Bluestockings on Campus: Women at Smith College and Vassar College in the Nineteenth Century”\nMentor: Dr. Case; comment by Prof. Chavez-Garcia\nJessica Kanter\, “Historiographies of Colonial Rule: Italian Fascists in Libya and the British in Zimbabwe”\nMentor: Prof. Chikowero; comment by Ross Melczer\nZingha Foma\, “The Origin of Dutch African Prints: Tracing African Culture\, Politics and History through Textile and Dress Practices”\nMentor: Prof. Spickard; comment by Prof. Miescher
URL:https://history.ucsb.edu/events/senior-honors-thesis-colloquium/
LOCATION:HSSB 4020\, University of California Santa Barbara\, Santa Barbara\, CA\, 93106\, United States
CATEGORIES:Conference,Public Lecture,Student Presentations
GEO:34.4139629;-119.848947
X-APPLE-STRUCTURED-LOCATION;VALUE=URI;X-ADDRESS=HSSB 4020 University of California Santa Barbara Santa Barbara CA 93106 United States;X-APPLE-RADIUS=500;X-TITLE=University of California Santa Barbara:geo:-119.848947,34.4139629
END:VEVENT
END:VCALENDAR