BEGIN:VCALENDAR
VERSION:2.0
PRODID:-//Department of History, UC Santa Barbara - ECPv6.15.12.1//NONSGML v1.0//EN
CALSCALE:GREGORIAN
METHOD:PUBLISH
X-WR-CALNAME:Department of History, UC Santa Barbara
X-ORIGINAL-URL:https://history.ucsb.edu
X-WR-CALDESC:Events for Department of History, UC Santa Barbara
REFRESH-INTERVAL;VALUE=DURATION:PT1H
X-Robots-Tag:noindex
X-PUBLISHED-TTL:PT1H
BEGIN:VTIMEZONE
TZID:America/Denver
BEGIN:DAYLIGHT
TZOFFSETFROM:-0700
TZOFFSETTO:-0600
TZNAME:MDT
DTSTART:20140309T090000
END:DAYLIGHT
BEGIN:STANDARD
TZOFFSETFROM:-0600
TZOFFSETTO:-0700
TZNAME:MST
DTSTART:20141102T080000
END:STANDARD
BEGIN:DAYLIGHT
TZOFFSETFROM:-0700
TZOFFSETTO:-0600
TZNAME:MDT
DTSTART:20150308T090000
END:DAYLIGHT
BEGIN:STANDARD
TZOFFSETFROM:-0600
TZOFFSETTO:-0700
TZNAME:MST
DTSTART:20151101T080000
END:STANDARD
BEGIN:DAYLIGHT
TZOFFSETFROM:-0700
TZOFFSETTO:-0600
TZNAME:MDT
DTSTART:20160313T090000
END:DAYLIGHT
BEGIN:STANDARD
TZOFFSETFROM:-0600
TZOFFSETTO:-0700
TZNAME:MST
DTSTART:20161106T080000
END:STANDARD
END:VTIMEZONE
BEGIN:VTIMEZONE
TZID:America/Los_Angeles
BEGIN:DAYLIGHT
TZOFFSETFROM:-0800
TZOFFSETTO:-0700
TZNAME:PDT
DTSTART:20150308T100000
END:DAYLIGHT
BEGIN:STANDARD
TZOFFSETFROM:-0700
TZOFFSETTO:-0800
TZNAME:PST
DTSTART:20151101T090000
END:STANDARD
BEGIN:DAYLIGHT
TZOFFSETFROM:-0800
TZOFFSETTO:-0700
TZNAME:PDT
DTSTART:20160313T100000
END:DAYLIGHT
BEGIN:STANDARD
TZOFFSETFROM:-0700
TZOFFSETTO:-0800
TZNAME:PST
DTSTART:20161106T090000
END:STANDARD
BEGIN:DAYLIGHT
TZOFFSETFROM:-0800
TZOFFSETTO:-0700
TZNAME:PDT
DTSTART:20170312T100000
END:DAYLIGHT
BEGIN:STANDARD
TZOFFSETFROM:-0700
TZOFFSETTO:-0800
TZNAME:PST
DTSTART:20171105T090000
END:STANDARD
BEGIN:DAYLIGHT
TZOFFSETFROM:-0800
TZOFFSETTO:-0700
TZNAME:PDT
DTSTART:20180311T100000
END:DAYLIGHT
BEGIN:STANDARD
TZOFFSETFROM:-0700
TZOFFSETTO:-0800
TZNAME:PST
DTSTART:20181104T090000
END:STANDARD
BEGIN:DAYLIGHT
TZOFFSETFROM:-0800
TZOFFSETTO:-0700
TZNAME:PDT
DTSTART:20190310T100000
END:DAYLIGHT
BEGIN:STANDARD
TZOFFSETFROM:-0700
TZOFFSETTO:-0800
TZNAME:PST
DTSTART:20191103T090000
END:STANDARD
BEGIN:DAYLIGHT
TZOFFSETFROM:-0800
TZOFFSETTO:-0700
TZNAME:PDT
DTSTART:20200308T100000
END:DAYLIGHT
BEGIN:STANDARD
TZOFFSETFROM:-0700
TZOFFSETTO:-0800
TZNAME:PST
DTSTART:20201101T090000
END:STANDARD
BEGIN:DAYLIGHT
TZOFFSETFROM:-0800
TZOFFSETTO:-0700
TZNAME:PDT
DTSTART:20210314T100000
END:DAYLIGHT
BEGIN:STANDARD
TZOFFSETFROM:-0700
TZOFFSETTO:-0800
TZNAME:PST
DTSTART:20211107T090000
END:STANDARD
BEGIN:DAYLIGHT
TZOFFSETFROM:-0800
TZOFFSETTO:-0700
TZNAME:PDT
DTSTART:20220313T100000
END:DAYLIGHT
BEGIN:STANDARD
TZOFFSETFROM:-0700
TZOFFSETTO:-0800
TZNAME:PST
DTSTART:20221106T090000
END:STANDARD
BEGIN:DAYLIGHT
TZOFFSETFROM:-0800
TZOFFSETTO:-0700
TZNAME:PDT
DTSTART:20230312T100000
END:DAYLIGHT
BEGIN:STANDARD
TZOFFSETFROM:-0700
TZOFFSETTO:-0800
TZNAME:PST
DTSTART:20231105T090000
END:STANDARD
END:VTIMEZONE
BEGIN:VEVENT
DTSTART;TZID=America/Denver:20151109T193000
DTEND;TZID=America/Denver:20151109T213000
DTSTAMP:20260419T124739
CREATED:20151103T005809Z
LAST-MODIFIED:20240417T172855Z
UID:10002069-1447097400-1447104600@history.ucsb.edu
SUMMARY:Film Showing: Run Boy Run
DESCRIPTION:Kristallnacht Commemoration and Santa Barbara Premiere\nWinner of 10 Film Festival Audience Awards \n  \nA superlative saga of courage and compassion\, Run Boy Run tells the extraordinary true story of a Polish boy who seeks the kindness of others in his solitary struggle to outlast the Nazi occupation and keep alive his Jewish faith. \nEscaping the Warsaw ghetto at the behest of his father\, nine-year old Srulik (movingly portrayed by twin child actors Andrzej and Kamil Tkacz) flees to the woods. There\, he learns to hide from SS patrols and scour for food\, until loneliness and the harsh onset of winter drive him back to civilization. Taken in by a kindhearted farmer’s wife (Elisabeth Duda)\, he is given shelter and a new identity. Passing himself off as Jurek\, a Christian war orphan\, the intrepid boy traverses the countryside from village to village\, working as a farmhand under an ever-present threat of persecution. Some will help him survive and others will betray him. Just when it seems his childhood memories and identity could be lost forever\, Jurek’s harrowing journey culminates in a powerhouse conclusion and postscript. \nAn unforgettable cinematic experience featuring exceptional performances\, arresting cinematography and transcendent musical score\, Run Boy Run is directed by Academy Award-winner Pepe Danquart and based on the bestselling Holocaust novel by Israeli author Uri Orlev. Newcomer Andy Tkacz plays Jurek together with a cast that includes Katarzyna Bargielowska (The Pianist)\, Rainer Bock (The White Ribbon)\, Jeanette Hain (Poll) and Itay Tiran (Lebanon).
URL:https://history.ucsb.edu/events/run-boy-run-film-screening/
LOCATION:Campbell Hall\, Building 538\, Santa Barbara\, CA\, 93106\, United States
CATEGORIES:Film Screening
ATTACH;FMTTYPE=image/jpeg:https://history.ucsb.edu/wp-content/uploads/runboyrun1.jpg
ORGANIZER;CN="Taubman Foundation Endowed Symposia in Jewish Studies":MAILTO:admin@ihc.ucsb.edu
GEO:34.4139629;-119.848947
X-APPLE-STRUCTURED-LOCATION;VALUE=URI;X-ADDRESS=Campbell Hall Building 538 Santa Barbara CA 93106 United States;X-APPLE-RADIUS=500;X-TITLE=Building 538:geo:-119.848947,34.4139629
END:VEVENT
BEGIN:VEVENT
DTSTART;TZID=America/Denver:20151118T180000
DTEND;TZID=America/Denver:20151118T200000
DTSTAMP:20260419T124740
CREATED:20151104T194408Z
LAST-MODIFIED:20151112T105013Z
UID:10002400-1447869600-1447876800@history.ucsb.edu
SUMMARY:Film Showing: Valentino's Ghost
DESCRIPTION:Hailed by the Village Voice as “both sobering and illuminating\,” Michael Singh’s documentary exposes how America’s foreign policy agenda in the Middle East drives U.S. media portrayals of Arabs and Muslims. It reveals truths behind taboo subjects often avoided or treated as sound bites and challenges the media barrage of misinformation about our complex relationship with the Middle East. Sherene Seikaly\, Assistant Professor of History\, will lead a post-film discussion. (93 min\, English\, 2012). \n  \nWatch the Trailer:\n[youtube http://www.youtube.com/watch?v=yb0Z_XErOgc]
URL:https://history.ucsb.edu/events/valentinos-ghost/
LOCATION:HSSB 4020\, University of California Santa Barbara\, Santa Barbara\, CA\, 93106\, United States
CATEGORIES:Film Screening,Public Lecture
ATTACH;FMTTYPE=image/jpeg:https://history.ucsb.edu/wp-content/uploads/vg-lowres.jpg
GEO:34.4139629;-119.848947
X-APPLE-STRUCTURED-LOCATION;VALUE=URI;X-ADDRESS=HSSB 4020 University of California Santa Barbara Santa Barbara CA 93106 United States;X-APPLE-RADIUS=500;X-TITLE=University of California Santa Barbara:geo:-119.848947,34.4139629
END:VEVENT
BEGIN:VEVENT
DTSTART;TZID=America/Los_Angeles:20160518T190000
DTEND;TZID=America/Los_Angeles:20160518T210000
DTSTAMP:20260419T124740
CREATED:20160518T210355Z
LAST-MODIFIED:20240410T190339Z
UID:10002435-1463598000-1463605200@history.ucsb.edu
SUMMARY:Film Screening/Talk: "American Umpire"
DESCRIPTION:Elizabeth Cobbs and James Shelley grant us a sneak preview of their forthcoming PBS documentary film\, “American Umpire\,” based on Prof. Cobbs’s acclaimed history book of the same name. The film recounts America’s post-World War II role as the world’s policemen and explores whether the United States can\, and should\, continue to play that role in the future. After screening the film\, which runs for 56 minutes\, Professor Cobbs and Mr. Shelley\, the film’s director\, will discuss the making of the documentary and engage the audience members in dialogue. \nElizabeth Cobbs is Professor and Melbern G. Glasscock Chair in American History at Texas A & M University. Her first book\, The Rich Neighbor Policy: Kaiser and Rockefeller in Brazil (Yale\, 1992)\, won the Allan Nevins Prize from the Organization of American Historians and the Stuart Bernath Prize from the Society for Historians of American Foreign Relations. Professor Cobbs has also authored All You Need is Love: The Peace Corps and the Spirit of the 1960s (Harvard\, 2000)\, along with works of historical fiction. Her most recent historical monograph\, American Umpire (Harvard\, 2013)\, is the inspiration for the featured documentary film. \nJames Shelley is the owner of Shell Studios\, a San Diego-based production company that specializes in award-winning documentaries and commercial films. Having retired from a 35-year career as a global risk management executive\, Shelley is now pursuing a lifelong interest in filmmaking. He is a graduate of Johns Hopkins University and of the University of California\, San Diego’s video production program. He is currently pursuing his Master of Fine Arts degree in Television\, Media\, and Film at San Diego State University. \nDownload the Event Flyer
URL:https://history.ucsb.edu/events/film-screeningtalk-american-umpire/
LOCATION:HSSB 6020 (McCune Room)\, University of California Santa Barbara\, Santa Barbara\, CA\, 93106\, United States
CATEGORIES:Film Screening,Public Lecture
GEO:34.4142938;-119.8474306
X-APPLE-STRUCTURED-LOCATION;VALUE=URI;X-ADDRESS=HSSB 6020 (McCune Room) University of California Santa Barbara Santa Barbara CA 93106 United States;X-APPLE-RADIUS=500;X-TITLE=University of California Santa Barbara:geo:-119.8474306,34.4142938
END:VEVENT
BEGIN:VEVENT
DTSTART;TZID=America/Los_Angeles:20161020T193000
DTEND;TZID=America/Los_Angeles:20161021T173000
DTSTAMP:20260419T124740
CREATED:20161010T211052Z
LAST-MODIFIED:20161010T211052Z
UID:10002451-1476991800-1477071000@history.ucsb.edu
SUMMARY:Suez at Sixty: Remembering the Suez Crisis and War of 1956
DESCRIPTION:This fall marks the 60th anniversary of the Suez War of 1956\, a pivotal moment in Egyptian\, Middle Eastern\, and international history. In response to Egypt’s nationalization of the Suez Canal Company\, Britain\, France\, and Israel launched a coordinated military assault against Egypt. The United States\, the Soviet Union\, and much of the international community strongly opposed this move\, eventually compelling the aggressors to withdraw their forces from Egypt. These events signaled a new complexity in the Cold War and hastened the decline of British and French empire in the Arab world\, permitting the United States and the Soviet Union to increase their own involvement in the region while also accelerating the broader decolonization movement. \nSmoke rises from oil tanks beside the Suez Canal; November 1956\nTo bring out these areas of significance and connection\, members of the UCSB community will host a two-day program of events: \nOn THURSDAY\, OCTOBER 20\, at 7:30 PM in HSSB 6020\, we will screen the BBC documentary film “The Other Side of Suez\,” a riveting reconstruction of the Suez Crisis and War that brings out the perspectives of numerous international actors: Egypt\, Israel\, Britain\, France\, the United States\, the Soviet Union\, and other nations. Following the documentary\, which runs for one hour\, Professor Joel Gordon of the University of Arkansas will lead a discussion of the issues raised by the film. \nOn FRIDAY\, OCTOBER 21\, from 1:30 to 5:30 PM in the UNIVERSITY CENTER HARBOR ROOM\, we will host a series of insightful academic talks by a diverse array of scholars\, from UCSB and elsewhere\, each focusing on a different aspect of the Suez Crisis and its legacy. The speakers include: \n\nJennifer Derr\, Assistant Professor of History at the University of California\, Santa Cruz\nMuriam Haleh Davis\, Assistant Professor of History at the University of California\, Santa Cruz\nJoel Gordon\, Professor of History and Director of the King Fahd Center at the University of Arkansas\nDwight Reynolds\, Professor of Religious Studies\, UCSB\nSherene Seikaly\, Associate Professor of History\, UCSB\nSalim Yaqub\, Professor of History\, UCSB\n\nA more detailed schedule of the Friday talks is available here \nBoth events are free and open to the public. Delicious refreshments\, also free of charge\, will be served.
URL:https://history.ucsb.edu/events/suez-sixty-remembering-suez-crisis-war-1956/
LOCATION:HSSB 6020 (McCune Room)\, University of California Santa Barbara\, Santa Barbara\, CA\, 93106\, United States
CATEGORIES:Conference,Film Screening
GEO:34.4142938;-119.8474306
X-APPLE-STRUCTURED-LOCATION;VALUE=URI;X-ADDRESS=HSSB 6020 (McCune Room) University of California Santa Barbara Santa Barbara CA 93106 United States;X-APPLE-RADIUS=500;X-TITLE=University of California Santa Barbara:geo:-119.8474306,34.4142938
END:VEVENT
BEGIN:VEVENT
DTSTART;TZID=America/Los_Angeles:20170228T193000
DTEND;TZID=America/Los_Angeles:20170228T212000
DTSTAMP:20260419T124740
CREATED:20170222T053755Z
LAST-MODIFIED:20170222T054342Z
UID:10002477-1488310200-1488316800@history.ucsb.edu
SUMMARY:Film—"Nasser's Republic: The Making of Modern Egypt"
DESCRIPTION:The Center for Cold War Studies and International History will show Icarus Film’s new documentary\, “Nasser’s Republic: The Making of Modern Egypt\,” a stirring but unflinching portrayal of Gamal Abdel Nasser and his impact on Egyptian\, pan-Arab\, and international politics. After the screening of the film\, which runs about 80 minutes\, Sherene Seikaly\, Associate Professor of History at UCSB\, will offer commentary and lead a discussion of the film. \nThe event is free an open to the public. Delicious refreshments will be served! \nNasser’s Republic Flyer
URL:https://history.ucsb.edu/events/film-nassers-republic-making-modern-egypt/
LOCATION:HSSB 6020 (McCune Room)\, University of California Santa Barbara\, Santa Barbara\, CA\, 93106\, United States
CATEGORIES:Film Screening
ATTACH;FMTTYPE=image/jpeg:https://history.ucsb.edu/wp-content/uploads/NASSER-FILM-POSTER-01.jpg
GEO:34.4142938;-119.8474306
X-APPLE-STRUCTURED-LOCATION;VALUE=URI;X-ADDRESS=HSSB 6020 (McCune Room) University of California Santa Barbara Santa Barbara CA 93106 United States;X-APPLE-RADIUS=500;X-TITLE=University of California Santa Barbara:geo:-119.8474306,34.4142938
END:VEVENT
BEGIN:VEVENT
DTSTART;TZID=America/Los_Angeles:20191005T160000
DTEND;TZID=America/Los_Angeles:20191005T160000
DTSTAMP:20260419T124740
CREATED:20190910T072443Z
LAST-MODIFIED:20191014T221206Z
UID:10002795-1570291200-1570291200@history.ucsb.edu
SUMMARY:History Associates Presents: Stephan Miescher's Ghana's Electric Dreams
DESCRIPTION:History Associates will kick off the 2019-2020 year with a presentation by UCSB’s Professor Stephan Miescher titled Ghana’s Electric Dreams. It is based on his forthcoming monograph on the history of Ghana’s most ambitious development project\, the Volta River Project and the Akosombo Dam\, and their importance for the process of nation-building. It will include the showing of part of a documentary film based on Miescher’s research which was directed and edited by R. Lane Clark. The film visits sites affected by the dam and the broader vision of modernization that it represents. \nGhana’s Electric Dreams will be presented at 4:00 on Saturday\, October 5 at the Santa Barbara Public Library (Faulkner Gallery) at 40 E Anapamu Street. The event is free and open to the public\, although donations to support History Associates are welcomed. \nClick here to see the flyer for the event.
URL:https://history.ucsb.edu/events/history-associates-presents-stephan-mieschers-ghanas-electric-dreams/
LOCATION:Faulkner Gallery\, 40 E Anapamu Street\, Santa Barbara\, CA\, 93101\, United States
CATEGORIES:Film Screening,History Associates,Public Lecture
ATTACH;FMTTYPE=image/jpeg:https://history.ucsb.edu/wp-content/uploads/Ghanas-Electric-Dreams.jpg
END:VEVENT
BEGIN:VEVENT
DTSTART;TZID=America/Los_Angeles:20220510T153000
DTEND;TZID=America/Los_Angeles:20220510T170000
DTSTAMP:20260419T124740
CREATED:20220505T205223Z
LAST-MODIFIED:20221026T183950Z
UID:10002906-1652196600-1652202000@history.ucsb.edu
SUMMARY:Women in Chinese Silent Cinema
DESCRIPTION:In this lecture\, Paul Pickowicz will screen compelling clips from Chinese silent-era films of the 1920s and 1930s.  Pickowicz will emphasize the diverse roles played by women and ask questions about why the women seen on screen\, including such iconic figures as Ruan Lingyu\, Li Lili\, and Wang Renmei\, were far more important than men to the success of Chinese silent cinema.
URL:https://history.ucsb.edu/events/women-in-chinese-silent-cinema/
LOCATION:SSMS 2135\, Social Sciences and Media Studies Building\, Santa Barbara\, CA\, 93106\, United States
CATEGORIES:Film Screening,Public Lecture
GEO:34.4152249;-119.8493908
X-APPLE-STRUCTURED-LOCATION;VALUE=URI;X-ADDRESS=SSMS 2135 Social Sciences and Media Studies Building Santa Barbara CA 93106 United States;X-APPLE-RADIUS=500;X-TITLE=Social Sciences and Media Studies Building:geo:-119.8493908,34.4152249
END:VEVENT
END:VCALENDAR