BEGIN:VCALENDAR
VERSION:2.0
PRODID:-//Department of History, UC Santa Barbara - ECPv6.15.12.1//NONSGML v1.0//EN
CALSCALE:GREGORIAN
METHOD:PUBLISH
X-WR-CALNAME:Department of History, UC Santa Barbara
X-ORIGINAL-URL:https://history.ucsb.edu
X-WR-CALDESC:Events for Department of History, UC Santa Barbara
REFRESH-INTERVAL;VALUE=DURATION:PT1H
X-Robots-Tag:noindex
X-PUBLISHED-TTL:PT1H
BEGIN:VTIMEZONE
TZID:America/Los_Angeles
BEGIN:DAYLIGHT
TZOFFSETFROM:-0800
TZOFFSETTO:-0700
TZNAME:PDT
DTSTART:20160313T100000
END:DAYLIGHT
BEGIN:STANDARD
TZOFFSETFROM:-0700
TZOFFSETTO:-0800
TZNAME:PST
DTSTART:20161106T090000
END:STANDARD
BEGIN:DAYLIGHT
TZOFFSETFROM:-0800
TZOFFSETTO:-0700
TZNAME:PDT
DTSTART:20170312T100000
END:DAYLIGHT
BEGIN:STANDARD
TZOFFSETFROM:-0700
TZOFFSETTO:-0800
TZNAME:PST
DTSTART:20171105T090000
END:STANDARD
BEGIN:DAYLIGHT
TZOFFSETFROM:-0800
TZOFFSETTO:-0700
TZNAME:PDT
DTSTART:20180311T100000
END:DAYLIGHT
BEGIN:STANDARD
TZOFFSETFROM:-0700
TZOFFSETTO:-0800
TZNAME:PST
DTSTART:20181104T090000
END:STANDARD
END:VTIMEZONE
BEGIN:VEVENT
DTSTART;TZID=America/Los_Angeles:20170113T080000
DTEND;TZID=America/Los_Angeles:20170113T170000
DTSTAMP:20260423T203041
CREATED:20170113T221651Z
LAST-MODIFIED:20170113T221651Z
UID:10002466-1484294400-1484326800@history.ucsb.edu
SUMMARY:Critical Race Theory and The Health Sciences
DESCRIPTION:This symposium\, organized in part by UCSB History and Black Studies Professor Terence Keel\, will explore the embedded nature of race in the health sciences and identify opportunities to disrupt and rethink these arrangements in pursuit of racial justice and health equity. We will examine the interconnected histories of science\, medicine\, and law that lead racial differences and disparities to be mistakenly understood and experienced as natural phenomena\, obscuring their social\, political\, and economic determinants. We will also discuss the theoretical and empirical interventions that bring attention to the constructed nature of our racial imaginations in the health sciences. Additionally\, the methodological challenges associated with developing intersectional approaches that do not obscure (and indeed support) the centrality of other identity standpoints—such as sex\, gender\, class\, sexuality\, and disability—when exploring race in health sciences research will be considered through the symposium presentations and discussions. \nAll—including faculty\, students\, and the general public—are welcome to attend the symposium on Friday\, January 20\, 2017. For academic questions\, contact the AJLM Symposium editors at ajlmsymposium@gmail.com.
URL:https://history.ucsb.edu/events/critical-race-theory-health-sciences/
LOCATION:Boston University School of Law\, 765 Commonwealth Avenue\, Boston\, MA\, 02215\, United States
CATEGORIES:Conference
ATTACH;FMTTYPE=image/png:https://history.ucsb.edu/wp-content/uploads/ajlm-criticalrace.png
GEO:42.3509792;-71.1070231
X-APPLE-STRUCTURED-LOCATION;VALUE=URI;X-ADDRESS=Boston University School of Law 765 Commonwealth Avenue Boston MA 02215 United States;X-APPLE-RADIUS=500;X-TITLE=765 Commonwealth Avenue:geo:-71.1070231,42.3509792
END:VEVENT
END:VCALENDAR