BEGIN:VCALENDAR
VERSION:2.0
PRODID:-//Department of History, UC Santa Barbara - ECPv6.15.12.1//NONSGML v1.0//EN
CALSCALE:GREGORIAN
METHOD:PUBLISH
X-ORIGINAL-URL:https://history.ucsb.edu
X-WR-CALDESC:Events for Department of History, UC Santa Barbara
REFRESH-INTERVAL;VALUE=DURATION:PT1H
X-Robots-Tag:noindex
X-PUBLISHED-TTL:PT1H
BEGIN:VTIMEZONE
TZID:America/Los_Angeles
BEGIN:DAYLIGHT
TZOFFSETFROM:-0800
TZOFFSETTO:-0700
TZNAME:PDT
DTSTART:20240310T100000
END:DAYLIGHT
BEGIN:STANDARD
TZOFFSETFROM:-0700
TZOFFSETTO:-0800
TZNAME:PST
DTSTART:20241103T090000
END:STANDARD
BEGIN:DAYLIGHT
TZOFFSETFROM:-0800
TZOFFSETTO:-0700
TZNAME:PDT
DTSTART:20250309T100000
END:DAYLIGHT
BEGIN:STANDARD
TZOFFSETFROM:-0700
TZOFFSETTO:-0800
TZNAME:PST
DTSTART:20251102T090000
END:STANDARD
BEGIN:DAYLIGHT
TZOFFSETFROM:-0800
TZOFFSETTO:-0700
TZNAME:PDT
DTSTART:20260308T100000
END:DAYLIGHT
BEGIN:STANDARD
TZOFFSETFROM:-0700
TZOFFSETTO:-0800
TZNAME:PST
DTSTART:20261101T090000
END:STANDARD
END:VTIMEZONE
BEGIN:VEVENT
DTSTART;TZID=America/Los_Angeles:20250509T130000
DTEND;TZID=America/Los_Angeles:20250509T143000
DTSTAMP:20260419T063026
CREATED:20250417T174135Z
LAST-MODIFIED:20250417T174135Z
UID:10003023-1746795600-1746801000@history.ucsb.edu
SUMMARY:Public History Colloquium\, Adam McNeil\,  "The Importance of Podcasting for the Study of Black Life"
DESCRIPTION:Adam Xavier McNeil is the 2025-26 postdoctoral fellow at the American Philosophical Society and is an incoming Assistant Professor at the University of Rhode Island’s Africana Studies department. McNeil defended his dissertation\, “Contested Liberty: Fugitive Women & the Shadow of Re-Enslavement and Displacement in Revolutionary Virginia\,” at Rutgers University in March 2025. He will speak about his work creating podcasts for New Books in African American Studies; examples of his interviews are available here. \nVirtual event. Note later time than usual.  \nZoom link: https://ucsb.zoom.us/j/81406494649 \nMeeting ID: 814 0649 4649
URL:https://history.ucsb.edu/events/public-history-colloquium-adam-mcneil-the-importance-of-podcasting-for-the-study-of-black-life/
LOCATION:CA
END:VEVENT
END:VCALENDAR