BEGIN:VCALENDAR
VERSION:2.0
PRODID:-//Department of History, UC Santa Barbara - ECPv6.15.12.1//NONSGML v1.0//EN
CALSCALE:GREGORIAN
METHOD:PUBLISH
X-WR-CALNAME:Department of History, UC Santa Barbara
X-ORIGINAL-URL:https://history.ucsb.edu
X-WR-CALDESC:Events for Department of History, UC Santa Barbara
REFRESH-INTERVAL;VALUE=DURATION:PT1H
X-Robots-Tag:noindex
X-PUBLISHED-TTL:PT1H
BEGIN:VTIMEZONE
TZID:America/Los_Angeles
BEGIN:DAYLIGHT
TZOFFSETFROM:-0800
TZOFFSETTO:-0700
TZNAME:PDT
DTSTART:20240310T100000
END:DAYLIGHT
BEGIN:STANDARD
TZOFFSETFROM:-0700
TZOFFSETTO:-0800
TZNAME:PST
DTSTART:20241103T090000
END:STANDARD
BEGIN:DAYLIGHT
TZOFFSETFROM:-0800
TZOFFSETTO:-0700
TZNAME:PDT
DTSTART:20250309T100000
END:DAYLIGHT
BEGIN:STANDARD
TZOFFSETFROM:-0700
TZOFFSETTO:-0800
TZNAME:PST
DTSTART:20251102T090000
END:STANDARD
BEGIN:DAYLIGHT
TZOFFSETFROM:-0800
TZOFFSETTO:-0700
TZNAME:PDT
DTSTART:20260308T100000
END:DAYLIGHT
BEGIN:STANDARD
TZOFFSETFROM:-0700
TZOFFSETTO:-0800
TZNAME:PST
DTSTART:20261101T090000
END:STANDARD
END:VTIMEZONE
BEGIN:VEVENT
DTSTART;TZID=America/Los_Angeles:20250507T170000
DTEND;TZID=America/Los_Angeles:20250507T190000
DTSTAMP:20260416T121051
CREATED:20250429T174734Z
LAST-MODIFIED:20250429T174734Z
UID:10003024-1746637200-1746644400@history.ucsb.edu
SUMMARY:Talk: Erin Trumble\, "Rebirth after Retirement: How Elderly Women Reinvented Femininity in Edo Japan"
DESCRIPTION:Speaker: Graduate Student Erin Trumble\n \n\n \n\nTitle: “Rebirth after Retirement: How Elderly Women Reinvented Femininity in Edo Japan”\n \nDescription: The talk will focus on retirement as a life stage and examine how it represented a time when women had both more freedom after being liberated from daily tasks and more authority due to their age. I will examine prescriptive literature and its silences around responsibilities for retired women\, as well as use examples from the lives of Nakako\, Ieko\, Shigako\, and Aijo to show how women engaged with travel\, literature\, and religion in new ways as a result of this freedom and authority.
URL:https://history.ucsb.edu/events/talk-erin-trumble-rebirth-after-retirement-how-elderly-women-reinvented-femininity-in-edo-japan/
LOCATION:McCune Conference Room (HSSB 6020)\, Humanities and Social Sciences Bldg\, Santa Barbara\, CA\, 93106\, United States
CATEGORIES:Academic Calendar,All Events,Public Lecture
ATTACH;FMTTYPE=image/png:https://history.ucsb.edu/wp-content/uploads/2025-Van-Gelderen-e1745948692359.png
GEO:34.4139682;-119.8503034
X-APPLE-STRUCTURED-LOCATION;VALUE=URI;X-ADDRESS=McCune Conference Room (HSSB 6020) Humanities and Social Sciences Bldg Santa Barbara CA 93106 United States;X-APPLE-RADIUS=500;X-TITLE=Humanities and Social Sciences Bldg:geo:-119.8503034,34.4139682
END:VEVENT
END:VCALENDAR