BEGIN:VCALENDAR
VERSION:2.0
PRODID:-//Department of History, UC Santa Barbara - ECPv6.15.12.1//NONSGML v1.0//EN
CALSCALE:GREGORIAN
METHOD:PUBLISH
X-ORIGINAL-URL:https://history.ucsb.edu
X-WR-CALDESC:Events for Department of History, UC Santa Barbara
REFRESH-INTERVAL;VALUE=DURATION:PT1H
X-Robots-Tag:noindex
X-PUBLISHED-TTL:PT1H
BEGIN:VTIMEZONE
TZID:America/Los_Angeles
BEGIN:DAYLIGHT
TZOFFSETFROM:-0800
TZOFFSETTO:-0700
TZNAME:PDT
DTSTART:20220313T100000
END:DAYLIGHT
BEGIN:STANDARD
TZOFFSETFROM:-0700
TZOFFSETTO:-0800
TZNAME:PST
DTSTART:20221106T090000
END:STANDARD
BEGIN:DAYLIGHT
TZOFFSETFROM:-0800
TZOFFSETTO:-0700
TZNAME:PDT
DTSTART:20230312T100000
END:DAYLIGHT
BEGIN:STANDARD
TZOFFSETFROM:-0700
TZOFFSETTO:-0800
TZNAME:PST
DTSTART:20231105T090000
END:STANDARD
BEGIN:DAYLIGHT
TZOFFSETFROM:-0800
TZOFFSETTO:-0700
TZNAME:PDT
DTSTART:20240310T100000
END:DAYLIGHT
BEGIN:STANDARD
TZOFFSETFROM:-0700
TZOFFSETTO:-0800
TZNAME:PST
DTSTART:20241103T090000
END:STANDARD
END:VTIMEZONE
BEGIN:VEVENT
DTSTART;TZID=America/Los_Angeles:20230213T160000
DTEND;TZID=America/Los_Angeles:20230213T173000
DTSTAMP:20260419T092808
CREATED:20230202T192950Z
LAST-MODIFIED:20230215T221746Z
UID:10002916-1676304000-1676309400@history.ucsb.edu
SUMMARY:Prof. Adrienne Edgar\, "Intermarriage and the Friendship of Peoples: Ethnic Mixing in Soviet Central Asia"
DESCRIPTION:Adrienne Edgar‘s new monograph\, Intermarriage and the Friendship of Peoples\, is the first book to examine ethnic and racial mixing in the Soviet Union. In marked contrast to its Cold War rivals\, the Soviet Union celebrated mixed marriages among its diverse ethnic groups as a sign of the unbreakable friendship of peoples and the imminent emergence of a supra-ethnic “Soviet people.” Yet the official view of ethnic nationality became increasingly primordial and even racialized in the final Soviet decades. In this context\, mixed families and individuals found it impossible to transcend ethnicity\, fully embrace their complex identities\, and become simply “Soviet.”  \nThis event is sponsored by the Center for Cold War Studies and International History. Delicious refreshments will be served!
URL:https://history.ucsb.edu/events/prof-adrienne-edgar-intermarriage-and-the-friendship-of-peoples-ethnic-mixing-in-soviet-central-asia/
LOCATION:HSSB 6020 (McCune Room)\, University of California Santa Barbara\, Santa Barbara\, CA\, 93106\, United States
GEO:34.4142938;-119.8474306
X-APPLE-STRUCTURED-LOCATION;VALUE=URI;X-ADDRESS=HSSB 6020 (McCune Room) University of California Santa Barbara Santa Barbara CA 93106 United States;X-APPLE-RADIUS=500;X-TITLE=University of California Santa Barbara:geo:-119.8474306,34.4142938
END:VEVENT
END:VCALENDAR