BEGIN:VCALENDAR
VERSION:2.0
PRODID:-//Department of History, UC Santa Barbara - ECPv6.15.12.1//NONSGML v1.0//EN
CALSCALE:GREGORIAN
METHOD:PUBLISH
X-ORIGINAL-URL:https://history.ucsb.edu
X-WR-CALDESC:Events for Department of History, UC Santa Barbara
REFRESH-INTERVAL;VALUE=DURATION:PT1H
X-Robots-Tag:noindex
X-PUBLISHED-TTL:PT1H
BEGIN:VTIMEZONE
TZID:America/Los_Angeles
BEGIN:DAYLIGHT
TZOFFSETFROM:-0800
TZOFFSETTO:-0700
TZNAME:PDT
DTSTART:20190310T100000
END:DAYLIGHT
BEGIN:STANDARD
TZOFFSETFROM:-0700
TZOFFSETTO:-0800
TZNAME:PST
DTSTART:20191103T090000
END:STANDARD
BEGIN:DAYLIGHT
TZOFFSETFROM:-0800
TZOFFSETTO:-0700
TZNAME:PDT
DTSTART:20200308T100000
END:DAYLIGHT
BEGIN:STANDARD
TZOFFSETFROM:-0700
TZOFFSETTO:-0800
TZNAME:PST
DTSTART:20201101T090000
END:STANDARD
BEGIN:DAYLIGHT
TZOFFSETFROM:-0800
TZOFFSETTO:-0700
TZNAME:PDT
DTSTART:20210314T100000
END:DAYLIGHT
BEGIN:STANDARD
TZOFFSETFROM:-0700
TZOFFSETTO:-0800
TZNAME:PST
DTSTART:20211107T090000
END:STANDARD
END:VTIMEZONE
BEGIN:VEVENT
DTSTART;TZID=America/Los_Angeles:20201105T160000
DTEND;TZID=America/Los_Angeles:20201105T170000
DTSTAMP:20260420T221636
CREATED:20201029T183847Z
LAST-MODIFIED:20201029T183847Z
UID:10002843-1604592000-1604595600@history.ucsb.edu
SUMMARY:History of Public Policy (& Law) Senior Thesis Meeting
DESCRIPTION:This meeting explains the thesis seminar application and enrollment process for History 195IA/IB\, gives an overview of the Winter seminar and Spring quarter thesis process\, helps get you started on preliminary tasks this quarter\, and lets you meet and hear from your fellow policy history students on what they intend to research.\n \nIf you cannot attend on Thursday November 5th at 4pm\, the meeting will be recorded and posted on the history department website. You can reach out to Professor Bergstrom directly with any questions!\n \nZoom link: https://ucsb.zoom.us/j/83083342663?pwd=TXRJQmt6aTEybDBReFdkYjNMcUluQT09 \n 
URL:https://history.ucsb.edu/events/history-of-public-policy-law-senior-thesis-meeting/
LOCATION:University of California Santa Barbara\, Santa Barbara\, CA\, 93106\, United States
END:VEVENT
BEGIN:VEVENT
DTSTART;TZID=America/Los_Angeles:20201105T190000
DTEND;TZID=America/Los_Angeles:20201105T210000
DTSTAMP:20260420T221636
CREATED:20190205T233739Z
LAST-MODIFIED:20190205T233928Z
UID:10002673-1604602800-1604610000@history.ucsb.edu
SUMMARY:History Club Weekly Meetings
DESCRIPTION:UCSB’s new and improved History Departmental club is for majors\, minors\, and anyone with a passion for the past! Meetings are held every Thursday at 7:00 PM in HSSB 4020. See flier below for information about upcoming events. Please email histclub.ucsb@gmail.com with any questions. 
URL:https://history.ucsb.edu/events/history-club-weekly-meetings/2020-11-05/
LOCATION:HSSB 4020
END:VEVENT
END:VCALENDAR