BEGIN:VCALENDAR
VERSION:2.0
PRODID:-//Department of History, UC Santa Barbara - ECPv6.15.12.1//NONSGML v1.0//EN
CALSCALE:GREGORIAN
METHOD:PUBLISH
X-ORIGINAL-URL:https://history.ucsb.edu
X-WR-CALDESC:Events for Department of History, UC Santa Barbara
REFRESH-INTERVAL;VALUE=DURATION:PT1H
X-Robots-Tag:noindex
X-PUBLISHED-TTL:PT1H
BEGIN:VTIMEZONE
TZID:America/Los_Angeles
BEGIN:DAYLIGHT
TZOFFSETFROM:-0800
TZOFFSETTO:-0700
TZNAME:PDT
DTSTART:20170312T100000
END:DAYLIGHT
BEGIN:STANDARD
TZOFFSETFROM:-0700
TZOFFSETTO:-0800
TZNAME:PST
DTSTART:20171105T090000
END:STANDARD
BEGIN:DAYLIGHT
TZOFFSETFROM:-0800
TZOFFSETTO:-0700
TZNAME:PDT
DTSTART:20180311T100000
END:DAYLIGHT
BEGIN:STANDARD
TZOFFSETFROM:-0700
TZOFFSETTO:-0800
TZNAME:PST
DTSTART:20181104T090000
END:STANDARD
BEGIN:DAYLIGHT
TZOFFSETFROM:-0800
TZOFFSETTO:-0700
TZNAME:PDT
DTSTART:20190310T100000
END:DAYLIGHT
BEGIN:STANDARD
TZOFFSETFROM:-0700
TZOFFSETTO:-0800
TZNAME:PST
DTSTART:20191103T090000
END:STANDARD
END:VTIMEZONE
BEGIN:VEVENT
DTSTART;TZID=America/Los_Angeles:20180412T160000
DTEND;TZID=America/Los_Angeles:20180412T173000
DTSTAMP:20260418T210013
CREATED:20180405T215656Z
LAST-MODIFIED:20180405T215656Z
UID:10002532-1523548800-1523554200@history.ucsb.edu
SUMMARY:Dr. Jessica Wright\, "Preaching Phrenitis: The Medicalization of Religious Deviance in Early Christianity"
DESCRIPTION:
URL:https://history.ucsb.edu/events/dr-jessica-wright-preaching-phrenitis-the-medicalization-of-religious-deviance-in-early-christianity/
LOCATION:HSSB 4041\, University of California Santa Barbara\, Santa Barbara\, 93106\, United States
GEO:34.4139629;-119.848947
X-APPLE-STRUCTURED-LOCATION;VALUE=URI;X-ADDRESS=HSSB 4041 University of California Santa Barbara Santa Barbara 93106 United States;X-APPLE-RADIUS=500;X-TITLE=University of California Santa Barbara:geo:-119.848947,34.4139629
END:VEVENT
END:VCALENDAR