BEGIN:VCALENDAR
VERSION:2.0
PRODID:-//Department of History, UC Santa Barbara - ECPv6.15.12.1//NONSGML v1.0//EN
CALSCALE:GREGORIAN
METHOD:PUBLISH
X-ORIGINAL-URL:https://history.ucsb.edu
X-WR-CALDESC:Events for Department of History, UC Santa Barbara
REFRESH-INTERVAL;VALUE=DURATION:PT1H
X-Robots-Tag:noindex
X-PUBLISHED-TTL:PT1H
BEGIN:VTIMEZONE
TZID:America/Los_Angeles
BEGIN:DAYLIGHT
TZOFFSETFROM:-0800
TZOFFSETTO:-0700
TZNAME:PDT
DTSTART:20160313T100000
END:DAYLIGHT
BEGIN:STANDARD
TZOFFSETFROM:-0700
TZOFFSETTO:-0800
TZNAME:PST
DTSTART:20161106T090000
END:STANDARD
BEGIN:DAYLIGHT
TZOFFSETFROM:-0800
TZOFFSETTO:-0700
TZNAME:PDT
DTSTART:20170312T100000
END:DAYLIGHT
BEGIN:STANDARD
TZOFFSETFROM:-0700
TZOFFSETTO:-0800
TZNAME:PST
DTSTART:20171105T090000
END:STANDARD
BEGIN:DAYLIGHT
TZOFFSETFROM:-0800
TZOFFSETTO:-0700
TZNAME:PDT
DTSTART:20180311T100000
END:DAYLIGHT
BEGIN:STANDARD
TZOFFSETFROM:-0700
TZOFFSETTO:-0800
TZNAME:PST
DTSTART:20181104T090000
END:STANDARD
END:VTIMEZONE
BEGIN:VEVENT
DTSTART;TZID=America/Los_Angeles:20170413T160000
DTEND;TZID=America/Los_Angeles:20170413T173000
DTSTAMP:20260420T193513
CREATED:20170401T000501Z
LAST-MODIFIED:20170405T224213Z
UID:10002479-1492099200-1492104600@history.ucsb.edu
SUMMARY:"'A Toda Madre (ATM)': Migrant Dreams and Nightmares in El Norte"
DESCRIPTION:A talk by Miroslava Chávez-García\, Professor\, Department of History\, UCSB \nRelying on dozens of personal letters exchanged among Mexican male migrants across the U.S.-Mexico borderlands in the 1960s\, this talk by Miroslava Chávez-García (UCSB Department of History) probes migrants’ longing for economic opportunity\, masculine affirmation\, and emotional fulfillment. As the migrants’ correspondence illustrates\, they relied on each other and the broader social networks to achieve lawful migration\, employment\, housing and transportation\, and familiar forms of entertainment and companionship\, easing their transition to the new environment and allowing them to bridge the best of both worlds. Offered as part of UCSB Reads 2017.
URL:https://history.ucsb.edu/events/a-toda-madre-atm-migrant-dreams-and-nightmares-in-el-norte/
LOCATION:UCSB Library Instruction & Training Room 1312 (First Floor\, Mountain Side)\, Davidson Library\, University of California\, Santa Barbara\, CA\, 93106
GEO:34.4136876;-119.845559
X-APPLE-STRUCTURED-LOCATION;VALUE=URI;X-ADDRESS=UCSB Library Instruction & Training Room 1312 (First Floor Mountain Side) Davidson Library University of California Santa Barbara CA 93106;X-APPLE-RADIUS=500;X-TITLE=Davidson Library\, University of California:geo:-119.845559,34.4136876
END:VEVENT
END:VCALENDAR