BEGIN:VCALENDAR
VERSION:2.0
PRODID:-//Department of History, UC Santa Barbara - ECPv6.15.12.1//NONSGML v1.0//EN
CALSCALE:GREGORIAN
METHOD:PUBLISH
X-ORIGINAL-URL:https://history.ucsb.edu
X-WR-CALDESC:Events for Department of History, UC Santa Barbara
REFRESH-INTERVAL;VALUE=DURATION:PT1H
X-Robots-Tag:noindex
X-PUBLISHED-TTL:PT1H
BEGIN:VTIMEZONE
TZID:America/Los_Angeles
BEGIN:DAYLIGHT
TZOFFSETFROM:-0800
TZOFFSETTO:-0700
TZNAME:PDT
DTSTART:20150308T100000
END:DAYLIGHT
BEGIN:STANDARD
TZOFFSETFROM:-0700
TZOFFSETTO:-0800
TZNAME:PST
DTSTART:20151101T090000
END:STANDARD
BEGIN:DAYLIGHT
TZOFFSETFROM:-0800
TZOFFSETTO:-0700
TZNAME:PDT
DTSTART:20160313T100000
END:DAYLIGHT
BEGIN:STANDARD
TZOFFSETFROM:-0700
TZOFFSETTO:-0800
TZNAME:PST
DTSTART:20161106T090000
END:STANDARD
BEGIN:DAYLIGHT
TZOFFSETFROM:-0800
TZOFFSETTO:-0700
TZNAME:PDT
DTSTART:20170312T100000
END:DAYLIGHT
BEGIN:STANDARD
TZOFFSETFROM:-0700
TZOFFSETTO:-0800
TZNAME:PST
DTSTART:20171105T090000
END:STANDARD
END:VTIMEZONE
BEGIN:VEVENT
DTSTART;TZID=America/Los_Angeles:20160518T190000
DTEND;TZID=America/Los_Angeles:20160518T210000
DTSTAMP:20260421T004742
CREATED:20160518T210355Z
LAST-MODIFIED:20240410T190339Z
UID:10002435-1463598000-1463605200@history.ucsb.edu
SUMMARY:Film Screening/Talk: "American Umpire"
DESCRIPTION:Elizabeth Cobbs and James Shelley grant us a sneak preview of their forthcoming PBS documentary film\, “American Umpire\,” based on Prof. Cobbs’s acclaimed history book of the same name. The film recounts America’s post-World War II role as the world’s policemen and explores whether the United States can\, and should\, continue to play that role in the future. After screening the film\, which runs for 56 minutes\, Professor Cobbs and Mr. Shelley\, the film’s director\, will discuss the making of the documentary and engage the audience members in dialogue. \nElizabeth Cobbs is Professor and Melbern G. Glasscock Chair in American History at Texas A & M University. Her first book\, The Rich Neighbor Policy: Kaiser and Rockefeller in Brazil (Yale\, 1992)\, won the Allan Nevins Prize from the Organization of American Historians and the Stuart Bernath Prize from the Society for Historians of American Foreign Relations. Professor Cobbs has also authored All You Need is Love: The Peace Corps and the Spirit of the 1960s (Harvard\, 2000)\, along with works of historical fiction. Her most recent historical monograph\, American Umpire (Harvard\, 2013)\, is the inspiration for the featured documentary film. \nJames Shelley is the owner of Shell Studios\, a San Diego-based production company that specializes in award-winning documentaries and commercial films. Having retired from a 35-year career as a global risk management executive\, Shelley is now pursuing a lifelong interest in filmmaking. He is a graduate of Johns Hopkins University and of the University of California\, San Diego’s video production program. He is currently pursuing his Master of Fine Arts degree in Television\, Media\, and Film at San Diego State University. \nDownload the Event Flyer
URL:https://history.ucsb.edu/events/film-screeningtalk-american-umpire/
LOCATION:HSSB 6020 (McCune Room)\, University of California Santa Barbara\, Santa Barbara\, CA\, 93106\, United States
CATEGORIES:Film Screening,Public Lecture
GEO:34.4142938;-119.8474306
X-APPLE-STRUCTURED-LOCATION;VALUE=URI;X-ADDRESS=HSSB 6020 (McCune Room) University of California Santa Barbara Santa Barbara CA 93106 United States;X-APPLE-RADIUS=500;X-TITLE=University of California Santa Barbara:geo:-119.8474306,34.4142938
END:VEVENT
END:VCALENDAR