BEGIN:VCALENDAR
VERSION:2.0
PRODID:-//Department of History, UC Santa Barbara - ECPv6.15.12.1//NONSGML v1.0//EN
CALSCALE:GREGORIAN
METHOD:PUBLISH
X-ORIGINAL-URL:https://history.ucsb.edu
X-WR-CALDESC:Events for Department of History, UC Santa Barbara
REFRESH-INTERVAL;VALUE=DURATION:PT1H
X-Robots-Tag:noindex
X-PUBLISHED-TTL:PT1H
BEGIN:VTIMEZONE
TZID:America/Los_Angeles
BEGIN:DAYLIGHT
TZOFFSETFROM:-0800
TZOFFSETTO:-0700
TZNAME:PDT
DTSTART:20150308T100000
END:DAYLIGHT
BEGIN:STANDARD
TZOFFSETFROM:-0700
TZOFFSETTO:-0800
TZNAME:PST
DTSTART:20151101T090000
END:STANDARD
BEGIN:DAYLIGHT
TZOFFSETFROM:-0800
TZOFFSETTO:-0700
TZNAME:PDT
DTSTART:20160313T100000
END:DAYLIGHT
BEGIN:STANDARD
TZOFFSETFROM:-0700
TZOFFSETTO:-0800
TZNAME:PST
DTSTART:20161106T090000
END:STANDARD
BEGIN:DAYLIGHT
TZOFFSETFROM:-0800
TZOFFSETTO:-0700
TZNAME:PDT
DTSTART:20170312T100000
END:DAYLIGHT
BEGIN:STANDARD
TZOFFSETFROM:-0700
TZOFFSETTO:-0800
TZNAME:PST
DTSTART:20171105T090000
END:STANDARD
END:VTIMEZONE
BEGIN:VEVENT
DTSTART;TZID=America/Los_Angeles:20160422T140000
DTEND;TZID=America/Los_Angeles:20160422T160000
DTSTAMP:20260421T193732
CREATED:20160418T220906Z
LAST-MODIFIED:20160418T221008Z
UID:10002091-1461333600-1461340800@history.ucsb.edu
SUMMARY:“The Visual Archive: Ho-Chunk Cultural Performance\, Modern Labor\, and Survivance in Wisconsin\, 1879-1960.”
DESCRIPTION:This presentation explores the intersections of photographic images\, family history\, tourism\, and Ho-Chunk survivance through an examination of two photographic collections housed at the Wisconsin Historical Society: the Charles Van Schaick Collection and the H.H. Bennett Collection. The Van Schaick collection includes nearly taken between 1879-1936\, and the H.H. Bennett Collection is comprised of hundreds of images of tribal members taken from 1865-1960. Also contained within the Bennett Collection are film reels of the Stand Rock Indian Ceremonial\, a major tourist attraction that employed tribal members in Wisconsin Dells\, WI from the 1920s through the 1960s. The stories that these images convey of the importance of kinship\, place\, modern labor\, cultural performance\, settler colonialism\, and survivance are the central themes of the Ho-Chunk experience in the 20th century\, and my presentation will address these intersecting themes and the ongoing meanings that these images have for contemporary tribal citizens. \nAmy Lonetree\, a member of The Public Historian editorial board\, is author of Decolonizing Museums: Representing Native America in National and Tribal Museums (University of North Carolina Press\, 2012)\, and co-editor with Amanda Cobb of The National Museum of the American Indian: Critical Conversations (University of Nebraska Press\, 2008). \nSponsored by the UCSB Public History Program\, the Department of Anthropology\, and the Department of History. \nLonetree Poster for the event flyer.
URL:https://history.ucsb.edu/events/visual-archive-ho-chunk-cultural-performance-modern-labor-survivance-wisconsin-1879-1960/
LOCATION:HSSB 4020\, University of California Santa Barbara\, Santa Barbara\, CA\, 93106\, United States
CATEGORIES:Public Lecture
GEO:34.4139629;-119.848947
X-APPLE-STRUCTURED-LOCATION;VALUE=URI;X-ADDRESS=HSSB 4020 University of California Santa Barbara Santa Barbara CA 93106 United States;X-APPLE-RADIUS=500;X-TITLE=University of California Santa Barbara:geo:-119.848947,34.4139629
END:VEVENT
END:VCALENDAR