BEGIN:VCALENDAR
VERSION:2.0
PRODID:-//Department of History, UC Santa Barbara - ECPv6.15.12.1//NONSGML v1.0//EN
CALSCALE:GREGORIAN
METHOD:PUBLISH
X-WR-CALNAME:Department of History, UC Santa Barbara
X-ORIGINAL-URL:https://history.ucsb.edu
X-WR-CALDESC:Events for Department of History, UC Santa Barbara
REFRESH-INTERVAL;VALUE=DURATION:PT1H
X-Robots-Tag:noindex
X-PUBLISHED-TTL:PT1H
BEGIN:VTIMEZONE
TZID:America/Los_Angeles
BEGIN:DAYLIGHT
TZOFFSETFROM:-0800
TZOFFSETTO:-0700
TZNAME:PDT
DTSTART:20150308T100000
END:DAYLIGHT
BEGIN:STANDARD
TZOFFSETFROM:-0700
TZOFFSETTO:-0800
TZNAME:PST
DTSTART:20151101T090000
END:STANDARD
BEGIN:DAYLIGHT
TZOFFSETFROM:-0800
TZOFFSETTO:-0700
TZNAME:PDT
DTSTART:20160313T100000
END:DAYLIGHT
BEGIN:STANDARD
TZOFFSETFROM:-0700
TZOFFSETTO:-0800
TZNAME:PST
DTSTART:20161106T090000
END:STANDARD
BEGIN:DAYLIGHT
TZOFFSETFROM:-0800
TZOFFSETTO:-0700
TZNAME:PDT
DTSTART:20170312T100000
END:DAYLIGHT
BEGIN:STANDARD
TZOFFSETFROM:-0700
TZOFFSETTO:-0800
TZNAME:PST
DTSTART:20171105T090000
END:STANDARD
END:VTIMEZONE
BEGIN:VEVENT
DTSTART;TZID=America/Los_Angeles:20160421T160000
DTEND;TZID=America/Los_Angeles:20160421T180000
DTSTAMP:20260422T093537
CREATED:20160415T210314Z
LAST-MODIFIED:20160415T210314Z
UID:10002089-1461254400-1461261600@history.ucsb.edu
SUMMARY:Farina Mir: "Reconsidering Modernity in an Indian Vernacular: Punjabi Literature and the Writing of Colonial History"
DESCRIPTION:FARINA MIR\nUniversity of Michigan\, Associate Professor of History \nKAPANY ENDOWMENT VISITING LECTURE SERIES \nAbout the Talk\nThis talk considers the literary history of one Indian vernacular tradition\, Punjabi\, to interrogate assumptions about the temporality of literary history embedded in today’s normative mode of writing the history of literature\, assumptions critically linked to notions of modernity. Identifying at least two types of temporality in existing literary history\, an even temporality\, on the one hand\, and one that emphasizes rupture\, on the other it argues for the adoption of a third mode: “lumpy time”\, a concept drawn from the work of sociologist William Sewell. The broader aim of the talk is to show how assessments of modernity in literary history mirror a broader tension in South Asian historiography between indigenous agency and colonialism. \nDownload event flyer
URL:https://history.ucsb.edu/events/reconsidering-modernity-in-an-indian-vernacular-punjabi-literature-and-the-writing-of-colonial-history/
LOCATION:SSMS 2135\, Social Sciences and Media Studies Building\, Santa Barbara\, CA\, 93106\, United States
CATEGORIES:Public Lecture
ATTACH;FMTTYPE=image/png:https://history.ucsb.edu/wp-content/uploads/flyer_Farina_Mir.png
GEO:34.4152249;-119.8493908
X-APPLE-STRUCTURED-LOCATION;VALUE=URI;X-ADDRESS=SSMS 2135 Social Sciences and Media Studies Building Santa Barbara CA 93106 United States;X-APPLE-RADIUS=500;X-TITLE=Social Sciences and Media Studies Building:geo:-119.8493908,34.4152249
END:VEVENT
END:VCALENDAR