BEGIN:VCALENDAR
VERSION:2.0
PRODID:-//Department of History, UC Santa Barbara - ECPv6.15.12.1//NONSGML v1.0//EN
CALSCALE:GREGORIAN
METHOD:PUBLISH
X-WR-CALNAME:Department of History, UC Santa Barbara
X-ORIGINAL-URL:https://history.ucsb.edu
X-WR-CALDESC:Events for Department of History, UC Santa Barbara
REFRESH-INTERVAL;VALUE=DURATION:PT1H
X-Robots-Tag:noindex
X-PUBLISHED-TTL:PT1H
BEGIN:VTIMEZONE
TZID:America/Los_Angeles
BEGIN:DAYLIGHT
TZOFFSETFROM:-0800
TZOFFSETTO:-0700
TZNAME:PDT
DTSTART:20150308T100000
END:DAYLIGHT
BEGIN:STANDARD
TZOFFSETFROM:-0700
TZOFFSETTO:-0800
TZNAME:PST
DTSTART:20151101T090000
END:STANDARD
BEGIN:DAYLIGHT
TZOFFSETFROM:-0800
TZOFFSETTO:-0700
TZNAME:PDT
DTSTART:20160313T100000
END:DAYLIGHT
BEGIN:STANDARD
TZOFFSETFROM:-0700
TZOFFSETTO:-0800
TZNAME:PST
DTSTART:20161106T090000
END:STANDARD
BEGIN:DAYLIGHT
TZOFFSETFROM:-0800
TZOFFSETTO:-0700
TZNAME:PDT
DTSTART:20170312T100000
END:DAYLIGHT
BEGIN:STANDARD
TZOFFSETFROM:-0700
TZOFFSETTO:-0800
TZNAME:PST
DTSTART:20171105T090000
END:STANDARD
END:VTIMEZONE
BEGIN:VEVENT
DTSTART;TZID=America/Los_Angeles:20160420T170000
DTEND;TZID=America/Los_Angeles:20160420T183000
DTSTAMP:20260425T052303
CREATED:20160408T224025Z
LAST-MODIFIED:20160408T224025Z
UID:10002432-1461171600-1461177000@history.ucsb.edu
SUMMARY:"Survivors into Minorities: Armenians in Post-Genocide Turkey" with Lerna Ekmekcioglu (MIT)
DESCRIPTION:Speaker:\nLerna Ekmekcioglu is McMillan-Stewart Associate Professor of History at Massachusetts Institute of Technology where she is also affiliated with Women and Gender Studies Program. She specializes on Turkish and Armenian lands in the beginning of the 20th century and the history of Armenian feminism. In 2006 she co-edited a volume in Turkish about the first five Armenian feminists of the Ottoman Empire and Turkish Republic. Her most recent book\, Recovering Armenia: The Limits of Belonging in Post-Genocide Turkey\, came out from Stanford University Press in early 2016. \nAbout the Talk\nThis talk follows the trajectories of the survivors of the 1915 Armenian Genocide who remained inside Turkish borders after the signing of the 1918 Mudros Armistice (and during the Allied occupation years of Istanbul) and after the 1923 establishment of the new country as the Turkish Republic. How did the Kemalist state treat the remaining Armenians? What were Armenians’ responses to the new (but also old) Turkish regime? I will discuss multiple strategies Armenians –including feminist Armenians– improvised in order to cohabit with unapologetic perpetrators and survive the new Turkey.
URL:https://history.ucsb.edu/events/survivors-minorities-armenians-post-genocide-turkey-lerna-ekmekcioglu-mit/
LOCATION:HSSB 4020\, University of California Santa Barbara\, Santa Barbara\, CA\, 93106\, United States
CATEGORIES:Public Lecture
ATTACH;FMTTYPE=image/jpeg:https://history.ucsb.edu/wp-content/uploads/LERNA_EKMEKCIOGLU.jpg
GEO:34.4139629;-119.848947
X-APPLE-STRUCTURED-LOCATION;VALUE=URI;X-ADDRESS=HSSB 4020 University of California Santa Barbara Santa Barbara CA 93106 United States;X-APPLE-RADIUS=500;X-TITLE=University of California Santa Barbara:geo:-119.848947,34.4139629
END:VEVENT
END:VCALENDAR