BEGIN:VCALENDAR
VERSION:2.0
PRODID:-//Department of History, UC Santa Barbara - ECPv6.15.12.1//NONSGML v1.0//EN
CALSCALE:GREGORIAN
METHOD:PUBLISH
X-WR-CALNAME:Department of History, UC Santa Barbara
X-ORIGINAL-URL:https://history.ucsb.edu
X-WR-CALDESC:Events for Department of History, UC Santa Barbara
REFRESH-INTERVAL;VALUE=DURATION:PT1H
X-Robots-Tag:noindex
X-PUBLISHED-TTL:PT1H
BEGIN:VTIMEZONE
TZID:America/Los_Angeles
BEGIN:DAYLIGHT
TZOFFSETFROM:-0800
TZOFFSETTO:-0700
TZNAME:PDT
DTSTART:20150308T100000
END:DAYLIGHT
BEGIN:STANDARD
TZOFFSETFROM:-0700
TZOFFSETTO:-0800
TZNAME:PST
DTSTART:20151101T090000
END:STANDARD
BEGIN:DAYLIGHT
TZOFFSETFROM:-0800
TZOFFSETTO:-0700
TZNAME:PDT
DTSTART:20160313T100000
END:DAYLIGHT
BEGIN:STANDARD
TZOFFSETFROM:-0700
TZOFFSETTO:-0800
TZNAME:PST
DTSTART:20161106T090000
END:STANDARD
BEGIN:DAYLIGHT
TZOFFSETFROM:-0800
TZOFFSETTO:-0700
TZNAME:PDT
DTSTART:20170312T100000
END:DAYLIGHT
BEGIN:STANDARD
TZOFFSETFROM:-0700
TZOFFSETTO:-0800
TZNAME:PST
DTSTART:20171105T090000
END:STANDARD
END:VTIMEZONE
BEGIN:VEVENT
DTSTART;TZID=America/Los_Angeles:20160419T170000
DTEND;TZID=America/Los_Angeles:20160419T183000
DTSTAMP:20260424T072928
CREATED:20160330T185235Z
LAST-MODIFIED:20160330T185325Z
UID:10002431-1461085200-1461090600@history.ucsb.edu
SUMMARY:The Just Prince and the Nation: Muslim Patriotism and the Politics of Notables in late Ottoman Egypt\, 1860s - Adam Mestyan (Harvard University)
DESCRIPTION:Speaker: Adam Mestyan (Harvard University) \nAbout the Talk:\nIn this presentation Mestyan will argue that in nineteenth-century Ottoman Egypt the symbolic unification between the Ottoman governor (khedive) and the homeland was based on vocabularies of kingship in the Koran and in Arab-Persian-Ottoman traditions. During this process of constructing patriotism by rural men of distinction\, the perceived ‘justice’ of the Muslim prince meant the local elite’s participation in state affairs and in rural capitalist enterprises. \nBased on archival documents\, petitions to the ruler by local village notables\, and Arabic political poetry and plays\, this presentation also introduces the notion of Muslim patriotism as an ideological tool of legitimating power in khedivial Egypt before and during the British occupation.” \n\nAbout the Presenter:\nAdam Mestyan is a historian of the modern Middle East\, specialized in cultural and social history. He has been undertaking research in various archives\, especially in the Egyptian National Archives. At the moment\, he is a Junior Fellow of the Society of Fellows at Harvard University. Previously\, he taught at the Faculty of Oriental Studies at Oxford University and was a Postdoctoral Fellow at the “Europe in the Middle East – the Middle East in Europe” program of the Wissenschaftskolleg zu Berlin (Institute of Advanced Studies). He holds a PhD in History from the Central European University and another PhD in Art Theory from the Eotvos Lorand University (both in Budapest). His articles were published in the International Journal of Middle East Studies\, the Journal of Semitic Philology\, Die Welt des Islams\, and Muqarnas. His first book\, Arab Patriotism – The Ideology and Culture of Power in Modern Egypt is forthcoming at Princeton University Press. \nSponsored by the Center for Middle East Studies
URL:https://history.ucsb.edu/events/just-prince-nation-muslim-patriotism-politics-notables-late-ottoman-egypt-1860s-adam-mestyan-harvard-university/
LOCATION:UCEN Santa Barbara Mission Room\, University Center\, Santa Barbara\, CA\, 93106\, United States
CATEGORIES:Public Lecture
ATTACH;FMTTYPE=image/png:https://history.ucsb.edu/wp-content/uploads/Adam-Mestyan.png
GEO:34.4116475;-119.8477989
X-APPLE-STRUCTURED-LOCATION;VALUE=URI;X-ADDRESS=UCEN Santa Barbara Mission Room University Center Santa Barbara CA 93106 United States;X-APPLE-RADIUS=500;X-TITLE=University Center:geo:-119.8477989,34.4116475
END:VEVENT
END:VCALENDAR