BEGIN:VCALENDAR
VERSION:2.0
PRODID:-//Department of History, UC Santa Barbara - ECPv6.15.12.1//NONSGML v1.0//EN
CALSCALE:GREGORIAN
METHOD:PUBLISH
X-ORIGINAL-URL:https://history.ucsb.edu
X-WR-CALDESC:Events for Department of History, UC Santa Barbara
REFRESH-INTERVAL;VALUE=DURATION:PT1H
X-Robots-Tag:noindex
X-PUBLISHED-TTL:PT1H
BEGIN:VTIMEZONE
TZID:America/Los_Angeles
BEGIN:DAYLIGHT
TZOFFSETFROM:-0800
TZOFFSETTO:-0700
TZNAME:PDT
DTSTART:20150308T100000
END:DAYLIGHT
BEGIN:STANDARD
TZOFFSETFROM:-0700
TZOFFSETTO:-0800
TZNAME:PST
DTSTART:20151101T090000
END:STANDARD
BEGIN:DAYLIGHT
TZOFFSETFROM:-0800
TZOFFSETTO:-0700
TZNAME:PDT
DTSTART:20160313T100000
END:DAYLIGHT
BEGIN:STANDARD
TZOFFSETFROM:-0700
TZOFFSETTO:-0800
TZNAME:PST
DTSTART:20161106T090000
END:STANDARD
BEGIN:DAYLIGHT
TZOFFSETFROM:-0800
TZOFFSETTO:-0700
TZNAME:PDT
DTSTART:20170312T100000
END:DAYLIGHT
BEGIN:STANDARD
TZOFFSETFROM:-0700
TZOFFSETTO:-0800
TZNAME:PST
DTSTART:20171105T090000
END:STANDARD
END:VTIMEZONE
BEGIN:VEVENT
DTSTART;TZID=America/Los_Angeles:20160304T130000
DTEND;TZID=America/Los_Angeles:20160304T150000
DTSTAMP:20260421T083618
CREATED:20160130T211906Z
LAST-MODIFIED:20160302T183818Z
UID:10002418-1457096400-1457103600@history.ucsb.edu
SUMMARY:Samir Sonti\, "The Price of Prosperity: Inflation and the Making of American Inequality"
DESCRIPTION:Samir Sonti is completing a dissertation on the politics of inflation in the United States from the 1930s to the 1980s.
URL:https://history.ucsb.edu/events/samir-sonti-the-price-of-prosperity-inflation-and-the-making-of-american-inequality/
LOCATION:HSSB 4041\, University of California Santa Barbara\, Santa Barbara\, CA\, 93106\, United States
CATEGORIES:Public Lecture
ATTACH;FMTTYPE=image/jpeg:https://history.ucsb.edu/wp-content/uploads/samir-sonti.jpg
GEO:34.4139629;-119.848947
X-APPLE-STRUCTURED-LOCATION;VALUE=URI;X-ADDRESS=HSSB 4041 University of California Santa Barbara Santa Barbara CA 93106 United States;X-APPLE-RADIUS=500;X-TITLE=University of California Santa Barbara:geo:-119.848947,34.4139629
END:VEVENT
END:VCALENDAR