BEGIN:VCALENDAR
VERSION:2.0
PRODID:-//Department of History, UC Santa Barbara - ECPv6.15.12.1//NONSGML v1.0//EN
CALSCALE:GREGORIAN
METHOD:PUBLISH
X-WR-CALNAME:Department of History, UC Santa Barbara
X-ORIGINAL-URL:https://history.ucsb.edu
X-WR-CALDESC:Events for Department of History, UC Santa Barbara
REFRESH-INTERVAL;VALUE=DURATION:PT1H
X-Robots-Tag:noindex
X-PUBLISHED-TTL:PT1H
BEGIN:VTIMEZONE
TZID:America/Denver
BEGIN:DAYLIGHT
TZOFFSETFROM:-0700
TZOFFSETTO:-0600
TZNAME:MDT
DTSTART:20140309T090000
END:DAYLIGHT
BEGIN:STANDARD
TZOFFSETFROM:-0600
TZOFFSETTO:-0700
TZNAME:MST
DTSTART:20141102T080000
END:STANDARD
BEGIN:DAYLIGHT
TZOFFSETFROM:-0700
TZOFFSETTO:-0600
TZNAME:MDT
DTSTART:20150308T090000
END:DAYLIGHT
BEGIN:STANDARD
TZOFFSETFROM:-0600
TZOFFSETTO:-0700
TZNAME:MST
DTSTART:20151101T080000
END:STANDARD
BEGIN:DAYLIGHT
TZOFFSETFROM:-0700
TZOFFSETTO:-0600
TZNAME:MDT
DTSTART:20160313T090000
END:DAYLIGHT
BEGIN:STANDARD
TZOFFSETFROM:-0600
TZOFFSETTO:-0700
TZNAME:MST
DTSTART:20161106T080000
END:STANDARD
END:VTIMEZONE
BEGIN:VEVENT
DTSTART;TZID=America/Denver:20151204T130000
DTEND;TZID=America/Denver:20151204T150000
DTSTAMP:20260419T231735
CREATED:20151016T221111Z
LAST-MODIFIED:20151016T221327Z
UID:10002398-1449234000-1449241200@history.ucsb.edu
SUMMARY:Ken Lipartito\, Reassembling the Economic: New Departures in Historical Materialism
DESCRIPTION:Ken Lipartito is the co-author of Corporate Responsibility: The American Experience (2012) and of Baker & Botts in the Development of Modern Houston (2011 paperback). \n  \nThis event is one of many included in the Center for the Study of Work\, Labor\, and Democracy‘s “Power and Policy across National Borders” series.
URL:https://history.ucsb.edu/events/ken-lipartito-reassembling-the-economic-new-departures-in-historical-materialism/
LOCATION:CA
ATTACH;FMTTYPE=image/png:https://history.ucsb.edu/wp-content/uploads/Ken-Lipartito.png
END:VEVENT
END:VCALENDAR