BEGIN:VCALENDAR
VERSION:2.0
PRODID:-//Department of History, UC Santa Barbara - ECPv6.15.12.1//NONSGML v1.0//EN
CALSCALE:GREGORIAN
METHOD:PUBLISH
X-WR-CALNAME:Department of History, UC Santa Barbara
X-ORIGINAL-URL:https://history.ucsb.edu
X-WR-CALDESC:Events for Department of History, UC Santa Barbara
REFRESH-INTERVAL;VALUE=DURATION:PT1H
X-Robots-Tag:noindex
X-PUBLISHED-TTL:PT1H
BEGIN:VTIMEZONE
TZID:America/Denver
BEGIN:DAYLIGHT
TZOFFSETFROM:-0700
TZOFFSETTO:-0600
TZNAME:MDT
DTSTART:20140309T090000
END:DAYLIGHT
BEGIN:STANDARD
TZOFFSETFROM:-0600
TZOFFSETTO:-0700
TZNAME:MST
DTSTART:20141102T080000
END:STANDARD
BEGIN:DAYLIGHT
TZOFFSETFROM:-0700
TZOFFSETTO:-0600
TZNAME:MDT
DTSTART:20150308T090000
END:DAYLIGHT
BEGIN:STANDARD
TZOFFSETFROM:-0600
TZOFFSETTO:-0700
TZNAME:MST
DTSTART:20151101T080000
END:STANDARD
BEGIN:DAYLIGHT
TZOFFSETFROM:-0700
TZOFFSETTO:-0600
TZNAME:MDT
DTSTART:20160313T090000
END:DAYLIGHT
BEGIN:STANDARD
TZOFFSETFROM:-0600
TZOFFSETTO:-0700
TZNAME:MST
DTSTART:20161106T080000
END:STANDARD
END:VTIMEZONE
BEGIN:VEVENT
DTSTART;VALUE=DATE:20151030
DTEND;VALUE=DATE:20151101
DTSTAMP:20260419T144450
CREATED:20151026T191914Z
LAST-MODIFIED:20151026T192207Z
UID:10002067-1446163200-1446335999@history.ucsb.edu
SUMMARY:Political Theologies of Medieval and Early Modern Islam: A Workshop
DESCRIPTION:The workshop is open to interested faculty and graduate students. If you would like to join us at lunch\, please contact Adam Morrison at cmes@cmes.ucsb.edu so that we can get an accurate head count. \n  \nOctober 30\, 2015:\n9:45 AM Greetings and Introduction\n10:00 – 10:50 Bilal Orfali (American University of Beirut)\, “Mystical Poetics: Courtly Themes in Early Sufi Akhbār” (via Skype)\n11:00- 11:50 Adam Sabra (University of California\, Santa Barbara)\, “The Cosmic State: Ibn al-‘Arabi’s Political Theology”\n12:00 – 12:50 Richard J. McGregor (Vanderbilt University)\, “Sufi Apocalypse and the Limits of Language”\n1:00 – 2:00 Lunch\n2:00 – 2:50 Manuela Ceballos (University of Tennessee\, Knoxville)\, “Speaking for Others: Sufism and the Politics of Representation in Early Modern Morocco”\n3:00 – 3:50 Cornell Fleischer (University of Chicago)\, “The Mystic and Lettrist ‘Abd al-rahman al-Bistami (d. 1454) and the Origins of Ottoman Historical Consciousness”\n4:00 – 4:50 İlker Evrim Binbaş (Royal Holloway\, University of London)\, “The Problem of Sovereignty in the Fifteenth Century Islamic World: The View from Ethics”\n7:00 Dinner for presenters and invited guests \n  \nOctober 31\, 2015:\n10:00 – 10:50 Matthew Melvin-Koushki (University of South Carolina)\, “Starlord\, Letterlord: Astrology and Lettrism in the Construction of Post-Mongol Persianate Imperial Ideologies”\n11:00 – 11:50 A. Azfar Moin (University of Texas\, Austin)\, “Saint Shrines as Objects of Imperial Veneration and Desecration in the Post-Mongol Empires”\n12:00 – 1:00 Lunch\n1:00 – 1:50 Daniel Sheffield (University of Washington)\, “Political Theurgy: Stars and Sovereignty in the Safavid-Mughal World”\n2:00 – 2:50 Kathryn Babayan (University of Michigan)\, “Sovereignty and Amity: Masculinity at the Safavi Court in Isfahan”\n3:00 – 4:00 Concluding discussion \n  \nSponsors:\nKing Abdul Aziz Ibn Saud Chair in Islamic Studies\nCenter for Middle Eastern Studies\nCollege of Letters and Sciences\nProgram in Medieval Studies\nUCSB Department of History
URL:https://history.ucsb.edu/events/political-theologies-of-medieval-and-early-modern-islam-a-workshop/
LOCATION:McCune Conference Room (HSSB 6020)\, Humanities and Social Sciences Bldg\, Santa Barbara\, CA\, 93106\, United States
GEO:34.4139682;-119.8503034
X-APPLE-STRUCTURED-LOCATION;VALUE=URI;X-ADDRESS=McCune Conference Room (HSSB 6020) Humanities and Social Sciences Bldg Santa Barbara CA 93106 United States;X-APPLE-RADIUS=500;X-TITLE=Humanities and Social Sciences Bldg:geo:-119.8503034,34.4139682
END:VEVENT
BEGIN:VEVENT
DTSTART;TZID=America/Denver:20151030T130000
DTEND;TZID=America/Denver:20151030T150000
DTSTAMP:20260419T144450
CREATED:20151016T215554Z
LAST-MODIFIED:20151016T221553Z
UID:10002395-1446210000-1446217200@history.ucsb.edu
SUMMARY:Barry Eidlin\, Class vs. Special Interest: Labor\, Power\, and Politics in the United States and Canada in the Twentieth Century
DESCRIPTION:Professor Barry Eidlin\, a sociologist\, is the author of Labor and the Class Idea in the United States and Canada (forthcoming from Cambridge University Press). A copy of the paper he will be presenting can be found here. \n  \n\nThis event is one of many included in the Center for the Study of Work\, Labor\, and Democracy‘s “Power and Policy across National Borders” series.
URL:https://history.ucsb.edu/events/barry-eidlin-class-vs-special-interest-labor-power-and-politics-in-the-united-states-and-canada-in-the-twentieth-century/
LOCATION:CA
ATTACH;FMTTYPE=image/jpeg:https://history.ucsb.edu/wp-content/uploads/Barry-Eidlin.jpg
END:VEVENT
END:VCALENDAR